BEGIN:VCALENDAR
VERSION:2.0
PRODID:-//Gethsemane Lutheran Church - ECPv6.15.20//NONSGML v1.0//EN
CALSCALE:GREGORIAN
METHOD:PUBLISH
X-WR-CALNAME:Gethsemane Lutheran Church
X-ORIGINAL-URL:https://www.gethsemane.org
X-WR-CALDESC:Events for Gethsemane Lutheran Church
REFRESH-INTERVAL;VALUE=DURATION:PT1H
X-Robots-Tag:noindex
X-PUBLISHED-TTL:PT1H
BEGIN:VTIMEZONE
TZID:America/New_York
BEGIN:DAYLIGHT
TZOFFSETFROM:-0500
TZOFFSETTO:-0400
TZNAME:EDT
DTSTART:20260308T070000
END:DAYLIGHT
BEGIN:STANDARD
TZOFFSETFROM:-0400
TZOFFSETTO:-0500
TZNAME:EST
DTSTART:20261101T060000
END:STANDARD
BEGIN:DAYLIGHT
TZOFFSETFROM:-0500
TZOFFSETTO:-0400
TZNAME:EDT
DTSTART:20270314T070000
END:DAYLIGHT
BEGIN:STANDARD
TZOFFSETFROM:-0400
TZOFFSETTO:-0500
TZNAME:EST
DTSTART:20271107T060000
END:STANDARD
BEGIN:DAYLIGHT
TZOFFSETFROM:-0500
TZOFFSETTO:-0400
TZNAME:EDT
DTSTART:20280312T070000
END:DAYLIGHT
BEGIN:STANDARD
TZOFFSETFROM:-0400
TZOFFSETTO:-0500
TZNAME:EST
DTSTART:20281105T060000
END:STANDARD
END:VTIMEZONE
BEGIN:VEVENT
DTSTART;TZID=America/New_York:20270419T080000
DTEND;TZID=America/New_York:20270419T090000
DTSTAMP:20260421T091036
CREATED:20250428T042234Z
LAST-MODIFIED:20250815T020331Z
UID:10001531-1808121600-1808125200@www.gethsemane.org
SUMMARY:Reflections
DESCRIPTION:
URL:https://www.gethsemane.org/event/reflections-3-2/2027-04-19/
LOCATION:GLC – Library\, 35 E. Stanton Ave.\, Columbus\, OH\, 43214\, United States
CATEGORIES:Featured
ATTACH;FMTTYPE=image/webp:https://www.gethsemane.org/wp-content/uploads/2025/07/Reflections-Bible-Study.webp
END:VEVENT
BEGIN:VEVENT
DTSTART;TZID=America/New_York:20270426T080000
DTEND;TZID=America/New_York:20270426T090000
DTSTAMP:20260421T091036
CREATED:20250428T042234Z
LAST-MODIFIED:20250815T020331Z
UID:10001532-1808726400-1808730000@www.gethsemane.org
SUMMARY:Reflections
DESCRIPTION:
URL:https://www.gethsemane.org/event/reflections-3-2/2027-04-26/
LOCATION:GLC – Library\, 35 E. Stanton Ave.\, Columbus\, OH\, 43214\, United States
CATEGORIES:Featured
ATTACH;FMTTYPE=image/webp:https://www.gethsemane.org/wp-content/uploads/2025/07/Reflections-Bible-Study.webp
END:VEVENT
BEGIN:VEVENT
DTSTART;TZID=America/New_York:20270503T080000
DTEND;TZID=America/New_York:20270503T090000
DTSTAMP:20260421T091036
CREATED:20250428T042234Z
LAST-MODIFIED:20250815T020331Z
UID:10001533-1809331200-1809334800@www.gethsemane.org
SUMMARY:Reflections
DESCRIPTION:
URL:https://www.gethsemane.org/event/reflections-3-2/2027-05-03/
LOCATION:GLC – Library\, 35 E. Stanton Ave.\, Columbus\, OH\, 43214\, United States
CATEGORIES:Featured
ATTACH;FMTTYPE=image/webp:https://www.gethsemane.org/wp-content/uploads/2025/07/Reflections-Bible-Study.webp
END:VEVENT
BEGIN:VEVENT
DTSTART;TZID=America/New_York:20270510T080000
DTEND;TZID=America/New_York:20270510T090000
DTSTAMP:20260421T091036
CREATED:20250428T042234Z
LAST-MODIFIED:20250815T020331Z
UID:10001534-1809936000-1809939600@www.gethsemane.org
SUMMARY:Reflections
DESCRIPTION:
URL:https://www.gethsemane.org/event/reflections-3-2/2027-05-10/
LOCATION:GLC – Library\, 35 E. Stanton Ave.\, Columbus\, OH\, 43214\, United States
CATEGORIES:Featured
ATTACH;FMTTYPE=image/webp:https://www.gethsemane.org/wp-content/uploads/2025/07/Reflections-Bible-Study.webp
END:VEVENT
BEGIN:VEVENT
DTSTART;TZID=America/New_York:20270517T080000
DTEND;TZID=America/New_York:20270517T090000
DTSTAMP:20260421T091036
CREATED:20250428T042234Z
LAST-MODIFIED:20250815T020331Z
UID:10001535-1810540800-1810544400@www.gethsemane.org
SUMMARY:Reflections
DESCRIPTION:
URL:https://www.gethsemane.org/event/reflections-3-2/2027-05-17/
LOCATION:GLC – Library\, 35 E. Stanton Ave.\, Columbus\, OH\, 43214\, United States
CATEGORIES:Featured
ATTACH;FMTTYPE=image/webp:https://www.gethsemane.org/wp-content/uploads/2025/07/Reflections-Bible-Study.webp
END:VEVENT
BEGIN:VEVENT
DTSTART;TZID=America/New_York:20270524T080000
DTEND;TZID=America/New_York:20270524T090000
DTSTAMP:20260421T091036
CREATED:20250428T042234Z
LAST-MODIFIED:20250815T020331Z
UID:10001536-1811145600-1811149200@www.gethsemane.org
SUMMARY:Reflections
DESCRIPTION:
URL:https://www.gethsemane.org/event/reflections-3-2/2027-05-24/
LOCATION:GLC – Library\, 35 E. Stanton Ave.\, Columbus\, OH\, 43214\, United States
CATEGORIES:Featured
ATTACH;FMTTYPE=image/webp:https://www.gethsemane.org/wp-content/uploads/2025/07/Reflections-Bible-Study.webp
END:VEVENT
BEGIN:VEVENT
DTSTART;TZID=America/New_York:20270531T080000
DTEND;TZID=America/New_York:20270531T090000
DTSTAMP:20260421T091036
CREATED:20250428T042234Z
LAST-MODIFIED:20250815T020331Z
UID:10001537-1811750400-1811754000@www.gethsemane.org
SUMMARY:Reflections
DESCRIPTION:
URL:https://www.gethsemane.org/event/reflections-3-2/2027-05-31/
LOCATION:GLC – Library\, 35 E. Stanton Ave.\, Columbus\, OH\, 43214\, United States
CATEGORIES:Featured
ATTACH;FMTTYPE=image/webp:https://www.gethsemane.org/wp-content/uploads/2025/07/Reflections-Bible-Study.webp
END:VEVENT
BEGIN:VEVENT
DTSTART;TZID=America/New_York:20270607T080000
DTEND;TZID=America/New_York:20270607T090000
DTSTAMP:20260421T091036
CREATED:20250428T042234Z
LAST-MODIFIED:20250815T020331Z
UID:10001538-1812355200-1812358800@www.gethsemane.org
SUMMARY:Reflections
DESCRIPTION:
URL:https://www.gethsemane.org/event/reflections-3-2/2027-06-07/
LOCATION:GLC – Library\, 35 E. Stanton Ave.\, Columbus\, OH\, 43214\, United States
CATEGORIES:Featured
ATTACH;FMTTYPE=image/webp:https://www.gethsemane.org/wp-content/uploads/2025/07/Reflections-Bible-Study.webp
END:VEVENT
BEGIN:VEVENT
DTSTART;TZID=America/New_York:20270614T080000
DTEND;TZID=America/New_York:20270614T090000
DTSTAMP:20260421T091036
CREATED:20250428T042234Z
LAST-MODIFIED:20250815T020331Z
UID:10001539-1812960000-1812963600@www.gethsemane.org
SUMMARY:Reflections
DESCRIPTION:
URL:https://www.gethsemane.org/event/reflections-3-2/2027-06-14/
LOCATION:GLC – Library\, 35 E. Stanton Ave.\, Columbus\, OH\, 43214\, United States
CATEGORIES:Featured
ATTACH;FMTTYPE=image/webp:https://www.gethsemane.org/wp-content/uploads/2025/07/Reflections-Bible-Study.webp
END:VEVENT
BEGIN:VEVENT
DTSTART;TZID=America/New_York:20270621T080000
DTEND;TZID=America/New_York:20270621T090000
DTSTAMP:20260421T091036
CREATED:20250428T042234Z
LAST-MODIFIED:20250815T020331Z
UID:10001540-1813564800-1813568400@www.gethsemane.org
SUMMARY:Reflections
DESCRIPTION:
URL:https://www.gethsemane.org/event/reflections-3-2/2027-06-21/
LOCATION:GLC – Library\, 35 E. Stanton Ave.\, Columbus\, OH\, 43214\, United States
CATEGORIES:Featured
ATTACH;FMTTYPE=image/webp:https://www.gethsemane.org/wp-content/uploads/2025/07/Reflections-Bible-Study.webp
END:VEVENT
BEGIN:VEVENT
DTSTART;TZID=America/New_York:20270628T080000
DTEND;TZID=America/New_York:20270628T090000
DTSTAMP:20260421T091036
CREATED:20250428T042234Z
LAST-MODIFIED:20250815T020331Z
UID:10001541-1814169600-1814173200@www.gethsemane.org
SUMMARY:Reflections
DESCRIPTION:
URL:https://www.gethsemane.org/event/reflections-3-2/2027-06-28/
LOCATION:GLC – Library\, 35 E. Stanton Ave.\, Columbus\, OH\, 43214\, United States
CATEGORIES:Featured
ATTACH;FMTTYPE=image/webp:https://www.gethsemane.org/wp-content/uploads/2025/07/Reflections-Bible-Study.webp
END:VEVENT
BEGIN:VEVENT
DTSTART;TZID=America/New_York:20270705T080000
DTEND;TZID=America/New_York:20270705T090000
DTSTAMP:20260421T091036
CREATED:20250428T042234Z
LAST-MODIFIED:20250815T020331Z
UID:10001542-1814774400-1814778000@www.gethsemane.org
SUMMARY:Reflections
DESCRIPTION:
URL:https://www.gethsemane.org/event/reflections-3-2/2027-07-05/
LOCATION:GLC – Library\, 35 E. Stanton Ave.\, Columbus\, OH\, 43214\, United States
CATEGORIES:Featured
ATTACH;FMTTYPE=image/webp:https://www.gethsemane.org/wp-content/uploads/2025/07/Reflections-Bible-Study.webp
END:VEVENT
BEGIN:VEVENT
DTSTART;TZID=America/New_York:20270712T080000
DTEND;TZID=America/New_York:20270712T090000
DTSTAMP:20260421T091036
CREATED:20250428T042234Z
LAST-MODIFIED:20250815T020331Z
UID:10001543-1815379200-1815382800@www.gethsemane.org
SUMMARY:Reflections
DESCRIPTION:
URL:https://www.gethsemane.org/event/reflections-3-2/2027-07-12/
LOCATION:GLC – Library\, 35 E. Stanton Ave.\, Columbus\, OH\, 43214\, United States
CATEGORIES:Featured
ATTACH;FMTTYPE=image/webp:https://www.gethsemane.org/wp-content/uploads/2025/07/Reflections-Bible-Study.webp
END:VEVENT
BEGIN:VEVENT
DTSTART;TZID=America/New_York:20270719T080000
DTEND;TZID=America/New_York:20270719T090000
DTSTAMP:20260421T091036
CREATED:20250428T042234Z
LAST-MODIFIED:20250815T020331Z
UID:10001544-1815984000-1815987600@www.gethsemane.org
SUMMARY:Reflections
DESCRIPTION:
URL:https://www.gethsemane.org/event/reflections-3-2/2027-07-19/
LOCATION:GLC – Library\, 35 E. Stanton Ave.\, Columbus\, OH\, 43214\, United States
CATEGORIES:Featured
ATTACH;FMTTYPE=image/webp:https://www.gethsemane.org/wp-content/uploads/2025/07/Reflections-Bible-Study.webp
END:VEVENT
BEGIN:VEVENT
DTSTART;TZID=America/New_York:20270726T080000
DTEND;TZID=America/New_York:20270726T090000
DTSTAMP:20260421T091036
CREATED:20250428T042234Z
LAST-MODIFIED:20250815T020331Z
UID:10001545-1816588800-1816592400@www.gethsemane.org
SUMMARY:Reflections
DESCRIPTION:
URL:https://www.gethsemane.org/event/reflections-3-2/2027-07-26/
LOCATION:GLC – Library\, 35 E. Stanton Ave.\, Columbus\, OH\, 43214\, United States
CATEGORIES:Featured
ATTACH;FMTTYPE=image/webp:https://www.gethsemane.org/wp-content/uploads/2025/07/Reflections-Bible-Study.webp
END:VEVENT
BEGIN:VEVENT
DTSTART;TZID=America/New_York:20270802T080000
DTEND;TZID=America/New_York:20270802T090000
DTSTAMP:20260421T091037
CREATED:20250428T042234Z
LAST-MODIFIED:20250815T020331Z
UID:10001546-1817193600-1817197200@www.gethsemane.org
SUMMARY:Reflections
DESCRIPTION:
URL:https://www.gethsemane.org/event/reflections-3-2/2027-08-02/
LOCATION:GLC – Library\, 35 E. Stanton Ave.\, Columbus\, OH\, 43214\, United States
CATEGORIES:Featured
ATTACH;FMTTYPE=image/webp:https://www.gethsemane.org/wp-content/uploads/2025/07/Reflections-Bible-Study.webp
END:VEVENT
BEGIN:VEVENT
DTSTART;TZID=America/New_York:20270809T080000
DTEND;TZID=America/New_York:20270809T090000
DTSTAMP:20260421T091037
CREATED:20250428T042234Z
LAST-MODIFIED:20250815T020331Z
UID:10001547-1817798400-1817802000@www.gethsemane.org
SUMMARY:Reflections
DESCRIPTION:
URL:https://www.gethsemane.org/event/reflections-3-2/2027-08-09/
LOCATION:GLC – Library\, 35 E. Stanton Ave.\, Columbus\, OH\, 43214\, United States
CATEGORIES:Featured
ATTACH;FMTTYPE=image/webp:https://www.gethsemane.org/wp-content/uploads/2025/07/Reflections-Bible-Study.webp
END:VEVENT
BEGIN:VEVENT
DTSTART;TZID=America/New_York:20270816T080000
DTEND;TZID=America/New_York:20270816T090000
DTSTAMP:20260421T091037
CREATED:20250428T042234Z
LAST-MODIFIED:20250815T020331Z
UID:10001548-1818403200-1818406800@www.gethsemane.org
SUMMARY:Reflections
DESCRIPTION:
URL:https://www.gethsemane.org/event/reflections-3-2/2027-08-16/
LOCATION:GLC – Library\, 35 E. Stanton Ave.\, Columbus\, OH\, 43214\, United States
CATEGORIES:Featured
ATTACH;FMTTYPE=image/webp:https://www.gethsemane.org/wp-content/uploads/2025/07/Reflections-Bible-Study.webp
END:VEVENT
BEGIN:VEVENT
DTSTART;TZID=America/New_York:20270823T080000
DTEND;TZID=America/New_York:20270823T090000
DTSTAMP:20260421T091037
CREATED:20250428T042234Z
LAST-MODIFIED:20250815T020331Z
UID:10001549-1819008000-1819011600@www.gethsemane.org
SUMMARY:Reflections
DESCRIPTION:
URL:https://www.gethsemane.org/event/reflections-3-2/2027-08-23/
LOCATION:GLC – Library\, 35 E. Stanton Ave.\, Columbus\, OH\, 43214\, United States
CATEGORIES:Featured
ATTACH;FMTTYPE=image/webp:https://www.gethsemane.org/wp-content/uploads/2025/07/Reflections-Bible-Study.webp
END:VEVENT
BEGIN:VEVENT
DTSTART;TZID=America/New_York:20270830T080000
DTEND;TZID=America/New_York:20270830T090000
DTSTAMP:20260421T091037
CREATED:20250428T042234Z
LAST-MODIFIED:20250815T020331Z
UID:10001550-1819612800-1819616400@www.gethsemane.org
SUMMARY:Reflections
DESCRIPTION:
URL:https://www.gethsemane.org/event/reflections-3-2/2027-08-30/
LOCATION:GLC – Library\, 35 E. Stanton Ave.\, Columbus\, OH\, 43214\, United States
CATEGORIES:Featured
ATTACH;FMTTYPE=image/webp:https://www.gethsemane.org/wp-content/uploads/2025/07/Reflections-Bible-Study.webp
END:VEVENT
BEGIN:VEVENT
DTSTART;TZID=America/New_York:20270906T080000
DTEND;TZID=America/New_York:20270906T090000
DTSTAMP:20260421T091037
CREATED:20250428T042234Z
LAST-MODIFIED:20250815T020331Z
UID:10001551-1820217600-1820221200@www.gethsemane.org
SUMMARY:Reflections
DESCRIPTION:
URL:https://www.gethsemane.org/event/reflections-3-2/2027-09-06/
LOCATION:GLC – Library\, 35 E. Stanton Ave.\, Columbus\, OH\, 43214\, United States
CATEGORIES:Featured
ATTACH;FMTTYPE=image/webp:https://www.gethsemane.org/wp-content/uploads/2025/07/Reflections-Bible-Study.webp
END:VEVENT
BEGIN:VEVENT
DTSTART;TZID=America/New_York:20270913T080000
DTEND;TZID=America/New_York:20270913T090000
DTSTAMP:20260421T091037
CREATED:20250428T042234Z
LAST-MODIFIED:20250815T020331Z
UID:10001552-1820822400-1820826000@www.gethsemane.org
SUMMARY:Reflections
DESCRIPTION:
URL:https://www.gethsemane.org/event/reflections-3-2/2027-09-13/
LOCATION:GLC – Library\, 35 E. Stanton Ave.\, Columbus\, OH\, 43214\, United States
CATEGORIES:Featured
ATTACH;FMTTYPE=image/webp:https://www.gethsemane.org/wp-content/uploads/2025/07/Reflections-Bible-Study.webp
END:VEVENT
BEGIN:VEVENT
DTSTART;TZID=America/New_York:20270920T080000
DTEND;TZID=America/New_York:20270920T090000
DTSTAMP:20260421T091037
CREATED:20250428T042234Z
LAST-MODIFIED:20250815T020331Z
UID:10001553-1821427200-1821430800@www.gethsemane.org
SUMMARY:Reflections
DESCRIPTION:
URL:https://www.gethsemane.org/event/reflections-3-2/2027-09-20/
LOCATION:GLC – Library\, 35 E. Stanton Ave.\, Columbus\, OH\, 43214\, United States
CATEGORIES:Featured
ATTACH;FMTTYPE=image/webp:https://www.gethsemane.org/wp-content/uploads/2025/07/Reflections-Bible-Study.webp
END:VEVENT
BEGIN:VEVENT
DTSTART;TZID=America/New_York:20270927T080000
DTEND;TZID=America/New_York:20270927T090000
DTSTAMP:20260421T091037
CREATED:20250428T042234Z
LAST-MODIFIED:20250815T020331Z
UID:10001554-1822032000-1822035600@www.gethsemane.org
SUMMARY:Reflections
DESCRIPTION:
URL:https://www.gethsemane.org/event/reflections-3-2/2027-09-27/
LOCATION:GLC – Library\, 35 E. Stanton Ave.\, Columbus\, OH\, 43214\, United States
CATEGORIES:Featured
ATTACH;FMTTYPE=image/webp:https://www.gethsemane.org/wp-content/uploads/2025/07/Reflections-Bible-Study.webp
END:VEVENT
BEGIN:VEVENT
DTSTART;TZID=America/New_York:20271004T080000
DTEND;TZID=America/New_York:20271004T090000
DTSTAMP:20260421T091037
CREATED:20250428T042234Z
LAST-MODIFIED:20250815T020331Z
UID:10001555-1822636800-1822640400@www.gethsemane.org
SUMMARY:Reflections
DESCRIPTION:
URL:https://www.gethsemane.org/event/reflections-3-2/2027-10-04/
LOCATION:GLC – Library\, 35 E. Stanton Ave.\, Columbus\, OH\, 43214\, United States
CATEGORIES:Featured
ATTACH;FMTTYPE=image/webp:https://www.gethsemane.org/wp-content/uploads/2025/07/Reflections-Bible-Study.webp
END:VEVENT
BEGIN:VEVENT
DTSTART;TZID=America/New_York:20271011T080000
DTEND;TZID=America/New_York:20271011T090000
DTSTAMP:20260421T091037
CREATED:20250428T042234Z
LAST-MODIFIED:20250815T020331Z
UID:10001556-1823241600-1823245200@www.gethsemane.org
SUMMARY:Reflections
DESCRIPTION:
URL:https://www.gethsemane.org/event/reflections-3-2/2027-10-11/
LOCATION:GLC – Library\, 35 E. Stanton Ave.\, Columbus\, OH\, 43214\, United States
CATEGORIES:Featured
ATTACH;FMTTYPE=image/webp:https://www.gethsemane.org/wp-content/uploads/2025/07/Reflections-Bible-Study.webp
END:VEVENT
BEGIN:VEVENT
DTSTART;TZID=America/New_York:20271018T080000
DTEND;TZID=America/New_York:20271018T090000
DTSTAMP:20260421T091037
CREATED:20250428T042234Z
LAST-MODIFIED:20250815T020331Z
UID:10001557-1823846400-1823850000@www.gethsemane.org
SUMMARY:Reflections
DESCRIPTION:
URL:https://www.gethsemane.org/event/reflections-3-2/2027-10-18/
LOCATION:GLC – Library\, 35 E. Stanton Ave.\, Columbus\, OH\, 43214\, United States
CATEGORIES:Featured
ATTACH;FMTTYPE=image/webp:https://www.gethsemane.org/wp-content/uploads/2025/07/Reflections-Bible-Study.webp
END:VEVENT
BEGIN:VEVENT
DTSTART;TZID=America/New_York:20271025T080000
DTEND;TZID=America/New_York:20271025T090000
DTSTAMP:20260421T091037
CREATED:20250428T042234Z
LAST-MODIFIED:20250815T020331Z
UID:10001558-1824451200-1824454800@www.gethsemane.org
SUMMARY:Reflections
DESCRIPTION:
URL:https://www.gethsemane.org/event/reflections-3-2/2027-10-25/
LOCATION:GLC – Library\, 35 E. Stanton Ave.\, Columbus\, OH\, 43214\, United States
CATEGORIES:Featured
ATTACH;FMTTYPE=image/webp:https://www.gethsemane.org/wp-content/uploads/2025/07/Reflections-Bible-Study.webp
END:VEVENT
BEGIN:VEVENT
DTSTART;TZID=America/New_York:20271101T080000
DTEND;TZID=America/New_York:20271101T090000
DTSTAMP:20260421T091037
CREATED:20250428T042234Z
LAST-MODIFIED:20250815T020331Z
UID:10001559-1825056000-1825059600@www.gethsemane.org
SUMMARY:Reflections
DESCRIPTION:
URL:https://www.gethsemane.org/event/reflections-3-2/2027-11-01/
LOCATION:GLC – Library\, 35 E. Stanton Ave.\, Columbus\, OH\, 43214\, United States
CATEGORIES:Featured
ATTACH;FMTTYPE=image/webp:https://www.gethsemane.org/wp-content/uploads/2025/07/Reflections-Bible-Study.webp
END:VEVENT
BEGIN:VEVENT
DTSTART;TZID=America/New_York:20271108T080000
DTEND;TZID=America/New_York:20271108T090000
DTSTAMP:20260421T091037
CREATED:20250428T042234Z
LAST-MODIFIED:20250815T020331Z
UID:10001560-1825660800-1825664400@www.gethsemane.org
SUMMARY:Reflections
DESCRIPTION:
URL:https://www.gethsemane.org/event/reflections-3-2/2027-11-08/
LOCATION:GLC – Library\, 35 E. Stanton Ave.\, Columbus\, OH\, 43214\, United States
CATEGORIES:Featured
ATTACH;FMTTYPE=image/webp:https://www.gethsemane.org/wp-content/uploads/2025/07/Reflections-Bible-Study.webp
END:VEVENT
END:VCALENDAR