BEGIN:VCALENDAR
VERSION:2.0
PRODID:-//Gethsemane Lutheran Church - ECPv6.15.20//NONSGML v1.0//EN
CALSCALE:GREGORIAN
METHOD:PUBLISH
X-ORIGINAL-URL:https://www.gethsemane.org
X-WR-CALDESC:Events for Gethsemane Lutheran Church
REFRESH-INTERVAL;VALUE=DURATION:PT1H
X-Robots-Tag:noindex
X-PUBLISHED-TTL:PT1H
BEGIN:VTIMEZONE
TZID:America/New_York
BEGIN:DAYLIGHT
TZOFFSETFROM:-0500
TZOFFSETTO:-0400
TZNAME:EDT
DTSTART:20270314T070000
END:DAYLIGHT
BEGIN:STANDARD
TZOFFSETFROM:-0400
TZOFFSETTO:-0500
TZNAME:EST
DTSTART:20271107T060000
END:STANDARD
BEGIN:DAYLIGHT
TZOFFSETFROM:-0500
TZOFFSETTO:-0400
TZNAME:EDT
DTSTART:20280312T070000
END:DAYLIGHT
BEGIN:STANDARD
TZOFFSETFROM:-0400
TZOFFSETTO:-0500
TZNAME:EST
DTSTART:20281105T060000
END:STANDARD
BEGIN:DAYLIGHT
TZOFFSETFROM:-0500
TZOFFSETTO:-0400
TZNAME:EDT
DTSTART:20290311T070000
END:DAYLIGHT
BEGIN:STANDARD
TZOFFSETFROM:-0400
TZOFFSETTO:-0500
TZNAME:EST
DTSTART:20291104T060000
END:STANDARD
END:VTIMEZONE
BEGIN:VEVENT
DTSTART;TZID=America/New_York:20280320T080000
DTEND;TZID=America/New_York:20280320T090000
DTSTAMP:20260421T151730
CREATED:20250428T042234Z
LAST-MODIFIED:20250815T020331Z
UID:10001579-1837152000-1837155600@www.gethsemane.org
SUMMARY:Reflections
DESCRIPTION:
URL:https://www.gethsemane.org/event/reflections-3-2/2028-03-20/
LOCATION:GLC – Library\, 35 E. Stanton Ave.\, Columbus\, OH\, 43214\, United States
CATEGORIES:Featured
ATTACH;FMTTYPE=image/webp:https://www.gethsemane.org/wp-content/uploads/2025/07/Reflections-Bible-Study.webp
END:VEVENT
BEGIN:VEVENT
DTSTART;TZID=America/New_York:20280327T080000
DTEND;TZID=America/New_York:20280327T090000
DTSTAMP:20260421T151730
CREATED:20250428T042234Z
LAST-MODIFIED:20250815T020331Z
UID:10001580-1837756800-1837760400@www.gethsemane.org
SUMMARY:Reflections
DESCRIPTION:
URL:https://www.gethsemane.org/event/reflections-3-2/2028-03-27/
LOCATION:GLC – Library\, 35 E. Stanton Ave.\, Columbus\, OH\, 43214\, United States
CATEGORIES:Featured
ATTACH;FMTTYPE=image/webp:https://www.gethsemane.org/wp-content/uploads/2025/07/Reflections-Bible-Study.webp
END:VEVENT
BEGIN:VEVENT
DTSTART;TZID=America/New_York:20280403T080000
DTEND;TZID=America/New_York:20280403T090000
DTSTAMP:20260421T151730
CREATED:20250428T042234Z
LAST-MODIFIED:20250815T020331Z
UID:10001581-1838361600-1838365200@www.gethsemane.org
SUMMARY:Reflections
DESCRIPTION:
URL:https://www.gethsemane.org/event/reflections-3-2/2028-04-03/
LOCATION:GLC – Library\, 35 E. Stanton Ave.\, Columbus\, OH\, 43214\, United States
CATEGORIES:Featured
ATTACH;FMTTYPE=image/webp:https://www.gethsemane.org/wp-content/uploads/2025/07/Reflections-Bible-Study.webp
END:VEVENT
BEGIN:VEVENT
DTSTART;TZID=America/New_York:20280410T080000
DTEND;TZID=America/New_York:20280410T090000
DTSTAMP:20260421T151730
CREATED:20250428T042234Z
LAST-MODIFIED:20250815T020331Z
UID:10001582-1838966400-1838970000@www.gethsemane.org
SUMMARY:Reflections
DESCRIPTION:
URL:https://www.gethsemane.org/event/reflections-3-2/2028-04-10/
LOCATION:GLC – Library\, 35 E. Stanton Ave.\, Columbus\, OH\, 43214\, United States
CATEGORIES:Featured
ATTACH;FMTTYPE=image/webp:https://www.gethsemane.org/wp-content/uploads/2025/07/Reflections-Bible-Study.webp
END:VEVENT
BEGIN:VEVENT
DTSTART;TZID=America/New_York:20280417T080000
DTEND;TZID=America/New_York:20280417T090000
DTSTAMP:20260421T151730
CREATED:20250428T042234Z
LAST-MODIFIED:20250815T020331Z
UID:10001583-1839571200-1839574800@www.gethsemane.org
SUMMARY:Reflections
DESCRIPTION:
URL:https://www.gethsemane.org/event/reflections-3-2/2028-04-17/
LOCATION:GLC – Library\, 35 E. Stanton Ave.\, Columbus\, OH\, 43214\, United States
CATEGORIES:Featured
ATTACH;FMTTYPE=image/webp:https://www.gethsemane.org/wp-content/uploads/2025/07/Reflections-Bible-Study.webp
END:VEVENT
BEGIN:VEVENT
DTSTART;TZID=America/New_York:20280424T080000
DTEND;TZID=America/New_York:20280424T090000
DTSTAMP:20260421T151730
CREATED:20250428T042234Z
LAST-MODIFIED:20250815T020331Z
UID:10001584-1840176000-1840179600@www.gethsemane.org
SUMMARY:Reflections
DESCRIPTION:
URL:https://www.gethsemane.org/event/reflections-3-2/2028-04-24/
LOCATION:GLC – Library\, 35 E. Stanton Ave.\, Columbus\, OH\, 43214\, United States
CATEGORIES:Featured
ATTACH;FMTTYPE=image/webp:https://www.gethsemane.org/wp-content/uploads/2025/07/Reflections-Bible-Study.webp
END:VEVENT
BEGIN:VEVENT
DTSTART;TZID=America/New_York:20280501T080000
DTEND;TZID=America/New_York:20280501T090000
DTSTAMP:20260421T151730
CREATED:20250428T042234Z
LAST-MODIFIED:20250815T020331Z
UID:10001585-1840780800-1840784400@www.gethsemane.org
SUMMARY:Reflections
DESCRIPTION:
URL:https://www.gethsemane.org/event/reflections-3-2/2028-05-01/
LOCATION:GLC – Library\, 35 E. Stanton Ave.\, Columbus\, OH\, 43214\, United States
CATEGORIES:Featured
ATTACH;FMTTYPE=image/webp:https://www.gethsemane.org/wp-content/uploads/2025/07/Reflections-Bible-Study.webp
END:VEVENT
BEGIN:VEVENT
DTSTART;TZID=America/New_York:20280508T080000
DTEND;TZID=America/New_York:20280508T090000
DTSTAMP:20260421T151730
CREATED:20250428T042234Z
LAST-MODIFIED:20250815T020331Z
UID:10001586-1841385600-1841389200@www.gethsemane.org
SUMMARY:Reflections
DESCRIPTION:
URL:https://www.gethsemane.org/event/reflections-3-2/2028-05-08/
LOCATION:GLC – Library\, 35 E. Stanton Ave.\, Columbus\, OH\, 43214\, United States
CATEGORIES:Featured
ATTACH;FMTTYPE=image/webp:https://www.gethsemane.org/wp-content/uploads/2025/07/Reflections-Bible-Study.webp
END:VEVENT
BEGIN:VEVENT
DTSTART;TZID=America/New_York:20280515T080000
DTEND;TZID=America/New_York:20280515T090000
DTSTAMP:20260421T151730
CREATED:20250428T042234Z
LAST-MODIFIED:20250815T020331Z
UID:10001587-1841990400-1841994000@www.gethsemane.org
SUMMARY:Reflections
DESCRIPTION:
URL:https://www.gethsemane.org/event/reflections-3-2/2028-05-15/
LOCATION:GLC – Library\, 35 E. Stanton Ave.\, Columbus\, OH\, 43214\, United States
CATEGORIES:Featured
ATTACH;FMTTYPE=image/webp:https://www.gethsemane.org/wp-content/uploads/2025/07/Reflections-Bible-Study.webp
END:VEVENT
BEGIN:VEVENT
DTSTART;TZID=America/New_York:20280522T080000
DTEND;TZID=America/New_York:20280522T090000
DTSTAMP:20260421T151730
CREATED:20250428T042234Z
LAST-MODIFIED:20250815T020331Z
UID:10001588-1842595200-1842598800@www.gethsemane.org
SUMMARY:Reflections
DESCRIPTION:
URL:https://www.gethsemane.org/event/reflections-3-2/2028-05-22/
LOCATION:GLC – Library\, 35 E. Stanton Ave.\, Columbus\, OH\, 43214\, United States
CATEGORIES:Featured
ATTACH;FMTTYPE=image/webp:https://www.gethsemane.org/wp-content/uploads/2025/07/Reflections-Bible-Study.webp
END:VEVENT
BEGIN:VEVENT
DTSTART;TZID=America/New_York:20280529T080000
DTEND;TZID=America/New_York:20280529T090000
DTSTAMP:20260421T151730
CREATED:20250428T042234Z
LAST-MODIFIED:20250815T020331Z
UID:10001589-1843200000-1843203600@www.gethsemane.org
SUMMARY:Reflections
DESCRIPTION:
URL:https://www.gethsemane.org/event/reflections-3-2/2028-05-29/
LOCATION:GLC – Library\, 35 E. Stanton Ave.\, Columbus\, OH\, 43214\, United States
CATEGORIES:Featured
ATTACH;FMTTYPE=image/webp:https://www.gethsemane.org/wp-content/uploads/2025/07/Reflections-Bible-Study.webp
END:VEVENT
BEGIN:VEVENT
DTSTART;TZID=America/New_York:20280605T080000
DTEND;TZID=America/New_York:20280605T090000
DTSTAMP:20260421T151730
CREATED:20250428T042234Z
LAST-MODIFIED:20250815T020331Z
UID:10001590-1843804800-1843808400@www.gethsemane.org
SUMMARY:Reflections
DESCRIPTION:
URL:https://www.gethsemane.org/event/reflections-3-2/2028-06-05/
LOCATION:GLC – Library\, 35 E. Stanton Ave.\, Columbus\, OH\, 43214\, United States
CATEGORIES:Featured
ATTACH;FMTTYPE=image/webp:https://www.gethsemane.org/wp-content/uploads/2025/07/Reflections-Bible-Study.webp
END:VEVENT
BEGIN:VEVENT
DTSTART;TZID=America/New_York:20280612T080000
DTEND;TZID=America/New_York:20280612T090000
DTSTAMP:20260421T151730
CREATED:20250428T042234Z
LAST-MODIFIED:20250815T020331Z
UID:10001591-1844409600-1844413200@www.gethsemane.org
SUMMARY:Reflections
DESCRIPTION:
URL:https://www.gethsemane.org/event/reflections-3-2/2028-06-12/
LOCATION:GLC – Library\, 35 E. Stanton Ave.\, Columbus\, OH\, 43214\, United States
CATEGORIES:Featured
ATTACH;FMTTYPE=image/webp:https://www.gethsemane.org/wp-content/uploads/2025/07/Reflections-Bible-Study.webp
END:VEVENT
BEGIN:VEVENT
DTSTART;TZID=America/New_York:20280619T080000
DTEND;TZID=America/New_York:20280619T090000
DTSTAMP:20260421T151730
CREATED:20250428T042234Z
LAST-MODIFIED:20250815T020331Z
UID:10001592-1845014400-1845018000@www.gethsemane.org
SUMMARY:Reflections
DESCRIPTION:
URL:https://www.gethsemane.org/event/reflections-3-2/2028-06-19/
LOCATION:GLC – Library\, 35 E. Stanton Ave.\, Columbus\, OH\, 43214\, United States
CATEGORIES:Featured
ATTACH;FMTTYPE=image/webp:https://www.gethsemane.org/wp-content/uploads/2025/07/Reflections-Bible-Study.webp
END:VEVENT
BEGIN:VEVENT
DTSTART;TZID=America/New_York:20280626T080000
DTEND;TZID=America/New_York:20280626T090000
DTSTAMP:20260421T151730
CREATED:20250428T042234Z
LAST-MODIFIED:20250815T020331Z
UID:10001593-1845619200-1845622800@www.gethsemane.org
SUMMARY:Reflections
DESCRIPTION:
URL:https://www.gethsemane.org/event/reflections-3-2/2028-06-26/
LOCATION:GLC – Library\, 35 E. Stanton Ave.\, Columbus\, OH\, 43214\, United States
CATEGORIES:Featured
ATTACH;FMTTYPE=image/webp:https://www.gethsemane.org/wp-content/uploads/2025/07/Reflections-Bible-Study.webp
END:VEVENT
BEGIN:VEVENT
DTSTART;TZID=America/New_York:20280703T080000
DTEND;TZID=America/New_York:20280703T090000
DTSTAMP:20260421T151730
CREATED:20250428T042234Z
LAST-MODIFIED:20250815T020331Z
UID:10001594-1846224000-1846227600@www.gethsemane.org
SUMMARY:Reflections
DESCRIPTION:
URL:https://www.gethsemane.org/event/reflections-3-2/2028-07-03/
LOCATION:GLC – Library\, 35 E. Stanton Ave.\, Columbus\, OH\, 43214\, United States
CATEGORIES:Featured
ATTACH;FMTTYPE=image/webp:https://www.gethsemane.org/wp-content/uploads/2025/07/Reflections-Bible-Study.webp
END:VEVENT
BEGIN:VEVENT
DTSTART;TZID=America/New_York:20280710T080000
DTEND;TZID=America/New_York:20280710T090000
DTSTAMP:20260421T151730
CREATED:20250428T042234Z
LAST-MODIFIED:20250815T020331Z
UID:10001595-1846828800-1846832400@www.gethsemane.org
SUMMARY:Reflections
DESCRIPTION:
URL:https://www.gethsemane.org/event/reflections-3-2/2028-07-10/
LOCATION:GLC – Library\, 35 E. Stanton Ave.\, Columbus\, OH\, 43214\, United States
CATEGORIES:Featured
ATTACH;FMTTYPE=image/webp:https://www.gethsemane.org/wp-content/uploads/2025/07/Reflections-Bible-Study.webp
END:VEVENT
BEGIN:VEVENT
DTSTART;TZID=America/New_York:20280717T080000
DTEND;TZID=America/New_York:20280717T090000
DTSTAMP:20260421T151730
CREATED:20250428T042234Z
LAST-MODIFIED:20250815T020331Z
UID:10001596-1847433600-1847437200@www.gethsemane.org
SUMMARY:Reflections
DESCRIPTION:
URL:https://www.gethsemane.org/event/reflections-3-2/2028-07-17/
LOCATION:GLC – Library\, 35 E. Stanton Ave.\, Columbus\, OH\, 43214\, United States
CATEGORIES:Featured
ATTACH;FMTTYPE=image/webp:https://www.gethsemane.org/wp-content/uploads/2025/07/Reflections-Bible-Study.webp
END:VEVENT
BEGIN:VEVENT
DTSTART;TZID=America/New_York:20280724T080000
DTEND;TZID=America/New_York:20280724T090000
DTSTAMP:20260421T151730
CREATED:20250428T042234Z
LAST-MODIFIED:20250815T020331Z
UID:10001597-1848038400-1848042000@www.gethsemane.org
SUMMARY:Reflections
DESCRIPTION:
URL:https://www.gethsemane.org/event/reflections-3-2/2028-07-24/
LOCATION:GLC – Library\, 35 E. Stanton Ave.\, Columbus\, OH\, 43214\, United States
CATEGORIES:Featured
ATTACH;FMTTYPE=image/webp:https://www.gethsemane.org/wp-content/uploads/2025/07/Reflections-Bible-Study.webp
END:VEVENT
BEGIN:VEVENT
DTSTART;TZID=America/New_York:20280731T080000
DTEND;TZID=America/New_York:20280731T090000
DTSTAMP:20260421T151730
CREATED:20250428T042234Z
LAST-MODIFIED:20250815T020331Z
UID:10001598-1848643200-1848646800@www.gethsemane.org
SUMMARY:Reflections
DESCRIPTION:
URL:https://www.gethsemane.org/event/reflections-3-2/2028-07-31/
LOCATION:GLC – Library\, 35 E. Stanton Ave.\, Columbus\, OH\, 43214\, United States
CATEGORIES:Featured
ATTACH;FMTTYPE=image/webp:https://www.gethsemane.org/wp-content/uploads/2025/07/Reflections-Bible-Study.webp
END:VEVENT
BEGIN:VEVENT
DTSTART;TZID=America/New_York:20280807T080000
DTEND;TZID=America/New_York:20280807T090000
DTSTAMP:20260421T151730
CREATED:20250428T042234Z
LAST-MODIFIED:20250815T020331Z
UID:10001599-1849248000-1849251600@www.gethsemane.org
SUMMARY:Reflections
DESCRIPTION:
URL:https://www.gethsemane.org/event/reflections-3-2/2028-08-07/
LOCATION:GLC – Library\, 35 E. Stanton Ave.\, Columbus\, OH\, 43214\, United States
CATEGORIES:Featured
ATTACH;FMTTYPE=image/webp:https://www.gethsemane.org/wp-content/uploads/2025/07/Reflections-Bible-Study.webp
END:VEVENT
BEGIN:VEVENT
DTSTART;TZID=America/New_York:20280814T080000
DTEND;TZID=America/New_York:20280814T090000
DTSTAMP:20260421T151730
CREATED:20250428T042234Z
LAST-MODIFIED:20250815T020331Z
UID:10001600-1849852800-1849856400@www.gethsemane.org
SUMMARY:Reflections
DESCRIPTION:
URL:https://www.gethsemane.org/event/reflections-3-2/2028-08-14/
LOCATION:GLC – Library\, 35 E. Stanton Ave.\, Columbus\, OH\, 43214\, United States
CATEGORIES:Featured
ATTACH;FMTTYPE=image/webp:https://www.gethsemane.org/wp-content/uploads/2025/07/Reflections-Bible-Study.webp
END:VEVENT
BEGIN:VEVENT
DTSTART;TZID=America/New_York:20280821T080000
DTEND;TZID=America/New_York:20280821T090000
DTSTAMP:20260421T151730
CREATED:20250428T042234Z
LAST-MODIFIED:20250815T020331Z
UID:10001601-1850457600-1850461200@www.gethsemane.org
SUMMARY:Reflections
DESCRIPTION:
URL:https://www.gethsemane.org/event/reflections-3-2/2028-08-21/
LOCATION:GLC – Library\, 35 E. Stanton Ave.\, Columbus\, OH\, 43214\, United States
CATEGORIES:Featured
ATTACH;FMTTYPE=image/webp:https://www.gethsemane.org/wp-content/uploads/2025/07/Reflections-Bible-Study.webp
END:VEVENT
BEGIN:VEVENT
DTSTART;TZID=America/New_York:20280828T080000
DTEND;TZID=America/New_York:20280828T090000
DTSTAMP:20260421T151730
CREATED:20250428T042234Z
LAST-MODIFIED:20250815T020331Z
UID:10001602-1851062400-1851066000@www.gethsemane.org
SUMMARY:Reflections
DESCRIPTION:
URL:https://www.gethsemane.org/event/reflections-3-2/2028-08-28/
LOCATION:GLC – Library\, 35 E. Stanton Ave.\, Columbus\, OH\, 43214\, United States
CATEGORIES:Featured
ATTACH;FMTTYPE=image/webp:https://www.gethsemane.org/wp-content/uploads/2025/07/Reflections-Bible-Study.webp
END:VEVENT
BEGIN:VEVENT
DTSTART;TZID=America/New_York:20280904T080000
DTEND;TZID=America/New_York:20280904T090000
DTSTAMP:20260421T151730
CREATED:20250428T042234Z
LAST-MODIFIED:20250815T020331Z
UID:10001603-1851667200-1851670800@www.gethsemane.org
SUMMARY:Reflections
DESCRIPTION:
URL:https://www.gethsemane.org/event/reflections-3-2/2028-09-04/
LOCATION:GLC – Library\, 35 E. Stanton Ave.\, Columbus\, OH\, 43214\, United States
CATEGORIES:Featured
ATTACH;FMTTYPE=image/webp:https://www.gethsemane.org/wp-content/uploads/2025/07/Reflections-Bible-Study.webp
END:VEVENT
BEGIN:VEVENT
DTSTART;TZID=America/New_York:20280911T080000
DTEND;TZID=America/New_York:20280911T090000
DTSTAMP:20260421T151730
CREATED:20250428T042234Z
LAST-MODIFIED:20250815T020331Z
UID:10001604-1852272000-1852275600@www.gethsemane.org
SUMMARY:Reflections
DESCRIPTION:
URL:https://www.gethsemane.org/event/reflections-3-2/2028-09-11/
LOCATION:GLC – Library\, 35 E. Stanton Ave.\, Columbus\, OH\, 43214\, United States
CATEGORIES:Featured
ATTACH;FMTTYPE=image/webp:https://www.gethsemane.org/wp-content/uploads/2025/07/Reflections-Bible-Study.webp
END:VEVENT
BEGIN:VEVENT
DTSTART;TZID=America/New_York:20280918T080000
DTEND;TZID=America/New_York:20280918T090000
DTSTAMP:20260421T151730
CREATED:20250428T042234Z
LAST-MODIFIED:20250815T020331Z
UID:10001605-1852876800-1852880400@www.gethsemane.org
SUMMARY:Reflections
DESCRIPTION:
URL:https://www.gethsemane.org/event/reflections-3-2/2028-09-18/
LOCATION:GLC – Library\, 35 E. Stanton Ave.\, Columbus\, OH\, 43214\, United States
CATEGORIES:Featured
ATTACH;FMTTYPE=image/webp:https://www.gethsemane.org/wp-content/uploads/2025/07/Reflections-Bible-Study.webp
END:VEVENT
BEGIN:VEVENT
DTSTART;TZID=America/New_York:20280925T080000
DTEND;TZID=America/New_York:20280925T090000
DTSTAMP:20260421T151730
CREATED:20250428T042234Z
LAST-MODIFIED:20250815T020331Z
UID:10001606-1853481600-1853485200@www.gethsemane.org
SUMMARY:Reflections
DESCRIPTION:
URL:https://www.gethsemane.org/event/reflections-3-2/2028-09-25/
LOCATION:GLC – Library\, 35 E. Stanton Ave.\, Columbus\, OH\, 43214\, United States
CATEGORIES:Featured
ATTACH;FMTTYPE=image/webp:https://www.gethsemane.org/wp-content/uploads/2025/07/Reflections-Bible-Study.webp
END:VEVENT
BEGIN:VEVENT
DTSTART;TZID=America/New_York:20281002T080000
DTEND;TZID=America/New_York:20281002T090000
DTSTAMP:20260421T151730
CREATED:20250428T042234Z
LAST-MODIFIED:20250815T020331Z
UID:10001607-1854086400-1854090000@www.gethsemane.org
SUMMARY:Reflections
DESCRIPTION:
URL:https://www.gethsemane.org/event/reflections-3-2/2028-10-02/
LOCATION:GLC – Library\, 35 E. Stanton Ave.\, Columbus\, OH\, 43214\, United States
CATEGORIES:Featured
ATTACH;FMTTYPE=image/webp:https://www.gethsemane.org/wp-content/uploads/2025/07/Reflections-Bible-Study.webp
END:VEVENT
BEGIN:VEVENT
DTSTART;TZID=America/New_York:20281009T080000
DTEND;TZID=America/New_York:20281009T090000
DTSTAMP:20260421T151731
CREATED:20250428T042234Z
LAST-MODIFIED:20250815T020331Z
UID:10001608-1854691200-1854694800@www.gethsemane.org
SUMMARY:Reflections
DESCRIPTION:
URL:https://www.gethsemane.org/event/reflections-3-2/2028-10-09/
LOCATION:GLC – Library\, 35 E. Stanton Ave.\, Columbus\, OH\, 43214\, United States
CATEGORIES:Featured
ATTACH;FMTTYPE=image/webp:https://www.gethsemane.org/wp-content/uploads/2025/07/Reflections-Bible-Study.webp
END:VEVENT
END:VCALENDAR