BEGIN:VCALENDAR
VERSION:2.0
PRODID:-//Gethsemane Lutheran Church - ECPv6.15.20//NONSGML v1.0//EN
CALSCALE:GREGORIAN
METHOD:PUBLISH
X-WR-CALNAME:Gethsemane Lutheran Church
X-ORIGINAL-URL:https://www.gethsemane.org
X-WR-CALDESC:Events for Gethsemane Lutheran Church
REFRESH-INTERVAL;VALUE=DURATION:PT1H
X-Robots-Tag:noindex
X-PUBLISHED-TTL:PT1H
BEGIN:VTIMEZONE
TZID:America/New_York
BEGIN:DAYLIGHT
TZOFFSETFROM:-0500
TZOFFSETTO:-0400
TZNAME:EDT
DTSTART:20290311T070000
END:DAYLIGHT
BEGIN:STANDARD
TZOFFSETFROM:-0400
TZOFFSETTO:-0500
TZNAME:EST
DTSTART:20291104T060000
END:STANDARD
BEGIN:DAYLIGHT
TZOFFSETFROM:-0500
TZOFFSETTO:-0400
TZNAME:EDT
DTSTART:20300310T070000
END:DAYLIGHT
BEGIN:STANDARD
TZOFFSETFROM:-0400
TZOFFSETTO:-0500
TZNAME:EST
DTSTART:20301103T060000
END:STANDARD
BEGIN:DAYLIGHT
TZOFFSETFROM:-0500
TZOFFSETTO:-0400
TZNAME:EDT
DTSTART:20310309T070000
END:DAYLIGHT
BEGIN:STANDARD
TZOFFSETFROM:-0400
TZOFFSETTO:-0500
TZNAME:EST
DTSTART:20311102T060000
END:STANDARD
END:VTIMEZONE
BEGIN:VEVENT
DTSTART;TZID=America/New_York:20300204T080000
DTEND;TZID=America/New_York:20300204T090000
DTSTAMP:20260422T175734
CREATED:20250428T042234Z
LAST-MODIFIED:20250815T020331Z
UID:10006374-1896422400-1896426000@www.gethsemane.org
SUMMARY:Reflections
DESCRIPTION:
URL:https://www.gethsemane.org/event/reflections-3-2/2030-02-04/
LOCATION:GLC – Library\, 35 E. Stanton Ave.\, Columbus\, OH\, 43214\, United States
CATEGORIES:Featured
ATTACH;FMTTYPE=image/webp:https://www.gethsemane.org/wp-content/uploads/2025/07/Reflections-Bible-Study.webp
END:VEVENT
BEGIN:VEVENT
DTSTART;TZID=America/New_York:20300211T080000
DTEND;TZID=America/New_York:20300211T090000
DTSTAMP:20260422T175734
CREATED:20250428T042234Z
LAST-MODIFIED:20250815T020331Z
UID:10006422-1897027200-1897030800@www.gethsemane.org
SUMMARY:Reflections
DESCRIPTION:
URL:https://www.gethsemane.org/event/reflections-3-2/2030-02-11/
LOCATION:GLC – Library\, 35 E. Stanton Ave.\, Columbus\, OH\, 43214\, United States
CATEGORIES:Featured
ATTACH;FMTTYPE=image/webp:https://www.gethsemane.org/wp-content/uploads/2025/07/Reflections-Bible-Study.webp
END:VEVENT
BEGIN:VEVENT
DTSTART;TZID=America/New_York:20300218T080000
DTEND;TZID=America/New_York:20300218T090000
DTSTAMP:20260422T175734
CREATED:20250428T042234Z
LAST-MODIFIED:20250815T020331Z
UID:10006446-1897632000-1897635600@www.gethsemane.org
SUMMARY:Reflections
DESCRIPTION:
URL:https://www.gethsemane.org/event/reflections-3-2/2030-02-18/
LOCATION:GLC – Library\, 35 E. Stanton Ave.\, Columbus\, OH\, 43214\, United States
CATEGORIES:Featured
ATTACH;FMTTYPE=image/webp:https://www.gethsemane.org/wp-content/uploads/2025/07/Reflections-Bible-Study.webp
END:VEVENT
BEGIN:VEVENT
DTSTART;TZID=America/New_York:20300225T080000
DTEND;TZID=America/New_York:20300225T090000
DTSTAMP:20260422T175734
CREATED:20250428T042234Z
LAST-MODIFIED:20250815T020331Z
UID:10006467-1898236800-1898240400@www.gethsemane.org
SUMMARY:Reflections
DESCRIPTION:
URL:https://www.gethsemane.org/event/reflections-3-2/2030-02-25/
LOCATION:GLC – Library\, 35 E. Stanton Ave.\, Columbus\, OH\, 43214\, United States
CATEGORIES:Featured
ATTACH;FMTTYPE=image/webp:https://www.gethsemane.org/wp-content/uploads/2025/07/Reflections-Bible-Study.webp
END:VEVENT
BEGIN:VEVENT
DTSTART;TZID=America/New_York:20300304T080000
DTEND;TZID=America/New_York:20300304T090000
DTSTAMP:20260422T175734
CREATED:20250428T042234Z
LAST-MODIFIED:20250815T020331Z
UID:10007063-1898841600-1898845200@www.gethsemane.org
SUMMARY:Reflections
DESCRIPTION:
URL:https://www.gethsemane.org/event/reflections-3-2/2030-03-04/
LOCATION:GLC – Library\, 35 E. Stanton Ave.\, Columbus\, OH\, 43214\, United States
CATEGORIES:Featured
ATTACH;FMTTYPE=image/webp:https://www.gethsemane.org/wp-content/uploads/2025/07/Reflections-Bible-Study.webp
END:VEVENT
BEGIN:VEVENT
DTSTART;TZID=America/New_York:20300311T080000
DTEND;TZID=America/New_York:20300311T090000
DTSTAMP:20260422T175734
CREATED:20250428T042234Z
LAST-MODIFIED:20250815T020331Z
UID:10007081-1899446400-1899450000@www.gethsemane.org
SUMMARY:Reflections
DESCRIPTION:
URL:https://www.gethsemane.org/event/reflections-3-2/2030-03-11/
LOCATION:GLC – Library\, 35 E. Stanton Ave.\, Columbus\, OH\, 43214\, United States
CATEGORIES:Featured
ATTACH;FMTTYPE=image/webp:https://www.gethsemane.org/wp-content/uploads/2025/07/Reflections-Bible-Study.webp
END:VEVENT
BEGIN:VEVENT
DTSTART;TZID=America/New_York:20300318T080000
DTEND;TZID=America/New_York:20300318T090000
DTSTAMP:20260422T175734
CREATED:20250428T042234Z
LAST-MODIFIED:20250815T020331Z
UID:10007096-1900051200-1900054800@www.gethsemane.org
SUMMARY:Reflections
DESCRIPTION:
URL:https://www.gethsemane.org/event/reflections-3-2/2030-03-18/
LOCATION:GLC – Library\, 35 E. Stanton Ave.\, Columbus\, OH\, 43214\, United States
CATEGORIES:Featured
ATTACH;FMTTYPE=image/webp:https://www.gethsemane.org/wp-content/uploads/2025/07/Reflections-Bible-Study.webp
END:VEVENT
BEGIN:VEVENT
DTSTART;TZID=America/New_York:20300325T080000
DTEND;TZID=America/New_York:20300325T090000
DTSTAMP:20260422T175734
CREATED:20250428T042234Z
LAST-MODIFIED:20250815T020331Z
UID:10007146-1900656000-1900659600@www.gethsemane.org
SUMMARY:Reflections
DESCRIPTION:
URL:https://www.gethsemane.org/event/reflections-3-2/2030-03-25/
LOCATION:GLC – Library\, 35 E. Stanton Ave.\, Columbus\, OH\, 43214\, United States
CATEGORIES:Featured
ATTACH;FMTTYPE=image/webp:https://www.gethsemane.org/wp-content/uploads/2025/07/Reflections-Bible-Study.webp
END:VEVENT
BEGIN:VEVENT
DTSTART;TZID=America/New_York:20300401T080000
DTEND;TZID=America/New_York:20300401T090000
DTSTAMP:20260422T175734
CREATED:20250428T042234Z
LAST-MODIFIED:20250815T020331Z
UID:10007159-1901260800-1901264400@www.gethsemane.org
SUMMARY:Reflections
DESCRIPTION:
URL:https://www.gethsemane.org/event/reflections-3-2/2030-04-01/
LOCATION:GLC – Library\, 35 E. Stanton Ave.\, Columbus\, OH\, 43214\, United States
CATEGORIES:Featured
ATTACH;FMTTYPE=image/webp:https://www.gethsemane.org/wp-content/uploads/2025/07/Reflections-Bible-Study.webp
END:VEVENT
BEGIN:VEVENT
DTSTART;TZID=America/New_York:20300408T080000
DTEND;TZID=America/New_York:20300408T090000
DTSTAMP:20260422T175734
CREATED:20250428T042234Z
LAST-MODIFIED:20250815T020331Z
UID:10007184-1901865600-1901869200@www.gethsemane.org
SUMMARY:Reflections
DESCRIPTION:
URL:https://www.gethsemane.org/event/reflections-3-2/2030-04-08/
LOCATION:GLC – Library\, 35 E. Stanton Ave.\, Columbus\, OH\, 43214\, United States
CATEGORIES:Featured
ATTACH;FMTTYPE=image/webp:https://www.gethsemane.org/wp-content/uploads/2025/07/Reflections-Bible-Study.webp
END:VEVENT
BEGIN:VEVENT
DTSTART;TZID=America/New_York:20300415T080000
DTEND;TZID=America/New_York:20300415T090000
DTSTAMP:20260422T175734
CREATED:20250428T042234Z
LAST-MODIFIED:20250815T020331Z
UID:10007571-1902470400-1902474000@www.gethsemane.org
SUMMARY:Reflections
DESCRIPTION:
URL:https://www.gethsemane.org/event/reflections-3-2/2030-04-15/
LOCATION:GLC – Library\, 35 E. Stanton Ave.\, Columbus\, OH\, 43214\, United States
CATEGORIES:Featured
ATTACH;FMTTYPE=image/webp:https://www.gethsemane.org/wp-content/uploads/2025/07/Reflections-Bible-Study.webp
END:VEVENT
BEGIN:VEVENT
DTSTART;TZID=America/New_York:20300422T080000
DTEND;TZID=America/New_York:20300422T090000
DTSTAMP:20260422T175734
CREATED:20250428T042234Z
LAST-MODIFIED:20250815T020331Z
UID:10007675-1903075200-1903078800@www.gethsemane.org
SUMMARY:Reflections
DESCRIPTION:
URL:https://www.gethsemane.org/event/reflections-3-2/2030-04-22/
LOCATION:GLC – Library\, 35 E. Stanton Ave.\, Columbus\, OH\, 43214\, United States
CATEGORIES:Featured
ATTACH;FMTTYPE=image/webp:https://www.gethsemane.org/wp-content/uploads/2025/07/Reflections-Bible-Study.webp
END:VEVENT
BEGIN:VEVENT
DTSTART;TZID=America/New_York:20300429T080000
DTEND;TZID=America/New_York:20300429T090000
DTSTAMP:20260422T175734
CREATED:20250428T042234Z
LAST-MODIFIED:20250815T020331Z
UID:10007737-1903680000-1903683600@www.gethsemane.org
SUMMARY:Reflections
DESCRIPTION:
URL:https://www.gethsemane.org/event/reflections-3-2/2030-04-29/
LOCATION:GLC – Library\, 35 E. Stanton Ave.\, Columbus\, OH\, 43214\, United States
CATEGORIES:Featured
ATTACH;FMTTYPE=image/webp:https://www.gethsemane.org/wp-content/uploads/2025/07/Reflections-Bible-Study.webp
END:VEVENT
BEGIN:VEVENT
DTSTART;TZID=America/New_York:20300506T080000
DTEND;TZID=America/New_York:20300506T090000
DTSTAMP:20260422T175734
CREATED:20250428T042234Z
LAST-MODIFIED:20250815T020331Z
UID:10007738-1904284800-1904288400@www.gethsemane.org
SUMMARY:Reflections
DESCRIPTION:
URL:https://www.gethsemane.org/event/reflections-3-2/2030-05-06/
LOCATION:GLC – Library\, 35 E. Stanton Ave.\, Columbus\, OH\, 43214\, United States
CATEGORIES:Featured
ATTACH;FMTTYPE=image/webp:https://www.gethsemane.org/wp-content/uploads/2025/07/Reflections-Bible-Study.webp
END:VEVENT
BEGIN:VEVENT
DTSTART;TZID=America/New_York:20300513T080000
DTEND;TZID=America/New_York:20300513T090000
DTSTAMP:20260422T175734
CREATED:20250428T042234Z
LAST-MODIFIED:20250815T020331Z
UID:10007739-1904889600-1904893200@www.gethsemane.org
SUMMARY:Reflections
DESCRIPTION:
URL:https://www.gethsemane.org/event/reflections-3-2/2030-05-13/
LOCATION:GLC – Library\, 35 E. Stanton Ave.\, Columbus\, OH\, 43214\, United States
CATEGORIES:Featured
ATTACH;FMTTYPE=image/webp:https://www.gethsemane.org/wp-content/uploads/2025/07/Reflections-Bible-Study.webp
END:VEVENT
BEGIN:VEVENT
DTSTART;TZID=America/New_York:20300520T080000
DTEND;TZID=America/New_York:20300520T090000
DTSTAMP:20260422T175734
CREATED:20250428T042234Z
LAST-MODIFIED:20250815T020331Z
UID:10007740-1905494400-1905498000@www.gethsemane.org
SUMMARY:Reflections
DESCRIPTION:
URL:https://www.gethsemane.org/event/reflections-3-2/2030-05-20/
LOCATION:GLC – Library\, 35 E. Stanton Ave.\, Columbus\, OH\, 43214\, United States
CATEGORIES:Featured
ATTACH;FMTTYPE=image/webp:https://www.gethsemane.org/wp-content/uploads/2025/07/Reflections-Bible-Study.webp
END:VEVENT
BEGIN:VEVENT
DTSTART;TZID=America/New_York:20300527T080000
DTEND;TZID=America/New_York:20300527T090000
DTSTAMP:20260422T175734
CREATED:20250428T042234Z
LAST-MODIFIED:20250815T020331Z
UID:10007954-1906099200-1906102800@www.gethsemane.org
SUMMARY:Reflections
DESCRIPTION:
URL:https://www.gethsemane.org/event/reflections-3-2/2030-05-27/
LOCATION:GLC – Library\, 35 E. Stanton Ave.\, Columbus\, OH\, 43214\, United States
CATEGORIES:Featured
ATTACH;FMTTYPE=image/webp:https://www.gethsemane.org/wp-content/uploads/2025/07/Reflections-Bible-Study.webp
END:VEVENT
BEGIN:VEVENT
DTSTART;TZID=America/New_York:20300603T080000
DTEND;TZID=America/New_York:20300603T090000
DTSTAMP:20260422T175734
CREATED:20250428T042234Z
LAST-MODIFIED:20250815T020331Z
UID:10007955-1906704000-1906707600@www.gethsemane.org
SUMMARY:Reflections
DESCRIPTION:
URL:https://www.gethsemane.org/event/reflections-3-2/2030-06-03/
LOCATION:GLC – Library\, 35 E. Stanton Ave.\, Columbus\, OH\, 43214\, United States
CATEGORIES:Featured
ATTACH;FMTTYPE=image/webp:https://www.gethsemane.org/wp-content/uploads/2025/07/Reflections-Bible-Study.webp
END:VEVENT
BEGIN:VEVENT
DTSTART;TZID=America/New_York:20300610T080000
DTEND;TZID=America/New_York:20300610T090000
DTSTAMP:20260422T175734
CREATED:20250428T042234Z
LAST-MODIFIED:20250815T020331Z
UID:10007956-1907308800-1907312400@www.gethsemane.org
SUMMARY:Reflections
DESCRIPTION:
URL:https://www.gethsemane.org/event/reflections-3-2/2030-06-10/
LOCATION:GLC – Library\, 35 E. Stanton Ave.\, Columbus\, OH\, 43214\, United States
CATEGORIES:Featured
ATTACH;FMTTYPE=image/webp:https://www.gethsemane.org/wp-content/uploads/2025/07/Reflections-Bible-Study.webp
END:VEVENT
BEGIN:VEVENT
DTSTART;TZID=America/New_York:20300617T080000
DTEND;TZID=America/New_York:20300617T090000
DTSTAMP:20260422T175734
CREATED:20250428T042234Z
LAST-MODIFIED:20250815T020331Z
UID:10007957-1907913600-1907917200@www.gethsemane.org
SUMMARY:Reflections
DESCRIPTION:
URL:https://www.gethsemane.org/event/reflections-3-2/2030-06-17/
LOCATION:GLC – Library\, 35 E. Stanton Ave.\, Columbus\, OH\, 43214\, United States
CATEGORIES:Featured
ATTACH;FMTTYPE=image/webp:https://www.gethsemane.org/wp-content/uploads/2025/07/Reflections-Bible-Study.webp
END:VEVENT
BEGIN:VEVENT
DTSTART;TZID=America/New_York:20300624T080000
DTEND;TZID=America/New_York:20300624T090000
DTSTAMP:20260422T175734
CREATED:20250428T042234Z
LAST-MODIFIED:20250815T020331Z
UID:10007958-1908518400-1908522000@www.gethsemane.org
SUMMARY:Reflections
DESCRIPTION:
URL:https://www.gethsemane.org/event/reflections-3-2/2030-06-24/
LOCATION:GLC – Library\, 35 E. Stanton Ave.\, Columbus\, OH\, 43214\, United States
CATEGORIES:Featured
ATTACH;FMTTYPE=image/webp:https://www.gethsemane.org/wp-content/uploads/2025/07/Reflections-Bible-Study.webp
END:VEVENT
BEGIN:VEVENT
DTSTART;TZID=America/New_York:20300701T080000
DTEND;TZID=America/New_York:20300701T090000
DTSTAMP:20260422T175734
CREATED:20250428T042234Z
LAST-MODIFIED:20250815T020331Z
UID:10007959-1909123200-1909126800@www.gethsemane.org
SUMMARY:Reflections
DESCRIPTION:
URL:https://www.gethsemane.org/event/reflections-3-2/2030-07-01/
LOCATION:GLC – Library\, 35 E. Stanton Ave.\, Columbus\, OH\, 43214\, United States
CATEGORIES:Featured
ATTACH;FMTTYPE=image/webp:https://www.gethsemane.org/wp-content/uploads/2025/07/Reflections-Bible-Study.webp
END:VEVENT
BEGIN:VEVENT
DTSTART;TZID=America/New_York:20300708T080000
DTEND;TZID=America/New_York:20300708T090000
DTSTAMP:20260422T175734
CREATED:20250428T042234Z
LAST-MODIFIED:20250815T020331Z
UID:10007960-1909728000-1909731600@www.gethsemane.org
SUMMARY:Reflections
DESCRIPTION:
URL:https://www.gethsemane.org/event/reflections-3-2/2030-07-08/
LOCATION:GLC – Library\, 35 E. Stanton Ave.\, Columbus\, OH\, 43214\, United States
CATEGORIES:Featured
ATTACH;FMTTYPE=image/webp:https://www.gethsemane.org/wp-content/uploads/2025/07/Reflections-Bible-Study.webp
END:VEVENT
BEGIN:VEVENT
DTSTART;TZID=America/New_York:20300715T080000
DTEND;TZID=America/New_York:20300715T090000
DTSTAMP:20260422T175734
CREATED:20250428T042234Z
LAST-MODIFIED:20250815T020331Z
UID:10007961-1910332800-1910336400@www.gethsemane.org
SUMMARY:Reflections
DESCRIPTION:
URL:https://www.gethsemane.org/event/reflections-3-2/2030-07-15/
LOCATION:GLC – Library\, 35 E. Stanton Ave.\, Columbus\, OH\, 43214\, United States
CATEGORIES:Featured
ATTACH;FMTTYPE=image/webp:https://www.gethsemane.org/wp-content/uploads/2025/07/Reflections-Bible-Study.webp
END:VEVENT
BEGIN:VEVENT
DTSTART;TZID=America/New_York:20300722T080000
DTEND;TZID=America/New_York:20300722T090000
DTSTAMP:20260422T175734
CREATED:20250428T042234Z
LAST-MODIFIED:20250815T020331Z
UID:10007962-1910937600-1910941200@www.gethsemane.org
SUMMARY:Reflections
DESCRIPTION:
URL:https://www.gethsemane.org/event/reflections-3-2/2030-07-22/
LOCATION:GLC – Library\, 35 E. Stanton Ave.\, Columbus\, OH\, 43214\, United States
CATEGORIES:Featured
ATTACH;FMTTYPE=image/webp:https://www.gethsemane.org/wp-content/uploads/2025/07/Reflections-Bible-Study.webp
END:VEVENT
BEGIN:VEVENT
DTSTART;TZID=America/New_York:20300729T080000
DTEND;TZID=America/New_York:20300729T090000
DTSTAMP:20260422T175734
CREATED:20250428T042234Z
LAST-MODIFIED:20250815T020331Z
UID:10007999-1911542400-1911546000@www.gethsemane.org
SUMMARY:Reflections
DESCRIPTION:
URL:https://www.gethsemane.org/event/reflections-3-2/2030-07-29/
LOCATION:GLC – Library\, 35 E. Stanton Ave.\, Columbus\, OH\, 43214\, United States
CATEGORIES:Featured
ATTACH;FMTTYPE=image/webp:https://www.gethsemane.org/wp-content/uploads/2025/07/Reflections-Bible-Study.webp
END:VEVENT
BEGIN:VEVENT
DTSTART;TZID=America/New_York:20300805T080000
DTEND;TZID=America/New_York:20300805T090000
DTSTAMP:20260422T175734
CREATED:20250428T042234Z
LAST-MODIFIED:20250815T020331Z
UID:10008000-1912147200-1912150800@www.gethsemane.org
SUMMARY:Reflections
DESCRIPTION:
URL:https://www.gethsemane.org/event/reflections-3-2/2030-08-05/
LOCATION:GLC – Library\, 35 E. Stanton Ave.\, Columbus\, OH\, 43214\, United States
CATEGORIES:Featured
ATTACH;FMTTYPE=image/webp:https://www.gethsemane.org/wp-content/uploads/2025/07/Reflections-Bible-Study.webp
END:VEVENT
BEGIN:VEVENT
DTSTART;TZID=America/New_York:20300812T080000
DTEND;TZID=America/New_York:20300812T090000
DTSTAMP:20260422T175734
CREATED:20250428T042234Z
LAST-MODIFIED:20250815T020331Z
UID:10008001-1912752000-1912755600@www.gethsemane.org
SUMMARY:Reflections
DESCRIPTION:
URL:https://www.gethsemane.org/event/reflections-3-2/2030-08-12/
LOCATION:GLC – Library\, 35 E. Stanton Ave.\, Columbus\, OH\, 43214\, United States
CATEGORIES:Featured
ATTACH;FMTTYPE=image/webp:https://www.gethsemane.org/wp-content/uploads/2025/07/Reflections-Bible-Study.webp
END:VEVENT
BEGIN:VEVENT
DTSTART;TZID=America/New_York:20300819T080000
DTEND;TZID=America/New_York:20300819T090000
DTSTAMP:20260422T175734
CREATED:20250428T042234Z
LAST-MODIFIED:20250815T020331Z
UID:10008036-1913356800-1913360400@www.gethsemane.org
SUMMARY:Reflections
DESCRIPTION:
URL:https://www.gethsemane.org/event/reflections-3-2/2030-08-19/
LOCATION:GLC – Library\, 35 E. Stanton Ave.\, Columbus\, OH\, 43214\, United States
CATEGORIES:Featured
ATTACH;FMTTYPE=image/webp:https://www.gethsemane.org/wp-content/uploads/2025/07/Reflections-Bible-Study.webp
END:VEVENT
BEGIN:VEVENT
DTSTART;TZID=America/New_York:20300826T080000
DTEND;TZID=America/New_York:20300826T090000
DTSTAMP:20260422T175734
CREATED:20250428T042234Z
LAST-MODIFIED:20250815T020331Z
UID:10008037-1913961600-1913965200@www.gethsemane.org
SUMMARY:Reflections
DESCRIPTION:
URL:https://www.gethsemane.org/event/reflections-3-2/2030-08-26/
LOCATION:GLC – Library\, 35 E. Stanton Ave.\, Columbus\, OH\, 43214\, United States
CATEGORIES:Featured
ATTACH;FMTTYPE=image/webp:https://www.gethsemane.org/wp-content/uploads/2025/07/Reflections-Bible-Study.webp
END:VEVENT
END:VCALENDAR