BEGIN:VCALENDAR
VERSION:2.0
PRODID:-//Gethsemane Lutheran Church - ECPv6.15.20//NONSGML v1.0//EN
CALSCALE:GREGORIAN
METHOD:PUBLISH
X-WR-CALNAME:Gethsemane Lutheran Church
X-ORIGINAL-URL:https://www.gethsemane.org
X-WR-CALDESC:Events for Gethsemane Lutheran Church
REFRESH-INTERVAL;VALUE=DURATION:PT1H
X-Robots-Tag:noindex
X-PUBLISHED-TTL:PT1H
BEGIN:VTIMEZONE
TZID:America/New_York
BEGIN:DAYLIGHT
TZOFFSETFROM:-0500
TZOFFSETTO:-0400
TZNAME:EDT
DTSTART:20260308T070000
END:DAYLIGHT
BEGIN:STANDARD
TZOFFSETFROM:-0400
TZOFFSETTO:-0500
TZNAME:EST
DTSTART:20261101T060000
END:STANDARD
BEGIN:DAYLIGHT
TZOFFSETFROM:-0500
TZOFFSETTO:-0400
TZNAME:EDT
DTSTART:20270314T070000
END:DAYLIGHT
BEGIN:STANDARD
TZOFFSETFROM:-0400
TZOFFSETTO:-0500
TZNAME:EST
DTSTART:20271107T060000
END:STANDARD
BEGIN:DAYLIGHT
TZOFFSETFROM:-0500
TZOFFSETTO:-0400
TZNAME:EDT
DTSTART:20280312T070000
END:DAYLIGHT
BEGIN:STANDARD
TZOFFSETFROM:-0400
TZOFFSETTO:-0500
TZNAME:EST
DTSTART:20281105T060000
END:STANDARD
END:VTIMEZONE
BEGIN:VEVENT
DTSTART;TZID=America/New_York:20270330T160000
DTEND;TZID=America/New_York:20270330T210000
DTSTAMP:20260420T043127
CREATED:20241102T215439Z
LAST-MODIFIED:20241130T024606Z
UID:10002429-1806422400-1806440400@www.gethsemane.org
SUMMARY:Music Lessons
DESCRIPTION:
URL:https://www.gethsemane.org/event/music-lessons-8/2027-03-30/
LOCATION:Gethsemane Lutheran Church\, 35 E. Stanton Ave.\, Columbus\, OH\, 43214\, United States
END:VEVENT
BEGIN:VEVENT
DTSTART;TZID=America/New_York:20270329T193000
DTEND;TZID=America/New_York:20270329T203000
DTSTAMP:20260420T043127
CREATED:20240406T200647Z
LAST-MODIFIED:20241102T215119Z
UID:10001878-1806348600-1806352200@www.gethsemane.org
SUMMARY:A.A. & Al Anon
DESCRIPTION:
URL:https://www.gethsemane.org/event/a-a-al-anon/2027-03-29/
LOCATION:Gethsemane Lutheran Church\, 35 E. Stanton Ave.\, Columbus\, OH\, 43214\, United States
END:VEVENT
BEGIN:VEVENT
DTSTART;TZID=America/New_York:20270329T080000
DTEND;TZID=America/New_York:20270329T090000
DTSTAMP:20260420T043127
CREATED:20250428T042234Z
LAST-MODIFIED:20250815T020331Z
UID:10001528-1806307200-1806310800@www.gethsemane.org
SUMMARY:Reflections
DESCRIPTION:
URL:https://www.gethsemane.org/event/reflections-3-2/2027-03-29/
LOCATION:GLC – Library\, 35 E. Stanton Ave.\, Columbus\, OH\, 43214\, United States
CATEGORIES:Featured
ATTACH;FMTTYPE=image/webp:https://www.gethsemane.org/wp-content/uploads/2025/07/Reflections-Bible-Study.webp
END:VEVENT
BEGIN:VEVENT
DTSTART;TZID=America/New_York:20270328T130000
DTEND;TZID=America/New_York:20270328T150000
DTSTAMP:20260420T043127
CREATED:20241102T214108Z
LAST-MODIFIED:20250325T022544Z
UID:10001267-1806238800-1806246000@www.gethsemane.org
SUMMARY:IYK Worship
DESCRIPTION:
URL:https://www.gethsemane.org/event/iyk-worship/2027-03-28/
LOCATION:GLC – Sanctuary\, 35 E Stanton Ave\, Columbus\, OH\, 43214\, United States
END:VEVENT
BEGIN:VEVENT
DTSTART;TZID=America/New_York:20270327T110000
DTEND;TZID=America/New_York:20270327T140000
DTSTAMP:20260420T043127
CREATED:20240607T234910Z
LAST-MODIFIED:20241130T025448Z
UID:10001005-1806145200-1806156000@www.gethsemane.org
SUMMARY:IYK Choir
DESCRIPTION:
URL:https://www.gethsemane.org/event/iyk-choir/2027-03-27/
LOCATION:OH
END:VEVENT
BEGIN:VEVENT
DTSTART;TZID=America/New_York:20270327T090000
DTEND;TZID=America/New_York:20270327T140000
DTSTAMP:20260420T043127
CREATED:20241102T212906Z
LAST-MODIFIED:20241130T025415Z
UID:10000723-1806138000-1806156000@www.gethsemane.org
SUMMARY:Music Lessons
DESCRIPTION:
URL:https://www.gethsemane.org/event/music-lessons-7/2027-03-27/
LOCATION:Gethsemane Lutheran Church\, 35 E. Stanton Ave.\, Columbus\, OH\, 43214\, United States
END:VEVENT
BEGIN:VEVENT
DTSTART;TZID=America/New_York:20270326T160000
DTEND;TZID=America/New_York:20270326T170000
DTSTAMP:20260420T043127
CREATED:20241102T212638Z
LAST-MODIFIED:20250627T025236Z
UID:10004373-1806076800-1806080400@www.gethsemane.org
SUMMARY:Piano Practice
DESCRIPTION:
URL:https://www.gethsemane.org/event/piano-practice-3/2027-03-26/
LOCATION:GLC – Sanctuary\, 35 E Stanton Ave\, Columbus\, OH\, 43214\, United States
END:VEVENT
BEGIN:VEVENT
DTSTART;TZID=America/New_York:20270325T191500
DTEND;TZID=America/New_York:20270325T203000
DTSTAMP:20260420T043127
CREATED:20260103T133626Z
LAST-MODIFIED:20260311T152759Z
UID:10008825-1806002100-1806006600@www.gethsemane.org
SUMMARY:Vocal Choir
DESCRIPTION:
URL:https://www.gethsemane.org/event/vocal-choir/2027-03-25/
LOCATION:OH
END:VEVENT
BEGIN:VEVENT
DTSTART;TZID=America/New_York:20270325T150000
DTEND;TZID=America/New_York:20270325T210000
DTSTAMP:20260420T043127
CREATED:20241102T220129Z
LAST-MODIFIED:20241102T224916Z
UID:10003241-1805986800-1806008400@www.gethsemane.org
SUMMARY:Music Lessons
DESCRIPTION:
URL:https://www.gethsemane.org/event/music-lessons-10/2027-03-25/
LOCATION:Gethsemane Lutheran Church\, 35 E. Stanton Ave.\, Columbus\, OH\, 43214\, United States
END:VEVENT
BEGIN:VEVENT
DTSTART;TZID=America/New_York:20270325T140000
DTEND;TZID=America/New_York:20270325T150000
DTSTAMP:20260420T043127
CREATED:20241130T025125Z
LAST-MODIFIED:20251203T161301Z
UID:10006107-1805983200-1805986800@www.gethsemane.org
SUMMARY:Staff Meeting
DESCRIPTION:
URL:https://www.gethsemane.org/event/staff-meeting/2027-03-25/
LOCATION:GLC – Conference Room\, 35 E Stanton Ave.\, Columbus\, OH\, 43214\, United States
END:VEVENT
BEGIN:VEVENT
DTSTART;TZID=America/New_York:20270324T160000
DTEND;TZID=America/New_York:20270324T180000
DTSTAMP:20260420T043127
CREATED:20241122T033247Z
LAST-MODIFIED:20260201T033446Z
UID:10005759-1805904000-1805911200@www.gethsemane.org
SUMMARY:Food Pantry
DESCRIPTION:
URL:https://www.gethsemane.org/event/food-pantry-2/2027-03-24/
LOCATION:Gethsemane Lutheran Church\, 35 E. Stanton Ave.\, Columbus\, OH\, 43214\, United States
END:VEVENT
BEGIN:VEVENT
DTSTART;TZID=America/New_York:20270324T110000
DTEND;TZID=America/New_York:20270324T190000
DTSTAMP:20260420T043127
CREATED:20241102T220011Z
LAST-MODIFIED:20251203T161038Z
UID:10002980-1805886000-1805914800@www.gethsemane.org
SUMMARY:Music Lessons
DESCRIPTION:
URL:https://www.gethsemane.org/event/music-lessons-9/2027-03-24/
LOCATION:Gethsemane Lutheran Church\, 35 E. Stanton Ave.\, Columbus\, OH\, 43214\, United States
END:VEVENT
BEGIN:VEVENT
DTSTART;TZID=America/New_York:20270323T160000
DTEND;TZID=America/New_York:20270323T210000
DTSTAMP:20260420T043127
CREATED:20241102T215439Z
LAST-MODIFIED:20241130T024606Z
UID:10002428-1805817600-1805835600@www.gethsemane.org
SUMMARY:Music Lessons
DESCRIPTION:
URL:https://www.gethsemane.org/event/music-lessons-8/2027-03-23/
LOCATION:Gethsemane Lutheran Church\, 35 E. Stanton Ave.\, Columbus\, OH\, 43214\, United States
END:VEVENT
BEGIN:VEVENT
DTSTART;TZID=America/New_York:20270322T193000
DTEND;TZID=America/New_York:20270322T203000
DTSTAMP:20260420T043127
CREATED:20240406T200647Z
LAST-MODIFIED:20241102T215119Z
UID:10001877-1805743800-1805747400@www.gethsemane.org
SUMMARY:A.A. & Al Anon
DESCRIPTION:
URL:https://www.gethsemane.org/event/a-a-al-anon/2027-03-22/
LOCATION:Gethsemane Lutheran Church\, 35 E. Stanton Ave.\, Columbus\, OH\, 43214\, United States
END:VEVENT
BEGIN:VEVENT
DTSTART;TZID=America/New_York:20270322T080000
DTEND;TZID=America/New_York:20270322T090000
DTSTAMP:20260420T043127
CREATED:20250428T042234Z
LAST-MODIFIED:20250815T020331Z
UID:10001527-1805702400-1805706000@www.gethsemane.org
SUMMARY:Reflections
DESCRIPTION:
URL:https://www.gethsemane.org/event/reflections-3-2/2027-03-22/
LOCATION:GLC – Library\, 35 E. Stanton Ave.\, Columbus\, OH\, 43214\, United States
CATEGORIES:Featured
ATTACH;FMTTYPE=image/webp:https://www.gethsemane.org/wp-content/uploads/2025/07/Reflections-Bible-Study.webp
END:VEVENT
BEGIN:VEVENT
DTSTART;TZID=America/New_York:20270321T130000
DTEND;TZID=America/New_York:20270321T150000
DTSTAMP:20260420T043127
CREATED:20241102T214108Z
LAST-MODIFIED:20250325T022544Z
UID:10001266-1805634000-1805641200@www.gethsemane.org
SUMMARY:IYK Worship
DESCRIPTION:
URL:https://www.gethsemane.org/event/iyk-worship/2027-03-21/
LOCATION:GLC – Sanctuary\, 35 E Stanton Ave\, Columbus\, OH\, 43214\, United States
END:VEVENT
BEGIN:VEVENT
DTSTART;TZID=America/New_York:20270320T110000
DTEND;TZID=America/New_York:20270320T140000
DTSTAMP:20260420T043127
CREATED:20240607T234910Z
LAST-MODIFIED:20241130T025448Z
UID:10001004-1805540400-1805551200@www.gethsemane.org
SUMMARY:IYK Choir
DESCRIPTION:
URL:https://www.gethsemane.org/event/iyk-choir/2027-03-20/
LOCATION:OH
END:VEVENT
BEGIN:VEVENT
DTSTART;TZID=America/New_York:20270320T090000
DTEND;TZID=America/New_York:20270320T140000
DTSTAMP:20260420T043127
CREATED:20241102T212906Z
LAST-MODIFIED:20241130T025415Z
UID:10000722-1805533200-1805551200@www.gethsemane.org
SUMMARY:Music Lessons
DESCRIPTION:
URL:https://www.gethsemane.org/event/music-lessons-7/2027-03-20/
LOCATION:Gethsemane Lutheran Church\, 35 E. Stanton Ave.\, Columbus\, OH\, 43214\, United States
END:VEVENT
BEGIN:VEVENT
DTSTART;TZID=America/New_York:20270319T160000
DTEND;TZID=America/New_York:20270319T170000
DTSTAMP:20260420T043127
CREATED:20241102T212638Z
LAST-MODIFIED:20250627T025236Z
UID:10004372-1805472000-1805475600@www.gethsemane.org
SUMMARY:Piano Practice
DESCRIPTION:
URL:https://www.gethsemane.org/event/piano-practice-3/2027-03-19/
LOCATION:GLC – Sanctuary\, 35 E Stanton Ave\, Columbus\, OH\, 43214\, United States
END:VEVENT
BEGIN:VEVENT
DTSTART;TZID=America/New_York:20270318T191500
DTEND;TZID=America/New_York:20270318T203000
DTSTAMP:20260420T043127
CREATED:20260103T133626Z
LAST-MODIFIED:20260311T152759Z
UID:10008824-1805397300-1805401800@www.gethsemane.org
SUMMARY:Vocal Choir
DESCRIPTION:
URL:https://www.gethsemane.org/event/vocal-choir/2027-03-18/
LOCATION:OH
END:VEVENT
BEGIN:VEVENT
DTSTART;TZID=America/New_York:20270318T150000
DTEND;TZID=America/New_York:20270318T210000
DTSTAMP:20260420T043127
CREATED:20241102T220129Z
LAST-MODIFIED:20241102T224916Z
UID:10003240-1805382000-1805403600@www.gethsemane.org
SUMMARY:Music Lessons
DESCRIPTION:
URL:https://www.gethsemane.org/event/music-lessons-10/2027-03-18/
LOCATION:Gethsemane Lutheran Church\, 35 E. Stanton Ave.\, Columbus\, OH\, 43214\, United States
END:VEVENT
BEGIN:VEVENT
DTSTART;TZID=America/New_York:20270318T140000
DTEND;TZID=America/New_York:20270318T150000
DTSTAMP:20260420T043127
CREATED:20241130T025125Z
LAST-MODIFIED:20251203T161301Z
UID:10006106-1805378400-1805382000@www.gethsemane.org
SUMMARY:Staff Meeting
DESCRIPTION:
URL:https://www.gethsemane.org/event/staff-meeting/2027-03-18/
LOCATION:GLC – Conference Room\, 35 E Stanton Ave.\, Columbus\, OH\, 43214\, United States
END:VEVENT
BEGIN:VEVENT
DTSTART;TZID=America/New_York:20270317T160000
DTEND;TZID=America/New_York:20270317T180000
DTSTAMP:20260420T043127
CREATED:20241122T033247Z
LAST-MODIFIED:20260201T033446Z
UID:10005758-1805299200-1805306400@www.gethsemane.org
SUMMARY:Food Pantry
DESCRIPTION:
URL:https://www.gethsemane.org/event/food-pantry-2/2027-03-17/
LOCATION:Gethsemane Lutheran Church\, 35 E. Stanton Ave.\, Columbus\, OH\, 43214\, United States
END:VEVENT
BEGIN:VEVENT
DTSTART;TZID=America/New_York:20270317T110000
DTEND;TZID=America/New_York:20270317T190000
DTSTAMP:20260420T043127
CREATED:20241102T220011Z
LAST-MODIFIED:20251203T161038Z
UID:10002979-1805281200-1805310000@www.gethsemane.org
SUMMARY:Music Lessons
DESCRIPTION:
URL:https://www.gethsemane.org/event/music-lessons-9/2027-03-17/
LOCATION:Gethsemane Lutheran Church\, 35 E. Stanton Ave.\, Columbus\, OH\, 43214\, United States
END:VEVENT
BEGIN:VEVENT
DTSTART;TZID=America/New_York:20270316T160000
DTEND;TZID=America/New_York:20270316T210000
DTSTAMP:20260420T043127
CREATED:20241102T215439Z
LAST-MODIFIED:20241130T024606Z
UID:10002427-1805212800-1805230800@www.gethsemane.org
SUMMARY:Music Lessons
DESCRIPTION:
URL:https://www.gethsemane.org/event/music-lessons-8/2027-03-16/
LOCATION:Gethsemane Lutheran Church\, 35 E. Stanton Ave.\, Columbus\, OH\, 43214\, United States
END:VEVENT
BEGIN:VEVENT
DTSTART;TZID=America/New_York:20270315T193000
DTEND;TZID=America/New_York:20270315T203000
DTSTAMP:20260420T043127
CREATED:20240406T200647Z
LAST-MODIFIED:20241102T215119Z
UID:10001876-1805139000-1805142600@www.gethsemane.org
SUMMARY:A.A. & Al Anon
DESCRIPTION:
URL:https://www.gethsemane.org/event/a-a-al-anon/2027-03-15/
LOCATION:Gethsemane Lutheran Church\, 35 E. Stanton Ave.\, Columbus\, OH\, 43214\, United States
END:VEVENT
BEGIN:VEVENT
DTSTART;TZID=America/New_York:20270315T190000
DTEND;TZID=America/New_York:20270315T203000
DTSTAMP:20260420T043127
CREATED:20241102T223834Z
LAST-MODIFIED:20250727T115514Z
UID:10004672-1805137200-1805142600@www.gethsemane.org
SUMMARY:Congregational Council
DESCRIPTION:
URL:https://www.gethsemane.org/event/congregational-council/2027-03-15/
LOCATION:GLC – Conference Room\, 35 E Stanton Ave.\, Columbus\, OH\, 43214\, United States
END:VEVENT
BEGIN:VEVENT
DTSTART;TZID=America/New_York:20270315T080000
DTEND;TZID=America/New_York:20270315T090000
DTSTAMP:20260420T043127
CREATED:20250428T042234Z
LAST-MODIFIED:20250815T020331Z
UID:10001526-1805097600-1805101200@www.gethsemane.org
SUMMARY:Reflections
DESCRIPTION:
URL:https://www.gethsemane.org/event/reflections-3-2/2027-03-15/
LOCATION:GLC – Library\, 35 E. Stanton Ave.\, Columbus\, OH\, 43214\, United States
CATEGORIES:Featured
ATTACH;FMTTYPE=image/webp:https://www.gethsemane.org/wp-content/uploads/2025/07/Reflections-Bible-Study.webp
END:VEVENT
BEGIN:VEVENT
DTSTART;TZID=America/New_York:20270314T130000
DTEND;TZID=America/New_York:20270314T150000
DTSTAMP:20260420T043127
CREATED:20241102T214108Z
LAST-MODIFIED:20250325T022544Z
UID:10001265-1805029200-1805036400@www.gethsemane.org
SUMMARY:IYK Worship
DESCRIPTION:
URL:https://www.gethsemane.org/event/iyk-worship/2027-03-14/
LOCATION:GLC – Sanctuary\, 35 E Stanton Ave\, Columbus\, OH\, 43214\, United States
END:VEVENT
BEGIN:VEVENT
DTSTART;TZID=America/New_York:20270313T110000
DTEND;TZID=America/New_York:20270313T140000
DTSTAMP:20260420T043127
CREATED:20240607T234910Z
LAST-MODIFIED:20241130T025448Z
UID:10001003-1804935600-1804946400@www.gethsemane.org
SUMMARY:IYK Choir
DESCRIPTION:
URL:https://www.gethsemane.org/event/iyk-choir/2027-03-13/
LOCATION:OH
END:VEVENT
END:VCALENDAR