BEGIN:VCALENDAR
VERSION:2.0
PRODID:-//Gethsemane Lutheran Church - ECPv6.15.20//NONSGML v1.0//EN
CALSCALE:GREGORIAN
METHOD:PUBLISH
X-ORIGINAL-URL:https://www.gethsemane.org
X-WR-CALDESC:Events for Gethsemane Lutheran Church
REFRESH-INTERVAL;VALUE=DURATION:PT1H
X-Robots-Tag:noindex
X-PUBLISHED-TTL:PT1H
BEGIN:VTIMEZONE
TZID:America/New_York
BEGIN:DAYLIGHT
TZOFFSETFROM:-0500
TZOFFSETTO:-0400
TZNAME:EDT
DTSTART:20260308T070000
END:DAYLIGHT
BEGIN:STANDARD
TZOFFSETFROM:-0400
TZOFFSETTO:-0500
TZNAME:EST
DTSTART:20261101T060000
END:STANDARD
BEGIN:DAYLIGHT
TZOFFSETFROM:-0500
TZOFFSETTO:-0400
TZNAME:EDT
DTSTART:20270314T070000
END:DAYLIGHT
BEGIN:STANDARD
TZOFFSETFROM:-0400
TZOFFSETTO:-0500
TZNAME:EST
DTSTART:20271107T060000
END:STANDARD
BEGIN:DAYLIGHT
TZOFFSETFROM:-0500
TZOFFSETTO:-0400
TZNAME:EDT
DTSTART:20280312T070000
END:DAYLIGHT
BEGIN:STANDARD
TZOFFSETFROM:-0400
TZOFFSETTO:-0500
TZNAME:EST
DTSTART:20281105T060000
END:STANDARD
END:VTIMEZONE
BEGIN:VEVENT
DTSTART;TZID=America/New_York:20270109T090000
DTEND;TZID=America/New_York:20270109T140000
DTSTAMP:20260420T092411
CREATED:20241102T212906Z
LAST-MODIFIED:20241130T025415Z
UID:10000712-1799485200-1799503200@www.gethsemane.org
SUMMARY:Music Lessons
DESCRIPTION:
URL:https://www.gethsemane.org/event/music-lessons-7/2027-01-09/
LOCATION:Gethsemane Lutheran Church\, 35 E. Stanton Ave.\, Columbus\, OH\, 43214\, United States
END:VEVENT
BEGIN:VEVENT
DTSTART;TZID=America/New_York:20270109T110000
DTEND;TZID=America/New_York:20270109T140000
DTSTAMP:20260420T092411
CREATED:20240607T234910Z
LAST-MODIFIED:20241130T025448Z
UID:10000994-1799492400-1799503200@www.gethsemane.org
SUMMARY:IYK Choir
DESCRIPTION:
URL:https://www.gethsemane.org/event/iyk-choir/2027-01-09/
LOCATION:OH
END:VEVENT
BEGIN:VEVENT
DTSTART;TZID=America/New_York:20270110T130000
DTEND;TZID=America/New_York:20270110T150000
DTSTAMP:20260420T092411
CREATED:20241102T214108Z
LAST-MODIFIED:20250325T022544Z
UID:10001256-1799586000-1799593200@www.gethsemane.org
SUMMARY:IYK Worship
DESCRIPTION:
URL:https://www.gethsemane.org/event/iyk-worship/2027-01-10/
LOCATION:GLC – Sanctuary\, 35 E Stanton Ave\, Columbus\, OH\, 43214\, United States
END:VEVENT
BEGIN:VEVENT
DTSTART;TZID=America/New_York:20270111T080000
DTEND;TZID=America/New_York:20270111T090000
DTSTAMP:20260420T092411
CREATED:20250428T042234Z
LAST-MODIFIED:20250815T020331Z
UID:10001517-1799654400-1799658000@www.gethsemane.org
SUMMARY:Reflections
DESCRIPTION:
URL:https://www.gethsemane.org/event/reflections-3-2/2027-01-11/
LOCATION:GLC – Library\, 35 E. Stanton Ave.\, Columbus\, OH\, 43214\, United States
CATEGORIES:Featured
ATTACH;FMTTYPE=image/webp:https://www.gethsemane.org/wp-content/uploads/2025/07/Reflections-Bible-Study.webp
END:VEVENT
BEGIN:VEVENT
DTSTART;TZID=America/New_York:20270111T193000
DTEND;TZID=America/New_York:20270111T203000
DTSTAMP:20260420T092411
CREATED:20240406T200647Z
LAST-MODIFIED:20241102T215119Z
UID:10001867-1799695800-1799699400@www.gethsemane.org
SUMMARY:A.A. & Al Anon
DESCRIPTION:
URL:https://www.gethsemane.org/event/a-a-al-anon/2027-01-11/
LOCATION:Gethsemane Lutheran Church\, 35 E. Stanton Ave.\, Columbus\, OH\, 43214\, United States
END:VEVENT
BEGIN:VEVENT
DTSTART;TZID=America/New_York:20270112T160000
DTEND;TZID=America/New_York:20270112T210000
DTSTAMP:20260420T092411
CREATED:20241102T215439Z
LAST-MODIFIED:20241130T024606Z
UID:10002418-1799769600-1799787600@www.gethsemane.org
SUMMARY:Music Lessons
DESCRIPTION:
URL:https://www.gethsemane.org/event/music-lessons-8/2027-01-12/
LOCATION:Gethsemane Lutheran Church\, 35 E. Stanton Ave.\, Columbus\, OH\, 43214\, United States
END:VEVENT
BEGIN:VEVENT
DTSTART;TZID=America/New_York:20270113T110000
DTEND;TZID=America/New_York:20270113T190000
DTSTAMP:20260420T092411
CREATED:20241102T220011Z
LAST-MODIFIED:20251203T161038Z
UID:10002970-1799838000-1799866800@www.gethsemane.org
SUMMARY:Music Lessons
DESCRIPTION:
URL:https://www.gethsemane.org/event/music-lessons-9/2027-01-13/
LOCATION:Gethsemane Lutheran Church\, 35 E. Stanton Ave.\, Columbus\, OH\, 43214\, United States
END:VEVENT
BEGIN:VEVENT
DTSTART;TZID=America/New_York:20270113T160000
DTEND;TZID=America/New_York:20270113T180000
DTSTAMP:20260420T092411
CREATED:20241122T033247Z
LAST-MODIFIED:20260201T033446Z
UID:10005749-1799856000-1799863200@www.gethsemane.org
SUMMARY:Food Pantry
DESCRIPTION:
URL:https://www.gethsemane.org/event/food-pantry-2/2027-01-13/
LOCATION:Gethsemane Lutheran Church\, 35 E. Stanton Ave.\, Columbus\, OH\, 43214\, United States
END:VEVENT
BEGIN:VEVENT
DTSTART;TZID=America/New_York:20270114T140000
DTEND;TZID=America/New_York:20270114T150000
DTSTAMP:20260420T092411
CREATED:20241130T025125Z
LAST-MODIFIED:20251203T161301Z
UID:10006097-1799935200-1799938800@www.gethsemane.org
SUMMARY:Staff Meeting
DESCRIPTION:
URL:https://www.gethsemane.org/event/staff-meeting/2027-01-14/
LOCATION:GLC – Conference Room\, 35 E Stanton Ave.\, Columbus\, OH\, 43214\, United States
END:VEVENT
BEGIN:VEVENT
DTSTART;TZID=America/New_York:20270114T150000
DTEND;TZID=America/New_York:20270114T210000
DTSTAMP:20260420T092412
CREATED:20241102T220129Z
LAST-MODIFIED:20241102T224916Z
UID:10003231-1799938800-1799960400@www.gethsemane.org
SUMMARY:Music Lessons
DESCRIPTION:
URL:https://www.gethsemane.org/event/music-lessons-10/2027-01-14/
LOCATION:Gethsemane Lutheran Church\, 35 E. Stanton Ave.\, Columbus\, OH\, 43214\, United States
END:VEVENT
BEGIN:VEVENT
DTSTART;TZID=America/New_York:20270114T191500
DTEND;TZID=America/New_York:20270114T203000
DTSTAMP:20260420T092412
CREATED:20260103T133626Z
LAST-MODIFIED:20260311T152759Z
UID:10008815-1799954100-1799958600@www.gethsemane.org
SUMMARY:Vocal Choir
DESCRIPTION:
URL:https://www.gethsemane.org/event/vocal-choir/2027-01-14/
LOCATION:OH
END:VEVENT
BEGIN:VEVENT
DTSTART;TZID=America/New_York:20270115T160000
DTEND;TZID=America/New_York:20270115T170000
DTSTAMP:20260420T092412
CREATED:20241102T212638Z
LAST-MODIFIED:20250627T025236Z
UID:10004363-1800028800-1800032400@www.gethsemane.org
SUMMARY:Piano Practice
DESCRIPTION:
URL:https://www.gethsemane.org/event/piano-practice-3/2027-01-15/
LOCATION:GLC – Sanctuary\, 35 E Stanton Ave\, Columbus\, OH\, 43214\, United States
END:VEVENT
BEGIN:VEVENT
DTSTART;TZID=America/New_York:20270116T090000
DTEND;TZID=America/New_York:20270116T140000
DTSTAMP:20260420T092412
CREATED:20241102T212906Z
LAST-MODIFIED:20241130T025415Z
UID:10000713-1800090000-1800108000@www.gethsemane.org
SUMMARY:Music Lessons
DESCRIPTION:
URL:https://www.gethsemane.org/event/music-lessons-7/2027-01-16/
LOCATION:Gethsemane Lutheran Church\, 35 E. Stanton Ave.\, Columbus\, OH\, 43214\, United States
END:VEVENT
BEGIN:VEVENT
DTSTART;TZID=America/New_York:20270116T110000
DTEND;TZID=America/New_York:20270116T140000
DTSTAMP:20260420T092412
CREATED:20240607T234910Z
LAST-MODIFIED:20241130T025448Z
UID:10000995-1800097200-1800108000@www.gethsemane.org
SUMMARY:IYK Choir
DESCRIPTION:
URL:https://www.gethsemane.org/event/iyk-choir/2027-01-16/
LOCATION:OH
END:VEVENT
BEGIN:VEVENT
DTSTART;TZID=America/New_York:20270117T130000
DTEND;TZID=America/New_York:20270117T150000
DTSTAMP:20260420T092412
CREATED:20241102T214108Z
LAST-MODIFIED:20250325T022544Z
UID:10001257-1800190800-1800198000@www.gethsemane.org
SUMMARY:IYK Worship
DESCRIPTION:
URL:https://www.gethsemane.org/event/iyk-worship/2027-01-17/
LOCATION:GLC – Sanctuary\, 35 E Stanton Ave\, Columbus\, OH\, 43214\, United States
END:VEVENT
BEGIN:VEVENT
DTSTART;TZID=America/New_York:20270118T080000
DTEND;TZID=America/New_York:20270118T090000
DTSTAMP:20260420T092412
CREATED:20250428T042234Z
LAST-MODIFIED:20250815T020331Z
UID:10001518-1800259200-1800262800@www.gethsemane.org
SUMMARY:Reflections
DESCRIPTION:
URL:https://www.gethsemane.org/event/reflections-3-2/2027-01-18/
LOCATION:GLC – Library\, 35 E. Stanton Ave.\, Columbus\, OH\, 43214\, United States
CATEGORIES:Featured
ATTACH;FMTTYPE=image/webp:https://www.gethsemane.org/wp-content/uploads/2025/07/Reflections-Bible-Study.webp
END:VEVENT
BEGIN:VEVENT
DTSTART;TZID=America/New_York:20270118T190000
DTEND;TZID=America/New_York:20270118T203000
DTSTAMP:20260420T092412
CREATED:20241102T223834Z
LAST-MODIFIED:20250727T115514Z
UID:10004670-1800298800-1800304200@www.gethsemane.org
SUMMARY:Congregational Council
DESCRIPTION:
URL:https://www.gethsemane.org/event/congregational-council/2027-01-18/
LOCATION:GLC – Conference Room\, 35 E Stanton Ave.\, Columbus\, OH\, 43214\, United States
END:VEVENT
BEGIN:VEVENT
DTSTART;TZID=America/New_York:20270118T193000
DTEND;TZID=America/New_York:20270118T203000
DTSTAMP:20260420T092412
CREATED:20240406T200647Z
LAST-MODIFIED:20241102T215119Z
UID:10001868-1800300600-1800304200@www.gethsemane.org
SUMMARY:A.A. & Al Anon
DESCRIPTION:
URL:https://www.gethsemane.org/event/a-a-al-anon/2027-01-18/
LOCATION:Gethsemane Lutheran Church\, 35 E. Stanton Ave.\, Columbus\, OH\, 43214\, United States
END:VEVENT
BEGIN:VEVENT
DTSTART;TZID=America/New_York:20270119T160000
DTEND;TZID=America/New_York:20270119T210000
DTSTAMP:20260420T092412
CREATED:20241102T215439Z
LAST-MODIFIED:20241130T024606Z
UID:10002419-1800374400-1800392400@www.gethsemane.org
SUMMARY:Music Lessons
DESCRIPTION:
URL:https://www.gethsemane.org/event/music-lessons-8/2027-01-19/
LOCATION:Gethsemane Lutheran Church\, 35 E. Stanton Ave.\, Columbus\, OH\, 43214\, United States
END:VEVENT
BEGIN:VEVENT
DTSTART;TZID=America/New_York:20270120T110000
DTEND;TZID=America/New_York:20270120T190000
DTSTAMP:20260420T092412
CREATED:20241102T220011Z
LAST-MODIFIED:20251203T161038Z
UID:10002971-1800442800-1800471600@www.gethsemane.org
SUMMARY:Music Lessons
DESCRIPTION:
URL:https://www.gethsemane.org/event/music-lessons-9/2027-01-20/
LOCATION:Gethsemane Lutheran Church\, 35 E. Stanton Ave.\, Columbus\, OH\, 43214\, United States
END:VEVENT
BEGIN:VEVENT
DTSTART;TZID=America/New_York:20270120T160000
DTEND;TZID=America/New_York:20270120T180000
DTSTAMP:20260420T092412
CREATED:20241122T033247Z
LAST-MODIFIED:20260201T033446Z
UID:10005750-1800460800-1800468000@www.gethsemane.org
SUMMARY:Food Pantry
DESCRIPTION:
URL:https://www.gethsemane.org/event/food-pantry-2/2027-01-20/
LOCATION:Gethsemane Lutheran Church\, 35 E. Stanton Ave.\, Columbus\, OH\, 43214\, United States
END:VEVENT
BEGIN:VEVENT
DTSTART;TZID=America/New_York:20270121T140000
DTEND;TZID=America/New_York:20270121T150000
DTSTAMP:20260420T092412
CREATED:20241130T025125Z
LAST-MODIFIED:20251203T161301Z
UID:10006098-1800540000-1800543600@www.gethsemane.org
SUMMARY:Staff Meeting
DESCRIPTION:
URL:https://www.gethsemane.org/event/staff-meeting/2027-01-21/
LOCATION:GLC – Conference Room\, 35 E Stanton Ave.\, Columbus\, OH\, 43214\, United States
END:VEVENT
BEGIN:VEVENT
DTSTART;TZID=America/New_York:20270121T150000
DTEND;TZID=America/New_York:20270121T210000
DTSTAMP:20260420T092412
CREATED:20241102T220129Z
LAST-MODIFIED:20241102T224916Z
UID:10003232-1800543600-1800565200@www.gethsemane.org
SUMMARY:Music Lessons
DESCRIPTION:
URL:https://www.gethsemane.org/event/music-lessons-10/2027-01-21/
LOCATION:Gethsemane Lutheran Church\, 35 E. Stanton Ave.\, Columbus\, OH\, 43214\, United States
END:VEVENT
BEGIN:VEVENT
DTSTART;TZID=America/New_York:20270121T191500
DTEND;TZID=America/New_York:20270121T203000
DTSTAMP:20260420T092412
CREATED:20260103T133626Z
LAST-MODIFIED:20260311T152759Z
UID:10008816-1800558900-1800563400@www.gethsemane.org
SUMMARY:Vocal Choir
DESCRIPTION:
URL:https://www.gethsemane.org/event/vocal-choir/2027-01-21/
LOCATION:OH
END:VEVENT
BEGIN:VEVENT
DTSTART;TZID=America/New_York:20270122T160000
DTEND;TZID=America/New_York:20270122T170000
DTSTAMP:20260420T092412
CREATED:20241102T212638Z
LAST-MODIFIED:20250627T025236Z
UID:10004364-1800633600-1800637200@www.gethsemane.org
SUMMARY:Piano Practice
DESCRIPTION:
URL:https://www.gethsemane.org/event/piano-practice-3/2027-01-22/
LOCATION:GLC – Sanctuary\, 35 E Stanton Ave\, Columbus\, OH\, 43214\, United States
END:VEVENT
BEGIN:VEVENT
DTSTART;TZID=America/New_York:20270123T090000
DTEND;TZID=America/New_York:20270123T140000
DTSTAMP:20260420T092412
CREATED:20241102T212906Z
LAST-MODIFIED:20241130T025415Z
UID:10000714-1800694800-1800712800@www.gethsemane.org
SUMMARY:Music Lessons
DESCRIPTION:
URL:https://www.gethsemane.org/event/music-lessons-7/2027-01-23/
LOCATION:Gethsemane Lutheran Church\, 35 E. Stanton Ave.\, Columbus\, OH\, 43214\, United States
END:VEVENT
BEGIN:VEVENT
DTSTART;TZID=America/New_York:20270123T110000
DTEND;TZID=America/New_York:20270123T140000
DTSTAMP:20260420T092412
CREATED:20240607T234910Z
LAST-MODIFIED:20241130T025448Z
UID:10000996-1800702000-1800712800@www.gethsemane.org
SUMMARY:IYK Choir
DESCRIPTION:
URL:https://www.gethsemane.org/event/iyk-choir/2027-01-23/
LOCATION:OH
END:VEVENT
BEGIN:VEVENT
DTSTART;TZID=America/New_York:20270124T130000
DTEND;TZID=America/New_York:20270124T150000
DTSTAMP:20260420T092412
CREATED:20241102T214108Z
LAST-MODIFIED:20250325T022544Z
UID:10001258-1800795600-1800802800@www.gethsemane.org
SUMMARY:IYK Worship
DESCRIPTION:
URL:https://www.gethsemane.org/event/iyk-worship/2027-01-24/
LOCATION:GLC – Sanctuary\, 35 E Stanton Ave\, Columbus\, OH\, 43214\, United States
END:VEVENT
BEGIN:VEVENT
DTSTART;TZID=America/New_York:20270125T080000
DTEND;TZID=America/New_York:20270125T090000
DTSTAMP:20260420T092412
CREATED:20250428T042234Z
LAST-MODIFIED:20250815T020331Z
UID:10001519-1800864000-1800867600@www.gethsemane.org
SUMMARY:Reflections
DESCRIPTION:
URL:https://www.gethsemane.org/event/reflections-3-2/2027-01-25/
LOCATION:GLC – Library\, 35 E. Stanton Ave.\, Columbus\, OH\, 43214\, United States
CATEGORIES:Featured
ATTACH;FMTTYPE=image/webp:https://www.gethsemane.org/wp-content/uploads/2025/07/Reflections-Bible-Study.webp
END:VEVENT
BEGIN:VEVENT
DTSTART;TZID=America/New_York:20270125T193000
DTEND;TZID=America/New_York:20270125T203000
DTSTAMP:20260420T092412
CREATED:20240406T200647Z
LAST-MODIFIED:20241102T215119Z
UID:10001869-1800905400-1800909000@www.gethsemane.org
SUMMARY:A.A. & Al Anon
DESCRIPTION:
URL:https://www.gethsemane.org/event/a-a-al-anon/2027-01-25/
LOCATION:Gethsemane Lutheran Church\, 35 E. Stanton Ave.\, Columbus\, OH\, 43214\, United States
END:VEVENT
END:VCALENDAR