BEGIN:VCALENDAR
VERSION:2.0
PRODID:-//Gethsemane Lutheran Church - ECPv6.15.20//NONSGML v1.0//EN
CALSCALE:GREGORIAN
METHOD:PUBLISH
X-ORIGINAL-URL:https://www.gethsemane.org
X-WR-CALDESC:Events for Gethsemane Lutheran Church
REFRESH-INTERVAL;VALUE=DURATION:PT1H
X-Robots-Tag:noindex
X-PUBLISHED-TTL:PT1H
BEGIN:VTIMEZONE
TZID:America/New_York
BEGIN:DAYLIGHT
TZOFFSETFROM:-0500
TZOFFSETTO:-0400
TZNAME:EDT
DTSTART:20260308T070000
END:DAYLIGHT
BEGIN:STANDARD
TZOFFSETFROM:-0400
TZOFFSETTO:-0500
TZNAME:EST
DTSTART:20261101T060000
END:STANDARD
BEGIN:DAYLIGHT
TZOFFSETFROM:-0500
TZOFFSETTO:-0400
TZNAME:EDT
DTSTART:20270314T070000
END:DAYLIGHT
BEGIN:STANDARD
TZOFFSETFROM:-0400
TZOFFSETTO:-0500
TZNAME:EST
DTSTART:20271107T060000
END:STANDARD
BEGIN:DAYLIGHT
TZOFFSETFROM:-0500
TZOFFSETTO:-0400
TZNAME:EDT
DTSTART:20280312T070000
END:DAYLIGHT
BEGIN:STANDARD
TZOFFSETFROM:-0400
TZOFFSETTO:-0500
TZNAME:EST
DTSTART:20281105T060000
END:STANDARD
END:VTIMEZONE
BEGIN:VEVENT
DTSTART;TZID=America/New_York:20270217T160000
DTEND;TZID=America/New_York:20270217T180000
DTSTAMP:20260420T123728
CREATED:20241122T033247Z
LAST-MODIFIED:20260201T033446Z
UID:10005754-1802880000-1802887200@www.gethsemane.org
SUMMARY:Food Pantry
DESCRIPTION:
URL:https://www.gethsemane.org/event/food-pantry-2/2027-02-17/
LOCATION:Gethsemane Lutheran Church\, 35 E. Stanton Ave.\, Columbus\, OH\, 43214\, United States
END:VEVENT
BEGIN:VEVENT
DTSTART;TZID=America/New_York:20270218T140000
DTEND;TZID=America/New_York:20270218T150000
DTSTAMP:20260420T123728
CREATED:20241130T025125Z
LAST-MODIFIED:20251203T161301Z
UID:10006102-1802959200-1802962800@www.gethsemane.org
SUMMARY:Staff Meeting
DESCRIPTION:
URL:https://www.gethsemane.org/event/staff-meeting/2027-02-18/
LOCATION:GLC – Conference Room\, 35 E Stanton Ave.\, Columbus\, OH\, 43214\, United States
END:VEVENT
BEGIN:VEVENT
DTSTART;TZID=America/New_York:20270218T150000
DTEND;TZID=America/New_York:20270218T210000
DTSTAMP:20260420T123728
CREATED:20241102T220129Z
LAST-MODIFIED:20241102T224916Z
UID:10003236-1802962800-1802984400@www.gethsemane.org
SUMMARY:Music Lessons
DESCRIPTION:
URL:https://www.gethsemane.org/event/music-lessons-10/2027-02-18/
LOCATION:Gethsemane Lutheran Church\, 35 E. Stanton Ave.\, Columbus\, OH\, 43214\, United States
END:VEVENT
BEGIN:VEVENT
DTSTART;TZID=America/New_York:20270218T191500
DTEND;TZID=America/New_York:20270218T203000
DTSTAMP:20260420T123728
CREATED:20260103T133626Z
LAST-MODIFIED:20260311T152759Z
UID:10008820-1802978100-1802982600@www.gethsemane.org
SUMMARY:Vocal Choir
DESCRIPTION:
URL:https://www.gethsemane.org/event/vocal-choir/2027-02-18/
END:VEVENT
BEGIN:VEVENT
DTSTART;TZID=America/New_York:20270219T160000
DTEND;TZID=America/New_York:20270219T170000
DTSTAMP:20260420T123728
CREATED:20241102T212638Z
LAST-MODIFIED:20250627T025236Z
UID:10004368-1803052800-1803056400@www.gethsemane.org
SUMMARY:Piano Practice
DESCRIPTION:
URL:https://www.gethsemane.org/event/piano-practice-3/2027-02-19/
LOCATION:GLC – Sanctuary\, 35 E Stanton Ave\, Columbus\, OH\, 43214\, United States
END:VEVENT
BEGIN:VEVENT
DTSTART;TZID=America/New_York:20270220T090000
DTEND;TZID=America/New_York:20270220T140000
DTSTAMP:20260420T123728
CREATED:20241102T212906Z
LAST-MODIFIED:20241130T025415Z
UID:10000718-1803114000-1803132000@www.gethsemane.org
SUMMARY:Music Lessons
DESCRIPTION:
URL:https://www.gethsemane.org/event/music-lessons-7/2027-02-20/
LOCATION:Gethsemane Lutheran Church\, 35 E. Stanton Ave.\, Columbus\, OH\, 43214\, United States
END:VEVENT
BEGIN:VEVENT
DTSTART;TZID=America/New_York:20270220T110000
DTEND;TZID=America/New_York:20270220T140000
DTSTAMP:20260420T123728
CREATED:20240607T234910Z
LAST-MODIFIED:20241130T025448Z
UID:10001000-1803121200-1803132000@www.gethsemane.org
SUMMARY:IYK Choir
DESCRIPTION:
URL:https://www.gethsemane.org/event/iyk-choir/2027-02-20/
END:VEVENT
BEGIN:VEVENT
DTSTART;TZID=America/New_York:20270221T130000
DTEND;TZID=America/New_York:20270221T150000
DTSTAMP:20260420T123728
CREATED:20241102T214108Z
LAST-MODIFIED:20250325T022544Z
UID:10001262-1803214800-1803222000@www.gethsemane.org
SUMMARY:IYK Worship
DESCRIPTION:
URL:https://www.gethsemane.org/event/iyk-worship/2027-02-21/
LOCATION:GLC – Sanctuary\, 35 E Stanton Ave\, Columbus\, OH\, 43214\, United States
END:VEVENT
BEGIN:VEVENT
DTSTART;TZID=America/New_York:20270222T080000
DTEND;TZID=America/New_York:20270222T090000
DTSTAMP:20260420T123728
CREATED:20250428T042234Z
LAST-MODIFIED:20250815T020331Z
UID:10001523-1803283200-1803286800@www.gethsemane.org
SUMMARY:Reflections
DESCRIPTION:
URL:https://www.gethsemane.org/event/reflections-3-2/2027-02-22/
LOCATION:GLC – Library\, 35 E. Stanton Ave.\, Columbus\, OH\, 43214\, United States
CATEGORIES:Featured
ATTACH;FMTTYPE=image/webp:https://www.gethsemane.org/wp-content/uploads/2025/07/Reflections-Bible-Study.webp
END:VEVENT
BEGIN:VEVENT
DTSTART;TZID=America/New_York:20270222T193000
DTEND;TZID=America/New_York:20270222T203000
DTSTAMP:20260420T123728
CREATED:20240406T200647Z
LAST-MODIFIED:20241102T215119Z
UID:10001873-1803324600-1803328200@www.gethsemane.org
SUMMARY:A.A. & Al Anon
DESCRIPTION:
URL:https://www.gethsemane.org/event/a-a-al-anon/2027-02-22/
LOCATION:Gethsemane Lutheran Church\, 35 E. Stanton Ave.\, Columbus\, OH\, 43214\, United States
END:VEVENT
BEGIN:VEVENT
DTSTART;TZID=America/New_York:20270223T160000
DTEND;TZID=America/New_York:20270223T210000
DTSTAMP:20260420T123728
CREATED:20241102T215439Z
LAST-MODIFIED:20241130T024606Z
UID:10002424-1803398400-1803416400@www.gethsemane.org
SUMMARY:Music Lessons
DESCRIPTION:
URL:https://www.gethsemane.org/event/music-lessons-8/2027-02-23/
LOCATION:Gethsemane Lutheran Church\, 35 E. Stanton Ave.\, Columbus\, OH\, 43214\, United States
END:VEVENT
BEGIN:VEVENT
DTSTART;TZID=America/New_York:20270224T110000
DTEND;TZID=America/New_York:20270224T190000
DTSTAMP:20260420T123728
CREATED:20241102T220011Z
LAST-MODIFIED:20251203T161038Z
UID:10002976-1803466800-1803495600@www.gethsemane.org
SUMMARY:Music Lessons
DESCRIPTION:
URL:https://www.gethsemane.org/event/music-lessons-9/2027-02-24/
LOCATION:Gethsemane Lutheran Church\, 35 E. Stanton Ave.\, Columbus\, OH\, 43214\, United States
END:VEVENT
BEGIN:VEVENT
DTSTART;TZID=America/New_York:20270224T160000
DTEND;TZID=America/New_York:20270224T180000
DTSTAMP:20260420T123728
CREATED:20241122T033247Z
LAST-MODIFIED:20260201T033446Z
UID:10005755-1803484800-1803492000@www.gethsemane.org
SUMMARY:Food Pantry
DESCRIPTION:
URL:https://www.gethsemane.org/event/food-pantry-2/2027-02-24/
LOCATION:Gethsemane Lutheran Church\, 35 E. Stanton Ave.\, Columbus\, OH\, 43214\, United States
END:VEVENT
BEGIN:VEVENT
DTSTART;TZID=America/New_York:20270225T140000
DTEND;TZID=America/New_York:20270225T150000
DTSTAMP:20260420T123728
CREATED:20241130T025125Z
LAST-MODIFIED:20251203T161301Z
UID:10006103-1803564000-1803567600@www.gethsemane.org
SUMMARY:Staff Meeting
DESCRIPTION:
URL:https://www.gethsemane.org/event/staff-meeting/2027-02-25/
LOCATION:GLC – Conference Room\, 35 E Stanton Ave.\, Columbus\, OH\, 43214\, United States
END:VEVENT
BEGIN:VEVENT
DTSTART;TZID=America/New_York:20270225T150000
DTEND;TZID=America/New_York:20270225T210000
DTSTAMP:20260420T123728
CREATED:20241102T220129Z
LAST-MODIFIED:20241102T224916Z
UID:10003237-1803567600-1803589200@www.gethsemane.org
SUMMARY:Music Lessons
DESCRIPTION:
URL:https://www.gethsemane.org/event/music-lessons-10/2027-02-25/
LOCATION:Gethsemane Lutheran Church\, 35 E. Stanton Ave.\, Columbus\, OH\, 43214\, United States
END:VEVENT
BEGIN:VEVENT
DTSTART;TZID=America/New_York:20270225T191500
DTEND;TZID=America/New_York:20270225T203000
DTSTAMP:20260420T123728
CREATED:20260103T133626Z
LAST-MODIFIED:20260311T152759Z
UID:10008821-1803582900-1803587400@www.gethsemane.org
SUMMARY:Vocal Choir
DESCRIPTION:
URL:https://www.gethsemane.org/event/vocal-choir/2027-02-25/
END:VEVENT
BEGIN:VEVENT
DTSTART;TZID=America/New_York:20270226T160000
DTEND;TZID=America/New_York:20270226T170000
DTSTAMP:20260420T123728
CREATED:20241102T212638Z
LAST-MODIFIED:20250627T025236Z
UID:10004369-1803657600-1803661200@www.gethsemane.org
SUMMARY:Piano Practice
DESCRIPTION:
URL:https://www.gethsemane.org/event/piano-practice-3/2027-02-26/
LOCATION:GLC – Sanctuary\, 35 E Stanton Ave\, Columbus\, OH\, 43214\, United States
END:VEVENT
BEGIN:VEVENT
DTSTART;TZID=America/New_York:20270227T090000
DTEND;TZID=America/New_York:20270227T140000
DTSTAMP:20260420T123728
CREATED:20241102T212906Z
LAST-MODIFIED:20241130T025415Z
UID:10000719-1803718800-1803736800@www.gethsemane.org
SUMMARY:Music Lessons
DESCRIPTION:
URL:https://www.gethsemane.org/event/music-lessons-7/2027-02-27/
LOCATION:Gethsemane Lutheran Church\, 35 E. Stanton Ave.\, Columbus\, OH\, 43214\, United States
END:VEVENT
BEGIN:VEVENT
DTSTART;TZID=America/New_York:20270227T110000
DTEND;TZID=America/New_York:20270227T140000
DTSTAMP:20260420T123728
CREATED:20240607T234910Z
LAST-MODIFIED:20241130T025448Z
UID:10001001-1803726000-1803736800@www.gethsemane.org
SUMMARY:IYK Choir
DESCRIPTION:
URL:https://www.gethsemane.org/event/iyk-choir/2027-02-27/
END:VEVENT
BEGIN:VEVENT
DTSTART;TZID=America/New_York:20270228T130000
DTEND;TZID=America/New_York:20270228T150000
DTSTAMP:20260420T123728
CREATED:20241102T214108Z
LAST-MODIFIED:20250325T022544Z
UID:10001263-1803819600-1803826800@www.gethsemane.org
SUMMARY:IYK Worship
DESCRIPTION:
URL:https://www.gethsemane.org/event/iyk-worship/2027-02-28/
LOCATION:GLC – Sanctuary\, 35 E Stanton Ave\, Columbus\, OH\, 43214\, United States
END:VEVENT
BEGIN:VEVENT
DTSTART;TZID=America/New_York:20270301T080000
DTEND;TZID=America/New_York:20270301T090000
DTSTAMP:20260420T123728
CREATED:20250428T042234Z
LAST-MODIFIED:20250815T020331Z
UID:10001524-1803888000-1803891600@www.gethsemane.org
SUMMARY:Reflections
DESCRIPTION:
URL:https://www.gethsemane.org/event/reflections-3-2/2027-03-01/
LOCATION:GLC – Library\, 35 E. Stanton Ave.\, Columbus\, OH\, 43214\, United States
CATEGORIES:Featured
ATTACH;FMTTYPE=image/webp:https://www.gethsemane.org/wp-content/uploads/2025/07/Reflections-Bible-Study.webp
END:VEVENT
BEGIN:VEVENT
DTSTART;TZID=America/New_York:20270301T183000
DTEND;TZID=America/New_York:20270301T200000
DTSTAMP:20260420T123728
CREATED:20241102T214833Z
LAST-MODIFIED:20250815T020713Z
UID:10001692-1803925800-1803931200@www.gethsemane.org
SUMMARY:Play & Learn Committee
DESCRIPTION:
URL:https://www.gethsemane.org/event/play-learn-committee/2027-03-01/
LOCATION:GLC – Conference Room\, 35 E Stanton Ave.\, Columbus\, OH\, 43214\, United States
END:VEVENT
BEGIN:VEVENT
DTSTART;TZID=America/New_York:20270301T193000
DTEND;TZID=America/New_York:20270301T203000
DTSTAMP:20260420T123728
CREATED:20240406T200647Z
LAST-MODIFIED:20241102T215119Z
UID:10001874-1803929400-1803933000@www.gethsemane.org
SUMMARY:A.A. & Al Anon
DESCRIPTION:
URL:https://www.gethsemane.org/event/a-a-al-anon/2027-03-01/
LOCATION:Gethsemane Lutheran Church\, 35 E. Stanton Ave.\, Columbus\, OH\, 43214\, United States
END:VEVENT
BEGIN:VEVENT
DTSTART;TZID=America/New_York:20270302T160000
DTEND;TZID=America/New_York:20270302T210000
DTSTAMP:20260420T123728
CREATED:20241102T215439Z
LAST-MODIFIED:20241130T024606Z
UID:10002425-1804003200-1804021200@www.gethsemane.org
SUMMARY:Music Lessons
DESCRIPTION:
URL:https://www.gethsemane.org/event/music-lessons-8/2027-03-02/
LOCATION:Gethsemane Lutheran Church\, 35 E. Stanton Ave.\, Columbus\, OH\, 43214\, United States
END:VEVENT
BEGIN:VEVENT
DTSTART;TZID=America/New_York:20270303T110000
DTEND;TZID=America/New_York:20270303T190000
DTSTAMP:20260420T123728
CREATED:20241102T220011Z
LAST-MODIFIED:20251203T161038Z
UID:10002977-1804071600-1804100400@www.gethsemane.org
SUMMARY:Music Lessons
DESCRIPTION:
URL:https://www.gethsemane.org/event/music-lessons-9/2027-03-03/
LOCATION:Gethsemane Lutheran Church\, 35 E. Stanton Ave.\, Columbus\, OH\, 43214\, United States
END:VEVENT
BEGIN:VEVENT
DTSTART;TZID=America/New_York:20270303T160000
DTEND;TZID=America/New_York:20270303T180000
DTSTAMP:20260420T123728
CREATED:20241122T033247Z
LAST-MODIFIED:20260201T033446Z
UID:10005756-1804089600-1804096800@www.gethsemane.org
SUMMARY:Food Pantry
DESCRIPTION:
URL:https://www.gethsemane.org/event/food-pantry-2/2027-03-03/
LOCATION:Gethsemane Lutheran Church\, 35 E. Stanton Ave.\, Columbus\, OH\, 43214\, United States
END:VEVENT
BEGIN:VEVENT
DTSTART;TZID=America/New_York:20270304T140000
DTEND;TZID=America/New_York:20270304T150000
DTSTAMP:20260420T123728
CREATED:20241130T025125Z
LAST-MODIFIED:20251203T161301Z
UID:10006104-1804168800-1804172400@www.gethsemane.org
SUMMARY:Staff Meeting
DESCRIPTION:
URL:https://www.gethsemane.org/event/staff-meeting/2027-03-04/
LOCATION:GLC – Conference Room\, 35 E Stanton Ave.\, Columbus\, OH\, 43214\, United States
END:VEVENT
BEGIN:VEVENT
DTSTART;TZID=America/New_York:20270304T150000
DTEND;TZID=America/New_York:20270304T210000
DTSTAMP:20260420T123728
CREATED:20241102T220129Z
LAST-MODIFIED:20241102T224916Z
UID:10003238-1804172400-1804194000@www.gethsemane.org
SUMMARY:Music Lessons
DESCRIPTION:
URL:https://www.gethsemane.org/event/music-lessons-10/2027-03-04/
LOCATION:Gethsemane Lutheran Church\, 35 E. Stanton Ave.\, Columbus\, OH\, 43214\, United States
END:VEVENT
BEGIN:VEVENT
DTSTART;TZID=America/New_York:20270304T191500
DTEND;TZID=America/New_York:20270304T203000
DTSTAMP:20260420T123728
CREATED:20260103T133626Z
LAST-MODIFIED:20260311T152759Z
UID:10008822-1804187700-1804192200@www.gethsemane.org
SUMMARY:Vocal Choir
DESCRIPTION:
URL:https://www.gethsemane.org/event/vocal-choir/2027-03-04/
END:VEVENT
BEGIN:VEVENT
DTSTART;TZID=America/New_York:20270305T160000
DTEND;TZID=America/New_York:20270305T170000
DTSTAMP:20260420T123728
CREATED:20241102T212638Z
LAST-MODIFIED:20250627T025236Z
UID:10004370-1804262400-1804266000@www.gethsemane.org
SUMMARY:Piano Practice
DESCRIPTION:
URL:https://www.gethsemane.org/event/piano-practice-3/2027-03-05/
LOCATION:GLC – Sanctuary\, 35 E Stanton Ave\, Columbus\, OH\, 43214\, United States
END:VEVENT
END:VCALENDAR