BEGIN:VCALENDAR
VERSION:2.0
PRODID:-//Gethsemane Lutheran Church - ECPv6.15.20//NONSGML v1.0//EN
CALSCALE:GREGORIAN
METHOD:PUBLISH
X-WR-CALNAME:Gethsemane Lutheran Church
X-ORIGINAL-URL:https://www.gethsemane.org
X-WR-CALDESC:Events for Gethsemane Lutheran Church
REFRESH-INTERVAL;VALUE=DURATION:PT1H
X-Robots-Tag:noindex
X-PUBLISHED-TTL:PT1H
BEGIN:VTIMEZONE
TZID:America/New_York
BEGIN:DAYLIGHT
TZOFFSETFROM:-0500
TZOFFSETTO:-0400
TZNAME:EDT
DTSTART:20250309T070000
END:DAYLIGHT
BEGIN:STANDARD
TZOFFSETFROM:-0400
TZOFFSETTO:-0500
TZNAME:EST
DTSTART:20251102T060000
END:STANDARD
BEGIN:DAYLIGHT
TZOFFSETFROM:-0500
TZOFFSETTO:-0400
TZNAME:EDT
DTSTART:20260308T070000
END:DAYLIGHT
BEGIN:STANDARD
TZOFFSETFROM:-0400
TZOFFSETTO:-0500
TZNAME:EST
DTSTART:20261101T060000
END:STANDARD
BEGIN:DAYLIGHT
TZOFFSETFROM:-0500
TZOFFSETTO:-0400
TZNAME:EDT
DTSTART:20270314T070000
END:DAYLIGHT
BEGIN:STANDARD
TZOFFSETFROM:-0400
TZOFFSETTO:-0500
TZNAME:EST
DTSTART:20271107T060000
END:STANDARD
END:VTIMEZONE
BEGIN:VEVENT
DTSTART;VALUE=DATE:20260125
DTEND;VALUE=DATE:20260126
DTSTAMP:20260424T122357
CREATED:20260118T164806Z
LAST-MODIFIED:20260118T164906Z
UID:10008868-1769299200-1769385599@www.gethsemane.org
SUMMARY:Sub Sandwich Sale
DESCRIPTION:Orders taken before and after worship on Jan. 18\, 25\, and Feb. 1. Proceeds benefit GLC Youth Activities! We have meat and veggie subs. You can buy subs for yourself and/or DONATE subs to Jacob’s Porch\, the Lutheran Campus Ministry across from The Ohio State University … with extra donated subs given to the GLC Food Pantry. Pay ($10/6” sub) when ordering with cash or check payable to “Gethsemane Lutheran Church” and pick up your subs after worship on Feb. 8 (Super Bowl Sunday).
URL:https://www.gethsemane.org/event/sub-sandwich-sale/2026-01-25/
LOCATION:Gethsemane Lutheran Church\, 35 E. Stanton Ave.\, Columbus\, OH\, 43214\, United States
CATEGORIES:Featured
ATTACH;FMTTYPE=image/webp:https://www.gethsemane.org/wp-content/uploads/2026/01/Sub-Sale-26.webp
END:VEVENT
BEGIN:VEVENT
DTSTART;TZID=America/New_York:20260124T140000
DTEND;TZID=America/New_York:20260124T160000
DTSTAMP:20260424T122358
CREATED:20250601T015246Z
LAST-MODIFIED:20250601T015246Z
UID:10007796-1769263200-1769270400@www.gethsemane.org
SUMMARY:Brass Lessons
DESCRIPTION:
URL:https://www.gethsemane.org/event/brass-lessons/2026-01-24/
LOCATION:Gethsemane Lutheran Church\, 35 E. Stanton Ave.\, Columbus\, OH\, 43214\, United States
END:VEVENT
BEGIN:VEVENT
DTSTART;TZID=America/New_York:20260124T110000
DTEND;TZID=America/New_York:20260124T140000
DTSTAMP:20260424T122358
CREATED:20240607T234910Z
LAST-MODIFIED:20241130T025448Z
UID:10000944-1769252400-1769263200@www.gethsemane.org
SUMMARY:IYK Choir
DESCRIPTION:
URL:https://www.gethsemane.org/event/iyk-choir/2026-01-24/
LOCATION:OH
END:VEVENT
BEGIN:VEVENT
DTSTART;TZID=America/New_York:20260124T090000
DTEND;TZID=America/New_York:20260124T223000
DTSTAMP:20260424T122358
CREATED:20251203T162123Z
LAST-MODIFIED:20260220T022613Z
UID:10008647-1769245200-1769293800@www.gethsemane.org
SUMMARY:Open Play Ages 0-5
DESCRIPTION:A fun\, safe space for little ones to play on a Saturday morning! Parents must stay. Bring you own snacks. Coffee and water provided \nPlease note: the Open Play on 2/21/2026 has been cancelled.
URL:https://www.gethsemane.org/event/open-play-ages-0-5/2026-01-24/
LOCATION:GLC – Great Hall\, 35 E Stanton Ave.\, Columbus\, OH\, 43214\, United States
CATEGORIES:Featured
ATTACH;FMTTYPE=image/webp:https://www.gethsemane.org/wp-content/uploads/2025/12/Open-Play.webp
END:VEVENT
BEGIN:VEVENT
DTSTART;TZID=America/New_York:20260124T090000
DTEND;TZID=America/New_York:20260124T140000
DTSTAMP:20260424T122358
CREATED:20241102T212906Z
LAST-MODIFIED:20241130T025415Z
UID:10000662-1769245200-1769263200@www.gethsemane.org
SUMMARY:Music Lessons
DESCRIPTION:
URL:https://www.gethsemane.org/event/music-lessons-7/2026-01-24/
LOCATION:Gethsemane Lutheran Church\, 35 E. Stanton Ave.\, Columbus\, OH\, 43214\, United States
END:VEVENT
END:VCALENDAR