BEGIN:VCALENDAR
VERSION:2.0
PRODID:-//Gethsemane Lutheran Church - ECPv6.15.20//NONSGML v1.0//EN
CALSCALE:GREGORIAN
METHOD:PUBLISH
X-WR-CALNAME:Gethsemane Lutheran Church
X-ORIGINAL-URL:https://www.gethsemane.org
X-WR-CALDESC:Events for Gethsemane Lutheran Church
REFRESH-INTERVAL;VALUE=DURATION:PT1H
X-Robots-Tag:noindex
X-PUBLISHED-TTL:PT1H
BEGIN:VTIMEZONE
TZID:America/New_York
BEGIN:DAYLIGHT
TZOFFSETFROM:-0500
TZOFFSETTO:-0400
TZNAME:EDT
DTSTART:20260308T070000
END:DAYLIGHT
BEGIN:STANDARD
TZOFFSETFROM:-0400
TZOFFSETTO:-0500
TZNAME:EST
DTSTART:20261101T060000
END:STANDARD
BEGIN:DAYLIGHT
TZOFFSETFROM:-0500
TZOFFSETTO:-0400
TZNAME:EDT
DTSTART:20270314T070000
END:DAYLIGHT
BEGIN:STANDARD
TZOFFSETFROM:-0400
TZOFFSETTO:-0500
TZNAME:EST
DTSTART:20271107T060000
END:STANDARD
BEGIN:DAYLIGHT
TZOFFSETFROM:-0500
TZOFFSETTO:-0400
TZNAME:EDT
DTSTART:20280312T070000
END:DAYLIGHT
BEGIN:STANDARD
TZOFFSETFROM:-0400
TZOFFSETTO:-0500
TZNAME:EST
DTSTART:20281105T060000
END:STANDARD
END:VTIMEZONE
BEGIN:VEVENT
DTSTART;TZID=America/New_York:20270201T080000
DTEND;TZID=America/New_York:20270201T090000
DTSTAMP:20260420T023741
CREATED:20250428T042234Z
LAST-MODIFIED:20250815T020331Z
UID:10001520-1801468800-1801472400@www.gethsemane.org
SUMMARY:Reflections
DESCRIPTION:
URL:https://www.gethsemane.org/event/reflections-3-2/2027-02-01/
LOCATION:GLC – Library\, 35 E. Stanton Ave.\, Columbus\, OH\, 43214\, United States
CATEGORIES:Featured
ATTACH;FMTTYPE=image/webp:https://www.gethsemane.org/wp-content/uploads/2025/07/Reflections-Bible-Study.webp
END:VEVENT
BEGIN:VEVENT
DTSTART;TZID=America/New_York:20270201T183000
DTEND;TZID=America/New_York:20270201T200000
DTSTAMP:20260420T023741
CREATED:20241102T214833Z
LAST-MODIFIED:20250815T020713Z
UID:10001691-1801506600-1801512000@www.gethsemane.org
SUMMARY:Play & Learn Committee
DESCRIPTION:
URL:https://www.gethsemane.org/event/play-learn-committee/2027-02-01/
LOCATION:GLC – Conference Room\, 35 E Stanton Ave.\, Columbus\, OH\, 43214\, United States
END:VEVENT
BEGIN:VEVENT
DTSTART;TZID=America/New_York:20270201T193000
DTEND;TZID=America/New_York:20270201T203000
DTSTAMP:20260420T023741
CREATED:20240406T200647Z
LAST-MODIFIED:20241102T215119Z
UID:10001870-1801510200-1801513800@www.gethsemane.org
SUMMARY:A.A. & Al Anon
DESCRIPTION:
URL:https://www.gethsemane.org/event/a-a-al-anon/2027-02-01/
LOCATION:Gethsemane Lutheran Church\, 35 E. Stanton Ave.\, Columbus\, OH\, 43214\, United States
END:VEVENT
BEGIN:VEVENT
DTSTART;TZID=America/New_York:20270202T160000
DTEND;TZID=America/New_York:20270202T210000
DTSTAMP:20260420T023741
CREATED:20241102T215439Z
LAST-MODIFIED:20241130T024606Z
UID:10002421-1801584000-1801602000@www.gethsemane.org
SUMMARY:Music Lessons
DESCRIPTION:
URL:https://www.gethsemane.org/event/music-lessons-8/2027-02-02/
LOCATION:Gethsemane Lutheran Church\, 35 E. Stanton Ave.\, Columbus\, OH\, 43214\, United States
END:VEVENT
BEGIN:VEVENT
DTSTART;TZID=America/New_York:20270203T110000
DTEND;TZID=America/New_York:20270203T190000
DTSTAMP:20260420T023741
CREATED:20241102T220011Z
LAST-MODIFIED:20251203T161038Z
UID:10002973-1801652400-1801681200@www.gethsemane.org
SUMMARY:Music Lessons
DESCRIPTION:
URL:https://www.gethsemane.org/event/music-lessons-9/2027-02-03/
LOCATION:Gethsemane Lutheran Church\, 35 E. Stanton Ave.\, Columbus\, OH\, 43214\, United States
END:VEVENT
BEGIN:VEVENT
DTSTART;TZID=America/New_York:20270203T160000
DTEND;TZID=America/New_York:20270203T180000
DTSTAMP:20260420T023741
CREATED:20241122T033247Z
LAST-MODIFIED:20260201T033446Z
UID:10005752-1801670400-1801677600@www.gethsemane.org
SUMMARY:Food Pantry
DESCRIPTION:
URL:https://www.gethsemane.org/event/food-pantry-2/2027-02-03/
LOCATION:Gethsemane Lutheran Church\, 35 E. Stanton Ave.\, Columbus\, OH\, 43214\, United States
END:VEVENT
BEGIN:VEVENT
DTSTART;TZID=America/New_York:20270204T140000
DTEND;TZID=America/New_York:20270204T150000
DTSTAMP:20260420T023741
CREATED:20241130T025125Z
LAST-MODIFIED:20251203T161301Z
UID:10006100-1801749600-1801753200@www.gethsemane.org
SUMMARY:Staff Meeting
DESCRIPTION:
URL:https://www.gethsemane.org/event/staff-meeting/2027-02-04/
LOCATION:GLC – Conference Room\, 35 E Stanton Ave.\, Columbus\, OH\, 43214\, United States
END:VEVENT
BEGIN:VEVENT
DTSTART;TZID=America/New_York:20270204T150000
DTEND;TZID=America/New_York:20270204T210000
DTSTAMP:20260420T023741
CREATED:20241102T220129Z
LAST-MODIFIED:20241102T224916Z
UID:10003234-1801753200-1801774800@www.gethsemane.org
SUMMARY:Music Lessons
DESCRIPTION:
URL:https://www.gethsemane.org/event/music-lessons-10/2027-02-04/
LOCATION:Gethsemane Lutheran Church\, 35 E. Stanton Ave.\, Columbus\, OH\, 43214\, United States
END:VEVENT
BEGIN:VEVENT
DTSTART;TZID=America/New_York:20270204T191500
DTEND;TZID=America/New_York:20270204T203000
DTSTAMP:20260420T023741
CREATED:20260103T133626Z
LAST-MODIFIED:20260311T152759Z
UID:10008818-1801768500-1801773000@www.gethsemane.org
SUMMARY:Vocal Choir
DESCRIPTION:
URL:https://www.gethsemane.org/event/vocal-choir/2027-02-04/
LOCATION:OH
END:VEVENT
BEGIN:VEVENT
DTSTART;TZID=America/New_York:20270205T160000
DTEND;TZID=America/New_York:20270205T170000
DTSTAMP:20260420T023741
CREATED:20241102T212638Z
LAST-MODIFIED:20250627T025236Z
UID:10004366-1801843200-1801846800@www.gethsemane.org
SUMMARY:Piano Practice
DESCRIPTION:
URL:https://www.gethsemane.org/event/piano-practice-3/2027-02-05/
LOCATION:GLC – Sanctuary\, 35 E Stanton Ave\, Columbus\, OH\, 43214\, United States
END:VEVENT
BEGIN:VEVENT
DTSTART;TZID=America/New_York:20270206T090000
DTEND;TZID=America/New_York:20270206T140000
DTSTAMP:20260420T023741
CREATED:20241102T212906Z
LAST-MODIFIED:20241130T025415Z
UID:10000716-1801904400-1801922400@www.gethsemane.org
SUMMARY:Music Lessons
DESCRIPTION:
URL:https://www.gethsemane.org/event/music-lessons-7/2027-02-06/
LOCATION:Gethsemane Lutheran Church\, 35 E. Stanton Ave.\, Columbus\, OH\, 43214\, United States
END:VEVENT
BEGIN:VEVENT
DTSTART;TZID=America/New_York:20270206T110000
DTEND;TZID=America/New_York:20270206T140000
DTSTAMP:20260420T023741
CREATED:20240607T234910Z
LAST-MODIFIED:20241130T025448Z
UID:10000998-1801911600-1801922400@www.gethsemane.org
SUMMARY:IYK Choir
DESCRIPTION:
URL:https://www.gethsemane.org/event/iyk-choir/2027-02-06/
LOCATION:OH
END:VEVENT
BEGIN:VEVENT
DTSTART;TZID=America/New_York:20270207T130000
DTEND;TZID=America/New_York:20270207T150000
DTSTAMP:20260420T023741
CREATED:20241102T214108Z
LAST-MODIFIED:20250325T022544Z
UID:10001260-1802005200-1802012400@www.gethsemane.org
SUMMARY:IYK Worship
DESCRIPTION:
URL:https://www.gethsemane.org/event/iyk-worship/2027-02-07/
LOCATION:GLC – Sanctuary\, 35 E Stanton Ave\, Columbus\, OH\, 43214\, United States
END:VEVENT
BEGIN:VEVENT
DTSTART;TZID=America/New_York:20270208T080000
DTEND;TZID=America/New_York:20270208T090000
DTSTAMP:20260420T023741
CREATED:20250428T042234Z
LAST-MODIFIED:20250815T020331Z
UID:10001521-1802073600-1802077200@www.gethsemane.org
SUMMARY:Reflections
DESCRIPTION:
URL:https://www.gethsemane.org/event/reflections-3-2/2027-02-08/
LOCATION:GLC – Library\, 35 E. Stanton Ave.\, Columbus\, OH\, 43214\, United States
CATEGORIES:Featured
ATTACH;FMTTYPE=image/webp:https://www.gethsemane.org/wp-content/uploads/2025/07/Reflections-Bible-Study.webp
END:VEVENT
BEGIN:VEVENT
DTSTART;TZID=America/New_York:20270208T193000
DTEND;TZID=America/New_York:20270208T203000
DTSTAMP:20260420T023741
CREATED:20240406T200647Z
LAST-MODIFIED:20241102T215119Z
UID:10001871-1802115000-1802118600@www.gethsemane.org
SUMMARY:A.A. & Al Anon
DESCRIPTION:
URL:https://www.gethsemane.org/event/a-a-al-anon/2027-02-08/
LOCATION:Gethsemane Lutheran Church\, 35 E. Stanton Ave.\, Columbus\, OH\, 43214\, United States
END:VEVENT
BEGIN:VEVENT
DTSTART;TZID=America/New_York:20270209T160000
DTEND;TZID=America/New_York:20270209T210000
DTSTAMP:20260420T023741
CREATED:20241102T215439Z
LAST-MODIFIED:20241130T024606Z
UID:10002422-1802188800-1802206800@www.gethsemane.org
SUMMARY:Music Lessons
DESCRIPTION:
URL:https://www.gethsemane.org/event/music-lessons-8/2027-02-09/
LOCATION:Gethsemane Lutheran Church\, 35 E. Stanton Ave.\, Columbus\, OH\, 43214\, United States
END:VEVENT
BEGIN:VEVENT
DTSTART;TZID=America/New_York:20270210T110000
DTEND;TZID=America/New_York:20270210T190000
DTSTAMP:20260420T023741
CREATED:20241102T220011Z
LAST-MODIFIED:20251203T161038Z
UID:10002974-1802257200-1802286000@www.gethsemane.org
SUMMARY:Music Lessons
DESCRIPTION:
URL:https://www.gethsemane.org/event/music-lessons-9/2027-02-10/
LOCATION:Gethsemane Lutheran Church\, 35 E. Stanton Ave.\, Columbus\, OH\, 43214\, United States
END:VEVENT
BEGIN:VEVENT
DTSTART;TZID=America/New_York:20270210T160000
DTEND;TZID=America/New_York:20270210T180000
DTSTAMP:20260420T023741
CREATED:20241122T033247Z
LAST-MODIFIED:20260201T033446Z
UID:10005753-1802275200-1802282400@www.gethsemane.org
SUMMARY:Food Pantry
DESCRIPTION:
URL:https://www.gethsemane.org/event/food-pantry-2/2027-02-10/
LOCATION:Gethsemane Lutheran Church\, 35 E. Stanton Ave.\, Columbus\, OH\, 43214\, United States
END:VEVENT
BEGIN:VEVENT
DTSTART;TZID=America/New_York:20270211T140000
DTEND;TZID=America/New_York:20270211T150000
DTSTAMP:20260420T023741
CREATED:20241130T025125Z
LAST-MODIFIED:20251203T161301Z
UID:10006101-1802354400-1802358000@www.gethsemane.org
SUMMARY:Staff Meeting
DESCRIPTION:
URL:https://www.gethsemane.org/event/staff-meeting/2027-02-11/
LOCATION:GLC – Conference Room\, 35 E Stanton Ave.\, Columbus\, OH\, 43214\, United States
END:VEVENT
BEGIN:VEVENT
DTSTART;TZID=America/New_York:20270211T150000
DTEND;TZID=America/New_York:20270211T210000
DTSTAMP:20260420T023741
CREATED:20241102T220129Z
LAST-MODIFIED:20241102T224916Z
UID:10003235-1802358000-1802379600@www.gethsemane.org
SUMMARY:Music Lessons
DESCRIPTION:
URL:https://www.gethsemane.org/event/music-lessons-10/2027-02-11/
LOCATION:Gethsemane Lutheran Church\, 35 E. Stanton Ave.\, Columbus\, OH\, 43214\, United States
END:VEVENT
BEGIN:VEVENT
DTSTART;TZID=America/New_York:20270211T191500
DTEND;TZID=America/New_York:20270211T203000
DTSTAMP:20260420T023741
CREATED:20260103T133626Z
LAST-MODIFIED:20260311T152759Z
UID:10008819-1802373300-1802377800@www.gethsemane.org
SUMMARY:Vocal Choir
DESCRIPTION:
URL:https://www.gethsemane.org/event/vocal-choir/2027-02-11/
LOCATION:OH
END:VEVENT
BEGIN:VEVENT
DTSTART;TZID=America/New_York:20270212T160000
DTEND;TZID=America/New_York:20270212T170000
DTSTAMP:20260420T023741
CREATED:20241102T212638Z
LAST-MODIFIED:20250627T025236Z
UID:10004367-1802448000-1802451600@www.gethsemane.org
SUMMARY:Piano Practice
DESCRIPTION:
URL:https://www.gethsemane.org/event/piano-practice-3/2027-02-12/
LOCATION:GLC – Sanctuary\, 35 E Stanton Ave\, Columbus\, OH\, 43214\, United States
END:VEVENT
BEGIN:VEVENT
DTSTART;TZID=America/New_York:20270213T090000
DTEND;TZID=America/New_York:20270213T140000
DTSTAMP:20260420T023741
CREATED:20241102T212906Z
LAST-MODIFIED:20241130T025415Z
UID:10000717-1802509200-1802527200@www.gethsemane.org
SUMMARY:Music Lessons
DESCRIPTION:
URL:https://www.gethsemane.org/event/music-lessons-7/2027-02-13/
LOCATION:Gethsemane Lutheran Church\, 35 E. Stanton Ave.\, Columbus\, OH\, 43214\, United States
END:VEVENT
BEGIN:VEVENT
DTSTART;TZID=America/New_York:20270213T110000
DTEND;TZID=America/New_York:20270213T140000
DTSTAMP:20260420T023741
CREATED:20240607T234910Z
LAST-MODIFIED:20241130T025448Z
UID:10000999-1802516400-1802527200@www.gethsemane.org
SUMMARY:IYK Choir
DESCRIPTION:
URL:https://www.gethsemane.org/event/iyk-choir/2027-02-13/
LOCATION:OH
END:VEVENT
BEGIN:VEVENT
DTSTART;TZID=America/New_York:20270214T130000
DTEND;TZID=America/New_York:20270214T150000
DTSTAMP:20260420T023741
CREATED:20241102T214108Z
LAST-MODIFIED:20250325T022544Z
UID:10001261-1802610000-1802617200@www.gethsemane.org
SUMMARY:IYK Worship
DESCRIPTION:
URL:https://www.gethsemane.org/event/iyk-worship/2027-02-14/
LOCATION:GLC – Sanctuary\, 35 E Stanton Ave\, Columbus\, OH\, 43214\, United States
END:VEVENT
BEGIN:VEVENT
DTSTART;TZID=America/New_York:20270215T080000
DTEND;TZID=America/New_York:20270215T090000
DTSTAMP:20260420T023741
CREATED:20250428T042234Z
LAST-MODIFIED:20250815T020331Z
UID:10001522-1802678400-1802682000@www.gethsemane.org
SUMMARY:Reflections
DESCRIPTION:
URL:https://www.gethsemane.org/event/reflections-3-2/2027-02-15/
LOCATION:GLC – Library\, 35 E. Stanton Ave.\, Columbus\, OH\, 43214\, United States
CATEGORIES:Featured
ATTACH;FMTTYPE=image/webp:https://www.gethsemane.org/wp-content/uploads/2025/07/Reflections-Bible-Study.webp
END:VEVENT
BEGIN:VEVENT
DTSTART;TZID=America/New_York:20270215T190000
DTEND;TZID=America/New_York:20270215T203000
DTSTAMP:20260420T023741
CREATED:20241102T223834Z
LAST-MODIFIED:20250727T115514Z
UID:10004671-1802718000-1802723400@www.gethsemane.org
SUMMARY:Congregational Council
DESCRIPTION:
URL:https://www.gethsemane.org/event/congregational-council/2027-02-15/
LOCATION:GLC – Conference Room\, 35 E Stanton Ave.\, Columbus\, OH\, 43214\, United States
END:VEVENT
BEGIN:VEVENT
DTSTART;TZID=America/New_York:20270215T193000
DTEND;TZID=America/New_York:20270215T203000
DTSTAMP:20260420T023741
CREATED:20240406T200647Z
LAST-MODIFIED:20241102T215119Z
UID:10001872-1802719800-1802723400@www.gethsemane.org
SUMMARY:A.A. & Al Anon
DESCRIPTION:
URL:https://www.gethsemane.org/event/a-a-al-anon/2027-02-15/
LOCATION:Gethsemane Lutheran Church\, 35 E. Stanton Ave.\, Columbus\, OH\, 43214\, United States
END:VEVENT
BEGIN:VEVENT
DTSTART;TZID=America/New_York:20270216T160000
DTEND;TZID=America/New_York:20270216T210000
DTSTAMP:20260420T023741
CREATED:20241102T215439Z
LAST-MODIFIED:20241130T024606Z
UID:10002423-1802793600-1802811600@www.gethsemane.org
SUMMARY:Music Lessons
DESCRIPTION:
URL:https://www.gethsemane.org/event/music-lessons-8/2027-02-16/
LOCATION:Gethsemane Lutheran Church\, 35 E. Stanton Ave.\, Columbus\, OH\, 43214\, United States
END:VEVENT
BEGIN:VEVENT
DTSTART;TZID=America/New_York:20270217T110000
DTEND;TZID=America/New_York:20270217T190000
DTSTAMP:20260420T023741
CREATED:20241102T220011Z
LAST-MODIFIED:20251203T161038Z
UID:10002975-1802862000-1802890800@www.gethsemane.org
SUMMARY:Music Lessons
DESCRIPTION:
URL:https://www.gethsemane.org/event/music-lessons-9/2027-02-17/
LOCATION:Gethsemane Lutheran Church\, 35 E. Stanton Ave.\, Columbus\, OH\, 43214\, United States
END:VEVENT
END:VCALENDAR