BEGIN:VCALENDAR
VERSION:2.0
PRODID:-//Gethsemane Lutheran Church - ECPv6.15.20//NONSGML v1.0//EN
CALSCALE:GREGORIAN
METHOD:PUBLISH
X-WR-CALNAME:Gethsemane Lutheran Church
X-ORIGINAL-URL:https://www.gethsemane.org
X-WR-CALDESC:Events for Gethsemane Lutheran Church
REFRESH-INTERVAL;VALUE=DURATION:PT1H
X-Robots-Tag:noindex
X-PUBLISHED-TTL:PT1H
BEGIN:VTIMEZONE
TZID:America/New_York
BEGIN:DAYLIGHT
TZOFFSETFROM:-0500
TZOFFSETTO:-0400
TZNAME:EDT
DTSTART:20250309T070000
END:DAYLIGHT
BEGIN:STANDARD
TZOFFSETFROM:-0400
TZOFFSETTO:-0500
TZNAME:EST
DTSTART:20251102T060000
END:STANDARD
BEGIN:DAYLIGHT
TZOFFSETFROM:-0500
TZOFFSETTO:-0400
TZNAME:EDT
DTSTART:20260308T070000
END:DAYLIGHT
BEGIN:STANDARD
TZOFFSETFROM:-0400
TZOFFSETTO:-0500
TZNAME:EST
DTSTART:20261101T060000
END:STANDARD
BEGIN:DAYLIGHT
TZOFFSETFROM:-0500
TZOFFSETTO:-0400
TZNAME:EDT
DTSTART:20270314T070000
END:DAYLIGHT
BEGIN:STANDARD
TZOFFSETFROM:-0400
TZOFFSETTO:-0500
TZNAME:EST
DTSTART:20271107T060000
END:STANDARD
END:VTIMEZONE
BEGIN:VEVENT
DTSTART;TZID=America/New_York:20260208T160000
DTEND;TZID=America/New_York:20260208T173000
DTSTAMP:20260420T233558
CREATED:20260128T041254Z
LAST-MODIFIED:20260128T041301Z
UID:10008885-1770566400-1770571800@www.gethsemane.org
SUMMARY:GLC Lecture Series - Weird and Sacred: Reading the Bible in the Modern Age
DESCRIPTION:Join us February 8\, 2026 as we explore some of the strange\, troubling\, and difficult stories in the Bible and discuss faithful ways of reading them for our time. Together we will practice what Womanist biblical scholar Renita Weems calls “re-reading for liberation”\, learning how curiosity\, honesty\, and justice can open new possibilities for meaning. The bible may be weird\, but that doesn’t mean we have to toss it out. Instead\, we can explore how wrestling with scripture can inspire hope\, empathy\, and a yearning for justice in the world today.
URL:https://www.gethsemane.org/event/glc-lecture-series-weird-and-sacred-reading-the-bible-in-the-modern-age/
LOCATION:GLC – Sanctuary\, 35 E Stanton Ave\, Columbus\, OH\, 43214\, United States
CATEGORIES:Featured
ATTACH;FMTTYPE=image/webp:https://www.gethsemane.org/wp-content/uploads/2026/01/Lecture-Series.webp
END:VEVENT
END:VCALENDAR