BEGIN:VCALENDAR
VERSION:2.0
PRODID:-//Gethsemane Lutheran Church - ECPv6.15.20//NONSGML v1.0//EN
CALSCALE:GREGORIAN
METHOD:PUBLISH
X-ORIGINAL-URL:https://www.gethsemane.org
X-WR-CALDESC:Events for Gethsemane Lutheran Church
REFRESH-INTERVAL;VALUE=DURATION:PT1H
X-Robots-Tag:noindex
X-PUBLISHED-TTL:PT1H
BEGIN:VTIMEZONE
TZID:America/New_York
BEGIN:DAYLIGHT
TZOFFSETFROM:-0500
TZOFFSETTO:-0400
TZNAME:EDT
DTSTART:20280312T070000
END:DAYLIGHT
BEGIN:STANDARD
TZOFFSETFROM:-0400
TZOFFSETTO:-0500
TZNAME:EST
DTSTART:20281105T060000
END:STANDARD
BEGIN:DAYLIGHT
TZOFFSETFROM:-0500
TZOFFSETTO:-0400
TZNAME:EDT
DTSTART:20290311T070000
END:DAYLIGHT
BEGIN:STANDARD
TZOFFSETFROM:-0400
TZOFFSETTO:-0500
TZNAME:EST
DTSTART:20291104T060000
END:STANDARD
BEGIN:DAYLIGHT
TZOFFSETFROM:-0500
TZOFFSETTO:-0400
TZNAME:EDT
DTSTART:20300310T070000
END:DAYLIGHT
BEGIN:STANDARD
TZOFFSETFROM:-0400
TZOFFSETTO:-0500
TZNAME:EST
DTSTART:20301103T060000
END:STANDARD
END:VTIMEZONE
BEGIN:VEVENT
DTSTART;TZID=America/New_York:20290628T140000
DTEND;TZID=America/New_York:20290628T150000
DTSTAMP:20260425T191952
CREATED:20241130T025125Z
LAST-MODIFIED:20251203T161301Z
UID:10006225-1877349600-1877353200@www.gethsemane.org
SUMMARY:Staff Meeting
DESCRIPTION:
URL:https://www.gethsemane.org/event/staff-meeting/2029-06-28/
LOCATION:GLC – Conference Room\, 35 E Stanton Ave.\, Columbus\, OH\, 43214\, United States
END:VEVENT
BEGIN:VEVENT
DTSTART;TZID=America/New_York:20290704T160000
DTEND;TZID=America/New_York:20290704T180000
DTSTAMP:20260425T191952
CREATED:20241122T033247Z
LAST-MODIFIED:20260201T033446Z
UID:10005878-1877875200-1877882400@www.gethsemane.org
SUMMARY:Food Pantry
DESCRIPTION:
URL:https://www.gethsemane.org/event/food-pantry-2/2029-07-04/
LOCATION:Gethsemane Lutheran Church\, 35 E. Stanton Ave.\, Columbus\, OH\, 43214\, United States
END:VEVENT
BEGIN:VEVENT
DTSTART;TZID=America/New_York:20290705T140000
DTEND;TZID=America/New_York:20290705T150000
DTSTAMP:20260425T191952
CREATED:20241130T025125Z
LAST-MODIFIED:20251203T161301Z
UID:10006226-1877954400-1877958000@www.gethsemane.org
SUMMARY:Staff Meeting
DESCRIPTION:
URL:https://www.gethsemane.org/event/staff-meeting/2029-07-05/
LOCATION:GLC – Conference Room\, 35 E Stanton Ave.\, Columbus\, OH\, 43214\, United States
END:VEVENT
BEGIN:VEVENT
DTSTART;TZID=America/New_York:20290711T160000
DTEND;TZID=America/New_York:20290711T180000
DTSTAMP:20260425T191952
CREATED:20241122T033247Z
LAST-MODIFIED:20260201T033446Z
UID:10005879-1878480000-1878487200@www.gethsemane.org
SUMMARY:Food Pantry
DESCRIPTION:
URL:https://www.gethsemane.org/event/food-pantry-2/2029-07-11/
LOCATION:Gethsemane Lutheran Church\, 35 E. Stanton Ave.\, Columbus\, OH\, 43214\, United States
END:VEVENT
BEGIN:VEVENT
DTSTART;TZID=America/New_York:20290712T140000
DTEND;TZID=America/New_York:20290712T150000
DTSTAMP:20260425T191952
CREATED:20241130T025125Z
LAST-MODIFIED:20251203T161301Z
UID:10006227-1878559200-1878562800@www.gethsemane.org
SUMMARY:Staff Meeting
DESCRIPTION:
URL:https://www.gethsemane.org/event/staff-meeting/2029-07-12/
LOCATION:GLC – Conference Room\, 35 E Stanton Ave.\, Columbus\, OH\, 43214\, United States
END:VEVENT
BEGIN:VEVENT
DTSTART;TZID=America/New_York:20290718T160000
DTEND;TZID=America/New_York:20290718T180000
DTSTAMP:20260425T191952
CREATED:20241122T033247Z
LAST-MODIFIED:20260201T033446Z
UID:10005880-1879084800-1879092000@www.gethsemane.org
SUMMARY:Food Pantry
DESCRIPTION:
URL:https://www.gethsemane.org/event/food-pantry-2/2029-07-18/
LOCATION:Gethsemane Lutheran Church\, 35 E. Stanton Ave.\, Columbus\, OH\, 43214\, United States
END:VEVENT
BEGIN:VEVENT
DTSTART;TZID=America/New_York:20290719T140000
DTEND;TZID=America/New_York:20290719T150000
DTSTAMP:20260425T191952
CREATED:20241130T025125Z
LAST-MODIFIED:20251203T161301Z
UID:10006228-1879164000-1879167600@www.gethsemane.org
SUMMARY:Staff Meeting
DESCRIPTION:
URL:https://www.gethsemane.org/event/staff-meeting/2029-07-19/
LOCATION:GLC – Conference Room\, 35 E Stanton Ave.\, Columbus\, OH\, 43214\, United States
END:VEVENT
BEGIN:VEVENT
DTSTART;TZID=America/New_York:20290725T160000
DTEND;TZID=America/New_York:20290725T180000
DTSTAMP:20260425T191952
CREATED:20241122T033247Z
LAST-MODIFIED:20260201T033446Z
UID:10005881-1879689600-1879696800@www.gethsemane.org
SUMMARY:Food Pantry
DESCRIPTION:
URL:https://www.gethsemane.org/event/food-pantry-2/2029-07-25/
LOCATION:Gethsemane Lutheran Church\, 35 E. Stanton Ave.\, Columbus\, OH\, 43214\, United States
END:VEVENT
BEGIN:VEVENT
DTSTART;TZID=America/New_York:20290726T140000
DTEND;TZID=America/New_York:20290726T150000
DTSTAMP:20260425T191952
CREATED:20241130T025125Z
LAST-MODIFIED:20251203T161301Z
UID:10006229-1879768800-1879772400@www.gethsemane.org
SUMMARY:Staff Meeting
DESCRIPTION:
URL:https://www.gethsemane.org/event/staff-meeting/2029-07-26/
LOCATION:GLC – Conference Room\, 35 E Stanton Ave.\, Columbus\, OH\, 43214\, United States
END:VEVENT
BEGIN:VEVENT
DTSTART;TZID=America/New_York:20290801T160000
DTEND;TZID=America/New_York:20290801T180000
DTSTAMP:20260425T191952
CREATED:20241122T033247Z
LAST-MODIFIED:20260201T033446Z
UID:10005882-1880294400-1880301600@www.gethsemane.org
SUMMARY:Food Pantry
DESCRIPTION:
URL:https://www.gethsemane.org/event/food-pantry-2/2029-08-01/
LOCATION:Gethsemane Lutheran Church\, 35 E. Stanton Ave.\, Columbus\, OH\, 43214\, United States
END:VEVENT
BEGIN:VEVENT
DTSTART;TZID=America/New_York:20290802T140000
DTEND;TZID=America/New_York:20290802T150000
DTSTAMP:20260425T191952
CREATED:20241130T025125Z
LAST-MODIFIED:20251203T161301Z
UID:10006230-1880373600-1880377200@www.gethsemane.org
SUMMARY:Staff Meeting
DESCRIPTION:
URL:https://www.gethsemane.org/event/staff-meeting/2029-08-02/
LOCATION:GLC – Conference Room\, 35 E Stanton Ave.\, Columbus\, OH\, 43214\, United States
END:VEVENT
BEGIN:VEVENT
DTSTART;TZID=America/New_York:20290808T160000
DTEND;TZID=America/New_York:20290808T180000
DTSTAMP:20260425T191952
CREATED:20241122T033247Z
LAST-MODIFIED:20260201T033446Z
UID:10005883-1880899200-1880906400@www.gethsemane.org
SUMMARY:Food Pantry
DESCRIPTION:
URL:https://www.gethsemane.org/event/food-pantry-2/2029-08-08/
LOCATION:Gethsemane Lutheran Church\, 35 E. Stanton Ave.\, Columbus\, OH\, 43214\, United States
END:VEVENT
BEGIN:VEVENT
DTSTART;TZID=America/New_York:20290809T140000
DTEND;TZID=America/New_York:20290809T150000
DTSTAMP:20260425T191952
CREATED:20241130T025125Z
LAST-MODIFIED:20251203T161301Z
UID:10006231-1880978400-1880982000@www.gethsemane.org
SUMMARY:Staff Meeting
DESCRIPTION:
URL:https://www.gethsemane.org/event/staff-meeting/2029-08-09/
LOCATION:GLC – Conference Room\, 35 E Stanton Ave.\, Columbus\, OH\, 43214\, United States
END:VEVENT
BEGIN:VEVENT
DTSTART;TZID=America/New_York:20290815T160000
DTEND;TZID=America/New_York:20290815T180000
DTSTAMP:20260425T191952
CREATED:20241122T033247Z
LAST-MODIFIED:20260201T033446Z
UID:10005884-1881504000-1881511200@www.gethsemane.org
SUMMARY:Food Pantry
DESCRIPTION:
URL:https://www.gethsemane.org/event/food-pantry-2/2029-08-15/
LOCATION:Gethsemane Lutheran Church\, 35 E. Stanton Ave.\, Columbus\, OH\, 43214\, United States
END:VEVENT
BEGIN:VEVENT
DTSTART;TZID=America/New_York:20290816T140000
DTEND;TZID=America/New_York:20290816T150000
DTSTAMP:20260425T191952
CREATED:20241130T025125Z
LAST-MODIFIED:20251203T161301Z
UID:10006232-1881583200-1881586800@www.gethsemane.org
SUMMARY:Staff Meeting
DESCRIPTION:
URL:https://www.gethsemane.org/event/staff-meeting/2029-08-16/
LOCATION:GLC – Conference Room\, 35 E Stanton Ave.\, Columbus\, OH\, 43214\, United States
END:VEVENT
BEGIN:VEVENT
DTSTART;TZID=America/New_York:20290822T160000
DTEND;TZID=America/New_York:20290822T180000
DTSTAMP:20260425T191952
CREATED:20241122T033247Z
LAST-MODIFIED:20260201T033446Z
UID:10005885-1882108800-1882116000@www.gethsemane.org
SUMMARY:Food Pantry
DESCRIPTION:
URL:https://www.gethsemane.org/event/food-pantry-2/2029-08-22/
LOCATION:Gethsemane Lutheran Church\, 35 E. Stanton Ave.\, Columbus\, OH\, 43214\, United States
END:VEVENT
BEGIN:VEVENT
DTSTART;TZID=America/New_York:20290823T140000
DTEND;TZID=America/New_York:20290823T150000
DTSTAMP:20260425T191952
CREATED:20241130T025125Z
LAST-MODIFIED:20251203T161301Z
UID:10006233-1882188000-1882191600@www.gethsemane.org
SUMMARY:Staff Meeting
DESCRIPTION:
URL:https://www.gethsemane.org/event/staff-meeting/2029-08-23/
LOCATION:GLC – Conference Room\, 35 E Stanton Ave.\, Columbus\, OH\, 43214\, United States
END:VEVENT
BEGIN:VEVENT
DTSTART;TZID=America/New_York:20290829T160000
DTEND;TZID=America/New_York:20290829T180000
DTSTAMP:20260425T191952
CREATED:20241122T033247Z
LAST-MODIFIED:20260201T033446Z
UID:10005886-1882713600-1882720800@www.gethsemane.org
SUMMARY:Food Pantry
DESCRIPTION:
URL:https://www.gethsemane.org/event/food-pantry-2/2029-08-29/
LOCATION:Gethsemane Lutheran Church\, 35 E. Stanton Ave.\, Columbus\, OH\, 43214\, United States
END:VEVENT
BEGIN:VEVENT
DTSTART;TZID=America/New_York:20290830T140000
DTEND;TZID=America/New_York:20290830T150000
DTSTAMP:20260425T191952
CREATED:20241130T025125Z
LAST-MODIFIED:20251203T161301Z
UID:10006234-1882792800-1882796400@www.gethsemane.org
SUMMARY:Staff Meeting
DESCRIPTION:
URL:https://www.gethsemane.org/event/staff-meeting/2029-08-30/
LOCATION:GLC – Conference Room\, 35 E Stanton Ave.\, Columbus\, OH\, 43214\, United States
END:VEVENT
BEGIN:VEVENT
DTSTART;TZID=America/New_York:20290905T160000
DTEND;TZID=America/New_York:20290905T180000
DTSTAMP:20260425T191952
CREATED:20241122T033247Z
LAST-MODIFIED:20260201T033446Z
UID:10005887-1883318400-1883325600@www.gethsemane.org
SUMMARY:Food Pantry
DESCRIPTION:
URL:https://www.gethsemane.org/event/food-pantry-2/2029-09-05/
LOCATION:Gethsemane Lutheran Church\, 35 E. Stanton Ave.\, Columbus\, OH\, 43214\, United States
END:VEVENT
BEGIN:VEVENT
DTSTART;TZID=America/New_York:20290906T140000
DTEND;TZID=America/New_York:20290906T150000
DTSTAMP:20260425T191952
CREATED:20241130T025125Z
LAST-MODIFIED:20251203T161301Z
UID:10006235-1883397600-1883401200@www.gethsemane.org
SUMMARY:Staff Meeting
DESCRIPTION:
URL:https://www.gethsemane.org/event/staff-meeting/2029-09-06/
LOCATION:GLC – Conference Room\, 35 E Stanton Ave.\, Columbus\, OH\, 43214\, United States
END:VEVENT
BEGIN:VEVENT
DTSTART;TZID=America/New_York:20290912T160000
DTEND;TZID=America/New_York:20290912T180000
DTSTAMP:20260425T191952
CREATED:20241122T033247Z
LAST-MODIFIED:20260201T033446Z
UID:10005888-1883923200-1883930400@www.gethsemane.org
SUMMARY:Food Pantry
DESCRIPTION:
URL:https://www.gethsemane.org/event/food-pantry-2/2029-09-12/
LOCATION:Gethsemane Lutheran Church\, 35 E. Stanton Ave.\, Columbus\, OH\, 43214\, United States
END:VEVENT
BEGIN:VEVENT
DTSTART;TZID=America/New_York:20290913T140000
DTEND;TZID=America/New_York:20290913T150000
DTSTAMP:20260425T191952
CREATED:20241130T025125Z
LAST-MODIFIED:20251203T161301Z
UID:10006236-1884002400-1884006000@www.gethsemane.org
SUMMARY:Staff Meeting
DESCRIPTION:
URL:https://www.gethsemane.org/event/staff-meeting/2029-09-13/
LOCATION:GLC – Conference Room\, 35 E Stanton Ave.\, Columbus\, OH\, 43214\, United States
END:VEVENT
BEGIN:VEVENT
DTSTART;TZID=America/New_York:20290919T160000
DTEND;TZID=America/New_York:20290919T180000
DTSTAMP:20260425T191952
CREATED:20241122T033247Z
LAST-MODIFIED:20260201T033446Z
UID:10005889-1884528000-1884535200@www.gethsemane.org
SUMMARY:Food Pantry
DESCRIPTION:
URL:https://www.gethsemane.org/event/food-pantry-2/2029-09-19/
LOCATION:Gethsemane Lutheran Church\, 35 E. Stanton Ave.\, Columbus\, OH\, 43214\, United States
END:VEVENT
BEGIN:VEVENT
DTSTART;TZID=America/New_York:20290920T140000
DTEND;TZID=America/New_York:20290920T150000
DTSTAMP:20260425T191952
CREATED:20241130T025125Z
LAST-MODIFIED:20251203T161301Z
UID:10006237-1884607200-1884610800@www.gethsemane.org
SUMMARY:Staff Meeting
DESCRIPTION:
URL:https://www.gethsemane.org/event/staff-meeting/2029-09-20/
LOCATION:GLC – Conference Room\, 35 E Stanton Ave.\, Columbus\, OH\, 43214\, United States
END:VEVENT
BEGIN:VEVENT
DTSTART;TZID=America/New_York:20290926T160000
DTEND;TZID=America/New_York:20290926T180000
DTSTAMP:20260425T191952
CREATED:20241122T033247Z
LAST-MODIFIED:20260201T033446Z
UID:10005890-1885132800-1885140000@www.gethsemane.org
SUMMARY:Food Pantry
DESCRIPTION:
URL:https://www.gethsemane.org/event/food-pantry-2/2029-09-26/
LOCATION:Gethsemane Lutheran Church\, 35 E. Stanton Ave.\, Columbus\, OH\, 43214\, United States
END:VEVENT
BEGIN:VEVENT
DTSTART;TZID=America/New_York:20290927T140000
DTEND;TZID=America/New_York:20290927T150000
DTSTAMP:20260425T191952
CREATED:20241130T025125Z
LAST-MODIFIED:20251203T161301Z
UID:10006238-1885212000-1885215600@www.gethsemane.org
SUMMARY:Staff Meeting
DESCRIPTION:
URL:https://www.gethsemane.org/event/staff-meeting/2029-09-27/
LOCATION:GLC – Conference Room\, 35 E Stanton Ave.\, Columbus\, OH\, 43214\, United States
END:VEVENT
BEGIN:VEVENT
DTSTART;TZID=America/New_York:20291003T160000
DTEND;TZID=America/New_York:20291003T180000
DTSTAMP:20260425T191952
CREATED:20241122T033247Z
LAST-MODIFIED:20260201T033446Z
UID:10005891-1885737600-1885744800@www.gethsemane.org
SUMMARY:Food Pantry
DESCRIPTION:
URL:https://www.gethsemane.org/event/food-pantry-2/2029-10-03/
LOCATION:Gethsemane Lutheran Church\, 35 E. Stanton Ave.\, Columbus\, OH\, 43214\, United States
END:VEVENT
BEGIN:VEVENT
DTSTART;TZID=America/New_York:20291004T140000
DTEND;TZID=America/New_York:20291004T150000
DTSTAMP:20260425T191952
CREATED:20241130T025125Z
LAST-MODIFIED:20251203T161301Z
UID:10006239-1885816800-1885820400@www.gethsemane.org
SUMMARY:Staff Meeting
DESCRIPTION:
URL:https://www.gethsemane.org/event/staff-meeting/2029-10-04/
LOCATION:GLC – Conference Room\, 35 E Stanton Ave.\, Columbus\, OH\, 43214\, United States
END:VEVENT
BEGIN:VEVENT
DTSTART;TZID=America/New_York:20291010T160000
DTEND;TZID=America/New_York:20291010T180000
DTSTAMP:20260425T191952
CREATED:20241122T033247Z
LAST-MODIFIED:20260201T033446Z
UID:10005892-1886342400-1886349600@www.gethsemane.org
SUMMARY:Food Pantry
DESCRIPTION:
URL:https://www.gethsemane.org/event/food-pantry-2/2029-10-10/
LOCATION:Gethsemane Lutheran Church\, 35 E. Stanton Ave.\, Columbus\, OH\, 43214\, United States
END:VEVENT
END:VCALENDAR