BEGIN:VCALENDAR
VERSION:2.0
PRODID:-//Gethsemane Lutheran Church - ECPv6.15.20//NONSGML v1.0//EN
CALSCALE:GREGORIAN
METHOD:PUBLISH
X-WR-CALNAME:Gethsemane Lutheran Church
X-ORIGINAL-URL:https://www.gethsemane.org
X-WR-CALDESC:Events for Gethsemane Lutheran Church
REFRESH-INTERVAL;VALUE=DURATION:PT1H
X-Robots-Tag:noindex
X-PUBLISHED-TTL:PT1H
BEGIN:VTIMEZONE
TZID:America/New_York
BEGIN:DAYLIGHT
TZOFFSETFROM:-0500
TZOFFSETTO:-0400
TZNAME:EDT
DTSTART:20280312T070000
END:DAYLIGHT
BEGIN:STANDARD
TZOFFSETFROM:-0400
TZOFFSETTO:-0500
TZNAME:EST
DTSTART:20281105T060000
END:STANDARD
BEGIN:DAYLIGHT
TZOFFSETFROM:-0500
TZOFFSETTO:-0400
TZNAME:EDT
DTSTART:20290311T070000
END:DAYLIGHT
BEGIN:STANDARD
TZOFFSETFROM:-0400
TZOFFSETTO:-0500
TZNAME:EST
DTSTART:20291104T060000
END:STANDARD
BEGIN:DAYLIGHT
TZOFFSETFROM:-0500
TZOFFSETTO:-0400
TZNAME:EDT
DTSTART:20300310T070000
END:DAYLIGHT
BEGIN:STANDARD
TZOFFSETFROM:-0400
TZOFFSETTO:-0500
TZNAME:EST
DTSTART:20301103T060000
END:STANDARD
BEGIN:DAYLIGHT
TZOFFSETFROM:-0500
TZOFFSETTO:-0400
TZNAME:EDT
DTSTART:20310309T070000
END:DAYLIGHT
BEGIN:STANDARD
TZOFFSETFROM:-0400
TZOFFSETTO:-0500
TZNAME:EST
DTSTART:20311102T060000
END:STANDARD
END:VTIMEZONE
BEGIN:VEVENT
DTSTART;TZID=America/New_York:20291101T140000
DTEND;TZID=America/New_York:20291101T150000
DTSTAMP:20260425T221245
CREATED:20241130T025125Z
LAST-MODIFIED:20251203T161301Z
UID:10006243-1888236000-1888239600@www.gethsemane.org
SUMMARY:Staff Meeting
DESCRIPTION:
URL:https://www.gethsemane.org/event/staff-meeting/2029-11-01/
LOCATION:GLC – Conference Room\, 35 E Stanton Ave.\, Columbus\, OH\, 43214\, United States
END:VEVENT
BEGIN:VEVENT
DTSTART;TZID=America/New_York:20291107T160000
DTEND;TZID=America/New_York:20291107T180000
DTSTAMP:20260425T221245
CREATED:20241122T033247Z
LAST-MODIFIED:20260201T033446Z
UID:10005896-1888761600-1888768800@www.gethsemane.org
SUMMARY:Food Pantry
DESCRIPTION:
URL:https://www.gethsemane.org/event/food-pantry-2/2029-11-07/
LOCATION:Gethsemane Lutheran Church\, 35 E. Stanton Ave.\, Columbus\, OH\, 43214\, United States
END:VEVENT
BEGIN:VEVENT
DTSTART;TZID=America/New_York:20291108T140000
DTEND;TZID=America/New_York:20291108T150000
DTSTAMP:20260425T221245
CREATED:20241130T025125Z
LAST-MODIFIED:20251203T161301Z
UID:10006244-1888840800-1888844400@www.gethsemane.org
SUMMARY:Staff Meeting
DESCRIPTION:
URL:https://www.gethsemane.org/event/staff-meeting/2029-11-08/
LOCATION:GLC – Conference Room\, 35 E Stanton Ave.\, Columbus\, OH\, 43214\, United States
END:VEVENT
BEGIN:VEVENT
DTSTART;TZID=America/New_York:20291114T160000
DTEND;TZID=America/New_York:20291114T180000
DTSTAMP:20260425T221245
CREATED:20241122T033247Z
LAST-MODIFIED:20260201T033446Z
UID:10005897-1889366400-1889373600@www.gethsemane.org
SUMMARY:Food Pantry
DESCRIPTION:
URL:https://www.gethsemane.org/event/food-pantry-2/2029-11-14/
LOCATION:Gethsemane Lutheran Church\, 35 E. Stanton Ave.\, Columbus\, OH\, 43214\, United States
END:VEVENT
BEGIN:VEVENT
DTSTART;TZID=America/New_York:20291115T140000
DTEND;TZID=America/New_York:20291115T150000
DTSTAMP:20260425T221245
CREATED:20241130T025125Z
LAST-MODIFIED:20251203T161301Z
UID:10006245-1889445600-1889449200@www.gethsemane.org
SUMMARY:Staff Meeting
DESCRIPTION:
URL:https://www.gethsemane.org/event/staff-meeting/2029-11-15/
LOCATION:GLC – Conference Room\, 35 E Stanton Ave.\, Columbus\, OH\, 43214\, United States
END:VEVENT
BEGIN:VEVENT
DTSTART;TZID=America/New_York:20291121T160000
DTEND;TZID=America/New_York:20291121T180000
DTSTAMP:20260425T221245
CREATED:20241122T033247Z
LAST-MODIFIED:20260201T033446Z
UID:10005898-1889971200-1889978400@www.gethsemane.org
SUMMARY:Food Pantry
DESCRIPTION:
URL:https://www.gethsemane.org/event/food-pantry-2/2029-11-21/
LOCATION:Gethsemane Lutheran Church\, 35 E. Stanton Ave.\, Columbus\, OH\, 43214\, United States
END:VEVENT
BEGIN:VEVENT
DTSTART;TZID=America/New_York:20291122T140000
DTEND;TZID=America/New_York:20291122T150000
DTSTAMP:20260425T221245
CREATED:20241130T025125Z
LAST-MODIFIED:20251203T161301Z
UID:10006246-1890050400-1890054000@www.gethsemane.org
SUMMARY:Staff Meeting
DESCRIPTION:
URL:https://www.gethsemane.org/event/staff-meeting/2029-11-22/
LOCATION:GLC – Conference Room\, 35 E Stanton Ave.\, Columbus\, OH\, 43214\, United States
END:VEVENT
BEGIN:VEVENT
DTSTART;TZID=America/New_York:20291128T160000
DTEND;TZID=America/New_York:20291128T180000
DTSTAMP:20260425T221245
CREATED:20241122T033247Z
LAST-MODIFIED:20260201T033446Z
UID:10007030-1890576000-1890583200@www.gethsemane.org
SUMMARY:Food Pantry
DESCRIPTION:
URL:https://www.gethsemane.org/event/food-pantry-2/2029-11-28/
LOCATION:Gethsemane Lutheran Church\, 35 E. Stanton Ave.\, Columbus\, OH\, 43214\, United States
END:VEVENT
BEGIN:VEVENT
DTSTART;TZID=America/New_York:20291129T140000
DTEND;TZID=America/New_York:20291129T150000
DTSTAMP:20260425T221245
CREATED:20241130T025125Z
LAST-MODIFIED:20251203T161301Z
UID:10006247-1890655200-1890658800@www.gethsemane.org
SUMMARY:Staff Meeting
DESCRIPTION:
URL:https://www.gethsemane.org/event/staff-meeting/2029-11-29/
LOCATION:GLC – Conference Room\, 35 E Stanton Ave.\, Columbus\, OH\, 43214\, United States
END:VEVENT
BEGIN:VEVENT
DTSTART;TZID=America/New_York:20291205T160000
DTEND;TZID=America/New_York:20291205T180000
DTSTAMP:20260425T221245
CREATED:20241122T033247Z
LAST-MODIFIED:20260201T033446Z
UID:10007031-1891180800-1891188000@www.gethsemane.org
SUMMARY:Food Pantry
DESCRIPTION:
URL:https://www.gethsemane.org/event/food-pantry-2/2029-12-05/
LOCATION:Gethsemane Lutheran Church\, 35 E. Stanton Ave.\, Columbus\, OH\, 43214\, United States
END:VEVENT
BEGIN:VEVENT
DTSTART;TZID=America/New_York:20291206T140000
DTEND;TZID=America/New_York:20291206T150000
DTSTAMP:20260425T221245
CREATED:20241130T025125Z
LAST-MODIFIED:20251203T161301Z
UID:10007044-1891260000-1891263600@www.gethsemane.org
SUMMARY:Staff Meeting
DESCRIPTION:
URL:https://www.gethsemane.org/event/staff-meeting/2029-12-06/
LOCATION:GLC – Conference Room\, 35 E Stanton Ave.\, Columbus\, OH\, 43214\, United States
END:VEVENT
BEGIN:VEVENT
DTSTART;TZID=America/New_York:20291212T160000
DTEND;TZID=America/New_York:20291212T180000
DTSTAMP:20260425T221245
CREATED:20241122T033247Z
LAST-MODIFIED:20260201T033446Z
UID:10007032-1891785600-1891792800@www.gethsemane.org
SUMMARY:Food Pantry
DESCRIPTION:
URL:https://www.gethsemane.org/event/food-pantry-2/2029-12-12/
LOCATION:Gethsemane Lutheran Church\, 35 E. Stanton Ave.\, Columbus\, OH\, 43214\, United States
END:VEVENT
BEGIN:VEVENT
DTSTART;TZID=America/New_York:20291213T140000
DTEND;TZID=America/New_York:20291213T150000
DTSTAMP:20260425T221245
CREATED:20241130T025125Z
LAST-MODIFIED:20251203T161301Z
UID:10007045-1891864800-1891868400@www.gethsemane.org
SUMMARY:Staff Meeting
DESCRIPTION:
URL:https://www.gethsemane.org/event/staff-meeting/2029-12-13/
LOCATION:GLC – Conference Room\, 35 E Stanton Ave.\, Columbus\, OH\, 43214\, United States
END:VEVENT
BEGIN:VEVENT
DTSTART;TZID=America/New_York:20291219T160000
DTEND;TZID=America/New_York:20291219T180000
DTSTAMP:20260425T221245
CREATED:20241122T033247Z
LAST-MODIFIED:20260201T033446Z
UID:10007033-1892390400-1892397600@www.gethsemane.org
SUMMARY:Food Pantry
DESCRIPTION:
URL:https://www.gethsemane.org/event/food-pantry-2/2029-12-19/
LOCATION:Gethsemane Lutheran Church\, 35 E. Stanton Ave.\, Columbus\, OH\, 43214\, United States
END:VEVENT
BEGIN:VEVENT
DTSTART;TZID=America/New_York:20291220T140000
DTEND;TZID=America/New_York:20291220T150000
DTSTAMP:20260425T221245
CREATED:20241130T025125Z
LAST-MODIFIED:20251203T161301Z
UID:10007046-1892469600-1892473200@www.gethsemane.org
SUMMARY:Staff Meeting
DESCRIPTION:
URL:https://www.gethsemane.org/event/staff-meeting/2029-12-20/
LOCATION:GLC – Conference Room\, 35 E Stanton Ave.\, Columbus\, OH\, 43214\, United States
END:VEVENT
BEGIN:VEVENT
DTSTART;TZID=America/New_York:20291226T160000
DTEND;TZID=America/New_York:20291226T180000
DTSTAMP:20260425T221245
CREATED:20241122T033247Z
LAST-MODIFIED:20260201T033446Z
UID:10007034-1892995200-1893002400@www.gethsemane.org
SUMMARY:Food Pantry
DESCRIPTION:
URL:https://www.gethsemane.org/event/food-pantry-2/2029-12-26/
LOCATION:Gethsemane Lutheran Church\, 35 E. Stanton Ave.\, Columbus\, OH\, 43214\, United States
END:VEVENT
BEGIN:VEVENT
DTSTART;TZID=America/New_York:20291227T140000
DTEND;TZID=America/New_York:20291227T150000
DTSTAMP:20260425T221245
CREATED:20241130T025125Z
LAST-MODIFIED:20251203T161301Z
UID:10007047-1893074400-1893078000@www.gethsemane.org
SUMMARY:Staff Meeting
DESCRIPTION:
URL:https://www.gethsemane.org/event/staff-meeting/2029-12-27/
LOCATION:GLC – Conference Room\, 35 E Stanton Ave.\, Columbus\, OH\, 43214\, United States
END:VEVENT
BEGIN:VEVENT
DTSTART;TZID=America/New_York:20300102T160000
DTEND;TZID=America/New_York:20300102T180000
DTSTAMP:20260425T221245
CREATED:20241122T033247Z
LAST-MODIFIED:20260201T033446Z
UID:10007035-1893600000-1893607200@www.gethsemane.org
SUMMARY:Food Pantry
DESCRIPTION:
URL:https://www.gethsemane.org/event/food-pantry-2/2030-01-02/
LOCATION:Gethsemane Lutheran Church\, 35 E. Stanton Ave.\, Columbus\, OH\, 43214\, United States
END:VEVENT
BEGIN:VEVENT
DTSTART;TZID=America/New_York:20300103T140000
DTEND;TZID=America/New_York:20300103T150000
DTSTAMP:20260425T221246
CREATED:20241130T025125Z
LAST-MODIFIED:20251203T161301Z
UID:10007048-1893679200-1893682800@www.gethsemane.org
SUMMARY:Staff Meeting
DESCRIPTION:
URL:https://www.gethsemane.org/event/staff-meeting/2030-01-03/
LOCATION:GLC – Conference Room\, 35 E Stanton Ave.\, Columbus\, OH\, 43214\, United States
END:VEVENT
BEGIN:VEVENT
DTSTART;TZID=America/New_York:20300109T160000
DTEND;TZID=America/New_York:20300109T180000
DTSTAMP:20260425T221246
CREATED:20241122T033247Z
LAST-MODIFIED:20260201T033446Z
UID:10007036-1894204800-1894212000@www.gethsemane.org
SUMMARY:Food Pantry
DESCRIPTION:
URL:https://www.gethsemane.org/event/food-pantry-2/2030-01-09/
LOCATION:Gethsemane Lutheran Church\, 35 E. Stanton Ave.\, Columbus\, OH\, 43214\, United States
END:VEVENT
BEGIN:VEVENT
DTSTART;TZID=America/New_York:20300110T140000
DTEND;TZID=America/New_York:20300110T150000
DTSTAMP:20260425T221246
CREATED:20241130T025125Z
LAST-MODIFIED:20251203T161301Z
UID:10007049-1894284000-1894287600@www.gethsemane.org
SUMMARY:Staff Meeting
DESCRIPTION:
URL:https://www.gethsemane.org/event/staff-meeting/2030-01-10/
LOCATION:GLC – Conference Room\, 35 E Stanton Ave.\, Columbus\, OH\, 43214\, United States
END:VEVENT
BEGIN:VEVENT
DTSTART;TZID=America/New_York:20300116T160000
DTEND;TZID=America/New_York:20300116T180000
DTSTAMP:20260425T221246
CREATED:20241122T033247Z
LAST-MODIFIED:20260201T033446Z
UID:10007037-1894809600-1894816800@www.gethsemane.org
SUMMARY:Food Pantry
DESCRIPTION:
URL:https://www.gethsemane.org/event/food-pantry-2/2030-01-16/
LOCATION:Gethsemane Lutheran Church\, 35 E. Stanton Ave.\, Columbus\, OH\, 43214\, United States
END:VEVENT
BEGIN:VEVENT
DTSTART;TZID=America/New_York:20300117T140000
DTEND;TZID=America/New_York:20300117T150000
DTSTAMP:20260425T221246
CREATED:20241130T025125Z
LAST-MODIFIED:20251203T161301Z
UID:10007050-1894888800-1894892400@www.gethsemane.org
SUMMARY:Staff Meeting
DESCRIPTION:
URL:https://www.gethsemane.org/event/staff-meeting/2030-01-17/
LOCATION:GLC – Conference Room\, 35 E Stanton Ave.\, Columbus\, OH\, 43214\, United States
END:VEVENT
BEGIN:VEVENT
DTSTART;TZID=America/New_York:20300123T160000
DTEND;TZID=America/New_York:20300123T180000
DTSTAMP:20260425T221246
CREATED:20241122T033247Z
LAST-MODIFIED:20260201T033446Z
UID:10007038-1895414400-1895421600@www.gethsemane.org
SUMMARY:Food Pantry
DESCRIPTION:
URL:https://www.gethsemane.org/event/food-pantry-2/2030-01-23/
LOCATION:Gethsemane Lutheran Church\, 35 E. Stanton Ave.\, Columbus\, OH\, 43214\, United States
END:VEVENT
BEGIN:VEVENT
DTSTART;TZID=America/New_York:20300124T140000
DTEND;TZID=America/New_York:20300124T150000
DTSTAMP:20260425T221246
CREATED:20241130T025125Z
LAST-MODIFIED:20251203T161301Z
UID:10007051-1895493600-1895497200@www.gethsemane.org
SUMMARY:Staff Meeting
DESCRIPTION:
URL:https://www.gethsemane.org/event/staff-meeting/2030-01-24/
LOCATION:GLC – Conference Room\, 35 E Stanton Ave.\, Columbus\, OH\, 43214\, United States
END:VEVENT
BEGIN:VEVENT
DTSTART;TZID=America/New_York:20300130T160000
DTEND;TZID=America/New_York:20300130T180000
DTSTAMP:20260425T221246
CREATED:20241122T033247Z
LAST-MODIFIED:20260201T033446Z
UID:10007039-1896019200-1896026400@www.gethsemane.org
SUMMARY:Food Pantry
DESCRIPTION:
URL:https://www.gethsemane.org/event/food-pantry-2/2030-01-30/
LOCATION:Gethsemane Lutheran Church\, 35 E. Stanton Ave.\, Columbus\, OH\, 43214\, United States
END:VEVENT
BEGIN:VEVENT
DTSTART;TZID=America/New_York:20300131T140000
DTEND;TZID=America/New_York:20300131T150000
DTSTAMP:20260425T221246
CREATED:20241130T025125Z
LAST-MODIFIED:20251203T161301Z
UID:10007052-1896098400-1896102000@www.gethsemane.org
SUMMARY:Staff Meeting
DESCRIPTION:
URL:https://www.gethsemane.org/event/staff-meeting/2030-01-31/
LOCATION:GLC – Conference Room\, 35 E Stanton Ave.\, Columbus\, OH\, 43214\, United States
END:VEVENT
BEGIN:VEVENT
DTSTART;TZID=America/New_York:20300206T160000
DTEND;TZID=America/New_York:20300206T180000
DTSTAMP:20260425T221246
CREATED:20241122T033247Z
LAST-MODIFIED:20260201T033446Z
UID:10007040-1896624000-1896631200@www.gethsemane.org
SUMMARY:Food Pantry
DESCRIPTION:
URL:https://www.gethsemane.org/event/food-pantry-2/2030-02-06/
LOCATION:Gethsemane Lutheran Church\, 35 E. Stanton Ave.\, Columbus\, OH\, 43214\, United States
END:VEVENT
BEGIN:VEVENT
DTSTART;TZID=America/New_York:20300207T140000
DTEND;TZID=America/New_York:20300207T150000
DTSTAMP:20260425T221246
CREATED:20241130T025125Z
LAST-MODIFIED:20251203T161301Z
UID:10007053-1896703200-1896706800@www.gethsemane.org
SUMMARY:Staff Meeting
DESCRIPTION:
URL:https://www.gethsemane.org/event/staff-meeting/2030-02-07/
LOCATION:GLC – Conference Room\, 35 E Stanton Ave.\, Columbus\, OH\, 43214\, United States
END:VEVENT
BEGIN:VEVENT
DTSTART;TZID=America/New_York:20300213T160000
DTEND;TZID=America/New_York:20300213T180000
DTSTAMP:20260425T221246
CREATED:20241122T033247Z
LAST-MODIFIED:20260201T033446Z
UID:10007041-1897228800-1897236000@www.gethsemane.org
SUMMARY:Food Pantry
DESCRIPTION:
URL:https://www.gethsemane.org/event/food-pantry-2/2030-02-13/
LOCATION:Gethsemane Lutheran Church\, 35 E. Stanton Ave.\, Columbus\, OH\, 43214\, United States
END:VEVENT
END:VCALENDAR