BEGIN:VCALENDAR
VERSION:2.0
PRODID:-//Gethsemane Lutheran Church - ECPv6.15.20//NONSGML v1.0//EN
CALSCALE:GREGORIAN
METHOD:PUBLISH
X-ORIGINAL-URL:https://www.gethsemane.org
X-WR-CALDESC:Events for Gethsemane Lutheran Church
REFRESH-INTERVAL;VALUE=DURATION:PT1H
X-Robots-Tag:noindex
X-PUBLISHED-TTL:PT1H
BEGIN:VTIMEZONE
TZID:America/New_York
BEGIN:DAYLIGHT
TZOFFSETFROM:-0500
TZOFFSETTO:-0400
TZNAME:EDT
DTSTART:20260308T070000
END:DAYLIGHT
BEGIN:STANDARD
TZOFFSETFROM:-0400
TZOFFSETTO:-0500
TZNAME:EST
DTSTART:20261101T060000
END:STANDARD
BEGIN:DAYLIGHT
TZOFFSETFROM:-0500
TZOFFSETTO:-0400
TZNAME:EDT
DTSTART:20270314T070000
END:DAYLIGHT
BEGIN:STANDARD
TZOFFSETFROM:-0400
TZOFFSETTO:-0500
TZNAME:EST
DTSTART:20271107T060000
END:STANDARD
BEGIN:DAYLIGHT
TZOFFSETFROM:-0500
TZOFFSETTO:-0400
TZNAME:EDT
DTSTART:20280312T070000
END:DAYLIGHT
BEGIN:STANDARD
TZOFFSETFROM:-0400
TZOFFSETTO:-0500
TZNAME:EST
DTSTART:20281105T060000
END:STANDARD
BEGIN:DAYLIGHT
TZOFFSETFROM:-0500
TZOFFSETTO:-0400
TZNAME:EDT
DTSTART:20290311T070000
END:DAYLIGHT
BEGIN:STANDARD
TZOFFSETFROM:-0400
TZOFFSETTO:-0500
TZNAME:EST
DTSTART:20291104T060000
END:STANDARD
END:VTIMEZONE
BEGIN:VEVENT
DTSTART;TZID=America/New_York:20270923T140000
DTEND;TZID=America/New_York:20270923T150000
DTSTAMP:20260423T084846
CREATED:20241130T025125Z
LAST-MODIFIED:20251203T161301Z
UID:10006133-1821708000-1821711600@www.gethsemane.org
SUMMARY:Staff Meeting
DESCRIPTION:
URL:https://www.gethsemane.org/event/staff-meeting/2027-09-23/
LOCATION:GLC – Conference Room\, 35 E Stanton Ave.\, Columbus\, OH\, 43214\, United States
END:VEVENT
BEGIN:VEVENT
DTSTART;TZID=America/New_York:20270930T140000
DTEND;TZID=America/New_York:20270930T150000
DTSTAMP:20260423T084846
CREATED:20241130T025125Z
LAST-MODIFIED:20251203T161301Z
UID:10006134-1822312800-1822316400@www.gethsemane.org
SUMMARY:Staff Meeting
DESCRIPTION:
URL:https://www.gethsemane.org/event/staff-meeting/2027-09-30/
LOCATION:GLC – Conference Room\, 35 E Stanton Ave.\, Columbus\, OH\, 43214\, United States
END:VEVENT
BEGIN:VEVENT
DTSTART;TZID=America/New_York:20271004T183000
DTEND;TZID=America/New_York:20271004T200000
DTSTAMP:20260423T084846
CREATED:20241102T214833Z
LAST-MODIFIED:20250815T020713Z
UID:10001699-1822674600-1822680000@www.gethsemane.org
SUMMARY:Play & Learn Committee
DESCRIPTION:
URL:https://www.gethsemane.org/event/play-learn-committee/2027-10-04/
LOCATION:GLC – Conference Room\, 35 E Stanton Ave.\, Columbus\, OH\, 43214\, United States
END:VEVENT
BEGIN:VEVENT
DTSTART;TZID=America/New_York:20271007T140000
DTEND;TZID=America/New_York:20271007T150000
DTSTAMP:20260423T084846
CREATED:20241130T025125Z
LAST-MODIFIED:20251203T161301Z
UID:10006135-1822917600-1822921200@www.gethsemane.org
SUMMARY:Staff Meeting
DESCRIPTION:
URL:https://www.gethsemane.org/event/staff-meeting/2027-10-07/
LOCATION:GLC – Conference Room\, 35 E Stanton Ave.\, Columbus\, OH\, 43214\, United States
END:VEVENT
BEGIN:VEVENT
DTSTART;TZID=America/New_York:20271014T140000
DTEND;TZID=America/New_York:20271014T150000
DTSTAMP:20260423T084846
CREATED:20241130T025125Z
LAST-MODIFIED:20251203T161301Z
UID:10006136-1823522400-1823526000@www.gethsemane.org
SUMMARY:Staff Meeting
DESCRIPTION:
URL:https://www.gethsemane.org/event/staff-meeting/2027-10-14/
LOCATION:GLC – Conference Room\, 35 E Stanton Ave.\, Columbus\, OH\, 43214\, United States
END:VEVENT
BEGIN:VEVENT
DTSTART;TZID=America/New_York:20271018T190000
DTEND;TZID=America/New_York:20271018T203000
DTSTAMP:20260423T084846
CREATED:20241102T223834Z
LAST-MODIFIED:20250727T115514Z
UID:10004679-1823886000-1823891400@www.gethsemane.org
SUMMARY:Congregational Council
DESCRIPTION:
URL:https://www.gethsemane.org/event/congregational-council/2027-10-18/
LOCATION:GLC – Conference Room\, 35 E Stanton Ave.\, Columbus\, OH\, 43214\, United States
END:VEVENT
BEGIN:VEVENT
DTSTART;TZID=America/New_York:20271021T140000
DTEND;TZID=America/New_York:20271021T150000
DTSTAMP:20260423T084846
CREATED:20241130T025125Z
LAST-MODIFIED:20251203T161301Z
UID:10006137-1824127200-1824130800@www.gethsemane.org
SUMMARY:Staff Meeting
DESCRIPTION:
URL:https://www.gethsemane.org/event/staff-meeting/2027-10-21/
LOCATION:GLC – Conference Room\, 35 E Stanton Ave.\, Columbus\, OH\, 43214\, United States
END:VEVENT
BEGIN:VEVENT
DTSTART;TZID=America/New_York:20271028T140000
DTEND;TZID=America/New_York:20271028T150000
DTSTAMP:20260423T084846
CREATED:20241130T025125Z
LAST-MODIFIED:20251203T161301Z
UID:10006138-1824732000-1824735600@www.gethsemane.org
SUMMARY:Staff Meeting
DESCRIPTION:
URL:https://www.gethsemane.org/event/staff-meeting/2027-10-28/
LOCATION:GLC – Conference Room\, 35 E Stanton Ave.\, Columbus\, OH\, 43214\, United States
END:VEVENT
BEGIN:VEVENT
DTSTART;TZID=America/New_York:20271101T183000
DTEND;TZID=America/New_York:20271101T200000
DTSTAMP:20260423T084846
CREATED:20241102T214833Z
LAST-MODIFIED:20250815T020713Z
UID:10001700-1825093800-1825099200@www.gethsemane.org
SUMMARY:Play & Learn Committee
DESCRIPTION:
URL:https://www.gethsemane.org/event/play-learn-committee/2027-11-01/
LOCATION:GLC – Conference Room\, 35 E Stanton Ave.\, Columbus\, OH\, 43214\, United States
END:VEVENT
BEGIN:VEVENT
DTSTART;TZID=America/New_York:20271104T140000
DTEND;TZID=America/New_York:20271104T150000
DTSTAMP:20260423T084846
CREATED:20241130T025125Z
LAST-MODIFIED:20251203T161301Z
UID:10006139-1825336800-1825340400@www.gethsemane.org
SUMMARY:Staff Meeting
DESCRIPTION:
URL:https://www.gethsemane.org/event/staff-meeting/2027-11-04/
LOCATION:GLC – Conference Room\, 35 E Stanton Ave.\, Columbus\, OH\, 43214\, United States
END:VEVENT
BEGIN:VEVENT
DTSTART;TZID=America/New_York:20271111T140000
DTEND;TZID=America/New_York:20271111T150000
DTSTAMP:20260423T084846
CREATED:20241130T025125Z
LAST-MODIFIED:20251203T161301Z
UID:10006140-1825941600-1825945200@www.gethsemane.org
SUMMARY:Staff Meeting
DESCRIPTION:
URL:https://www.gethsemane.org/event/staff-meeting/2027-11-11/
LOCATION:GLC – Conference Room\, 35 E Stanton Ave.\, Columbus\, OH\, 43214\, United States
END:VEVENT
BEGIN:VEVENT
DTSTART;TZID=America/New_York:20271115T190000
DTEND;TZID=America/New_York:20271115T203000
DTSTAMP:20260423T084846
CREATED:20241102T223834Z
LAST-MODIFIED:20250727T115514Z
UID:10004680-1826305200-1826310600@www.gethsemane.org
SUMMARY:Congregational Council
DESCRIPTION:
URL:https://www.gethsemane.org/event/congregational-council/2027-11-15/
LOCATION:GLC – Conference Room\, 35 E Stanton Ave.\, Columbus\, OH\, 43214\, United States
END:VEVENT
BEGIN:VEVENT
DTSTART;TZID=America/New_York:20271118T140000
DTEND;TZID=America/New_York:20271118T150000
DTSTAMP:20260423T084846
CREATED:20241130T025125Z
LAST-MODIFIED:20251203T161301Z
UID:10006141-1826546400-1826550000@www.gethsemane.org
SUMMARY:Staff Meeting
DESCRIPTION:
URL:https://www.gethsemane.org/event/staff-meeting/2027-11-18/
LOCATION:GLC – Conference Room\, 35 E Stanton Ave.\, Columbus\, OH\, 43214\, United States
END:VEVENT
BEGIN:VEVENT
DTSTART;TZID=America/New_York:20271125T140000
DTEND;TZID=America/New_York:20271125T150000
DTSTAMP:20260423T084846
CREATED:20241130T025125Z
LAST-MODIFIED:20251203T161301Z
UID:10006142-1827151200-1827154800@www.gethsemane.org
SUMMARY:Staff Meeting
DESCRIPTION:
URL:https://www.gethsemane.org/event/staff-meeting/2027-11-25/
LOCATION:GLC – Conference Room\, 35 E Stanton Ave.\, Columbus\, OH\, 43214\, United States
END:VEVENT
BEGIN:VEVENT
DTSTART;TZID=America/New_York:20271202T140000
DTEND;TZID=America/New_York:20271202T150000
DTSTAMP:20260423T084846
CREATED:20241130T025125Z
LAST-MODIFIED:20251203T161301Z
UID:10006143-1827756000-1827759600@www.gethsemane.org
SUMMARY:Staff Meeting
DESCRIPTION:
URL:https://www.gethsemane.org/event/staff-meeting/2027-12-02/
LOCATION:GLC – Conference Room\, 35 E Stanton Ave.\, Columbus\, OH\, 43214\, United States
END:VEVENT
BEGIN:VEVENT
DTSTART;TZID=America/New_York:20271206T183000
DTEND;TZID=America/New_York:20271206T200000
DTSTAMP:20260423T084846
CREATED:20241102T214833Z
LAST-MODIFIED:20250815T020713Z
UID:10001701-1828117800-1828123200@www.gethsemane.org
SUMMARY:Play & Learn Committee
DESCRIPTION:
URL:https://www.gethsemane.org/event/play-learn-committee/2027-12-06/
LOCATION:GLC – Conference Room\, 35 E Stanton Ave.\, Columbus\, OH\, 43214\, United States
END:VEVENT
BEGIN:VEVENT
DTSTART;TZID=America/New_York:20271209T140000
DTEND;TZID=America/New_York:20271209T150000
DTSTAMP:20260423T084846
CREATED:20241130T025125Z
LAST-MODIFIED:20251203T161301Z
UID:10006144-1828360800-1828364400@www.gethsemane.org
SUMMARY:Staff Meeting
DESCRIPTION:
URL:https://www.gethsemane.org/event/staff-meeting/2027-12-09/
LOCATION:GLC – Conference Room\, 35 E Stanton Ave.\, Columbus\, OH\, 43214\, United States
END:VEVENT
BEGIN:VEVENT
DTSTART;TZID=America/New_York:20271216T140000
DTEND;TZID=America/New_York:20271216T150000
DTSTAMP:20260423T084846
CREATED:20241130T025125Z
LAST-MODIFIED:20251203T161301Z
UID:10006145-1828965600-1828969200@www.gethsemane.org
SUMMARY:Staff Meeting
DESCRIPTION:
URL:https://www.gethsemane.org/event/staff-meeting/2027-12-16/
LOCATION:GLC – Conference Room\, 35 E Stanton Ave.\, Columbus\, OH\, 43214\, United States
END:VEVENT
BEGIN:VEVENT
DTSTART;TZID=America/New_York:20271220T190000
DTEND;TZID=America/New_York:20271220T203000
DTSTAMP:20260423T084846
CREATED:20241102T223834Z
LAST-MODIFIED:20250727T115514Z
UID:10004681-1829329200-1829334600@www.gethsemane.org
SUMMARY:Congregational Council
DESCRIPTION:
URL:https://www.gethsemane.org/event/congregational-council/2027-12-20/
LOCATION:GLC – Conference Room\, 35 E Stanton Ave.\, Columbus\, OH\, 43214\, United States
END:VEVENT
BEGIN:VEVENT
DTSTART;TZID=America/New_York:20271223T140000
DTEND;TZID=America/New_York:20271223T150000
DTSTAMP:20260423T084846
CREATED:20241130T025125Z
LAST-MODIFIED:20251203T161301Z
UID:10006146-1829570400-1829574000@www.gethsemane.org
SUMMARY:Staff Meeting
DESCRIPTION:
URL:https://www.gethsemane.org/event/staff-meeting/2027-12-23/
LOCATION:GLC – Conference Room\, 35 E Stanton Ave.\, Columbus\, OH\, 43214\, United States
END:VEVENT
BEGIN:VEVENT
DTSTART;TZID=America/New_York:20271230T140000
DTEND;TZID=America/New_York:20271230T150000
DTSTAMP:20260423T084846
CREATED:20241130T025125Z
LAST-MODIFIED:20251203T161301Z
UID:10006147-1830175200-1830178800@www.gethsemane.org
SUMMARY:Staff Meeting
DESCRIPTION:
URL:https://www.gethsemane.org/event/staff-meeting/2027-12-30/
LOCATION:GLC – Conference Room\, 35 E Stanton Ave.\, Columbus\, OH\, 43214\, United States
END:VEVENT
BEGIN:VEVENT
DTSTART;TZID=America/New_York:20280103T183000
DTEND;TZID=America/New_York:20280103T200000
DTSTAMP:20260423T084847
CREATED:20241102T214833Z
LAST-MODIFIED:20250815T020713Z
UID:10001702-1830537000-1830542400@www.gethsemane.org
SUMMARY:Play & Learn Committee
DESCRIPTION:
URL:https://www.gethsemane.org/event/play-learn-committee/2028-01-03/
LOCATION:GLC – Conference Room\, 35 E Stanton Ave.\, Columbus\, OH\, 43214\, United States
END:VEVENT
BEGIN:VEVENT
DTSTART;TZID=America/New_York:20280106T140000
DTEND;TZID=America/New_York:20280106T150000
DTSTAMP:20260423T084847
CREATED:20241130T025125Z
LAST-MODIFIED:20251203T161301Z
UID:10006148-1830780000-1830783600@www.gethsemane.org
SUMMARY:Staff Meeting
DESCRIPTION:
URL:https://www.gethsemane.org/event/staff-meeting/2028-01-06/
LOCATION:GLC – Conference Room\, 35 E Stanton Ave.\, Columbus\, OH\, 43214\, United States
END:VEVENT
BEGIN:VEVENT
DTSTART;TZID=America/New_York:20280113T140000
DTEND;TZID=America/New_York:20280113T150000
DTSTAMP:20260423T084847
CREATED:20241130T025125Z
LAST-MODIFIED:20251203T161301Z
UID:10006149-1831384800-1831388400@www.gethsemane.org
SUMMARY:Staff Meeting
DESCRIPTION:
URL:https://www.gethsemane.org/event/staff-meeting/2028-01-13/
LOCATION:GLC – Conference Room\, 35 E Stanton Ave.\, Columbus\, OH\, 43214\, United States
END:VEVENT
BEGIN:VEVENT
DTSTART;TZID=America/New_York:20280117T190000
DTEND;TZID=America/New_York:20280117T203000
DTSTAMP:20260423T084847
CREATED:20241102T223834Z
LAST-MODIFIED:20250727T115514Z
UID:10004682-1831748400-1831753800@www.gethsemane.org
SUMMARY:Congregational Council
DESCRIPTION:
URL:https://www.gethsemane.org/event/congregational-council/2028-01-17/
LOCATION:GLC – Conference Room\, 35 E Stanton Ave.\, Columbus\, OH\, 43214\, United States
END:VEVENT
BEGIN:VEVENT
DTSTART;TZID=America/New_York:20280120T140000
DTEND;TZID=America/New_York:20280120T150000
DTSTAMP:20260423T084847
CREATED:20241130T025125Z
LAST-MODIFIED:20251203T161301Z
UID:10006150-1831989600-1831993200@www.gethsemane.org
SUMMARY:Staff Meeting
DESCRIPTION:
URL:https://www.gethsemane.org/event/staff-meeting/2028-01-20/
LOCATION:GLC – Conference Room\, 35 E Stanton Ave.\, Columbus\, OH\, 43214\, United States
END:VEVENT
BEGIN:VEVENT
DTSTART;TZID=America/New_York:20280127T140000
DTEND;TZID=America/New_York:20280127T150000
DTSTAMP:20260423T084847
CREATED:20241130T025125Z
LAST-MODIFIED:20251203T161301Z
UID:10006151-1832594400-1832598000@www.gethsemane.org
SUMMARY:Staff Meeting
DESCRIPTION:
URL:https://www.gethsemane.org/event/staff-meeting/2028-01-27/
LOCATION:GLC – Conference Room\, 35 E Stanton Ave.\, Columbus\, OH\, 43214\, United States
END:VEVENT
BEGIN:VEVENT
DTSTART;TZID=America/New_York:20280203T140000
DTEND;TZID=America/New_York:20280203T150000
DTSTAMP:20260423T084847
CREATED:20241130T025125Z
LAST-MODIFIED:20251203T161301Z
UID:10006152-1833199200-1833202800@www.gethsemane.org
SUMMARY:Staff Meeting
DESCRIPTION:
URL:https://www.gethsemane.org/event/staff-meeting/2028-02-03/
LOCATION:GLC – Conference Room\, 35 E Stanton Ave.\, Columbus\, OH\, 43214\, United States
END:VEVENT
BEGIN:VEVENT
DTSTART;TZID=America/New_York:20280207T183000
DTEND;TZID=America/New_York:20280207T200000
DTSTAMP:20260423T084847
CREATED:20241102T214833Z
LAST-MODIFIED:20250815T020713Z
UID:10001703-1833561000-1833566400@www.gethsemane.org
SUMMARY:Play & Learn Committee
DESCRIPTION:
URL:https://www.gethsemane.org/event/play-learn-committee/2028-02-07/
LOCATION:GLC – Conference Room\, 35 E Stanton Ave.\, Columbus\, OH\, 43214\, United States
END:VEVENT
BEGIN:VEVENT
DTSTART;TZID=America/New_York:20280210T140000
DTEND;TZID=America/New_York:20280210T150000
DTSTAMP:20260423T084847
CREATED:20241130T025125Z
LAST-MODIFIED:20251203T161301Z
UID:10006153-1833804000-1833807600@www.gethsemane.org
SUMMARY:Staff Meeting
DESCRIPTION:
URL:https://www.gethsemane.org/event/staff-meeting/2028-02-10/
LOCATION:GLC – Conference Room\, 35 E Stanton Ave.\, Columbus\, OH\, 43214\, United States
END:VEVENT
END:VCALENDAR