BEGIN:VCALENDAR
VERSION:2.0
PRODID:-//Gethsemane Lutheran Church - ECPv6.15.20//NONSGML v1.0//EN
CALSCALE:GREGORIAN
METHOD:PUBLISH
X-WR-CALNAME:Gethsemane Lutheran Church
X-ORIGINAL-URL:https://www.gethsemane.org
X-WR-CALDESC:Events for Gethsemane Lutheran Church
REFRESH-INTERVAL;VALUE=DURATION:PT1H
X-Robots-Tag:noindex
X-PUBLISHED-TTL:PT1H
BEGIN:VTIMEZONE
TZID:America/New_York
BEGIN:DAYLIGHT
TZOFFSETFROM:-0500
TZOFFSETTO:-0400
TZNAME:EDT
DTSTART:20270314T070000
END:DAYLIGHT
BEGIN:STANDARD
TZOFFSETFROM:-0400
TZOFFSETTO:-0500
TZNAME:EST
DTSTART:20271107T060000
END:STANDARD
BEGIN:DAYLIGHT
TZOFFSETFROM:-0500
TZOFFSETTO:-0400
TZNAME:EDT
DTSTART:20280312T070000
END:DAYLIGHT
BEGIN:STANDARD
TZOFFSETFROM:-0400
TZOFFSETTO:-0500
TZNAME:EST
DTSTART:20281105T060000
END:STANDARD
BEGIN:DAYLIGHT
TZOFFSETFROM:-0500
TZOFFSETTO:-0400
TZNAME:EDT
DTSTART:20290311T070000
END:DAYLIGHT
BEGIN:STANDARD
TZOFFSETFROM:-0400
TZOFFSETTO:-0500
TZNAME:EST
DTSTART:20291104T060000
END:STANDARD
END:VTIMEZONE
BEGIN:VEVENT
DTSTART;TZID=America/New_York:20280117T190000
DTEND;TZID=America/New_York:20280117T203000
DTSTAMP:20260423T132605
CREATED:20241102T223834Z
LAST-MODIFIED:20250727T115514Z
UID:10004682-1831748400-1831753800@www.gethsemane.org
SUMMARY:Congregational Council
DESCRIPTION:
URL:https://www.gethsemane.org/event/congregational-council/2028-01-17/
LOCATION:GLC – Conference Room\, 35 E Stanton Ave.\, Columbus\, OH\, 43214\, United States
END:VEVENT
BEGIN:VEVENT
DTSTART;TZID=America/New_York:20280120T140000
DTEND;TZID=America/New_York:20280120T150000
DTSTAMP:20260423T132605
CREATED:20241130T025125Z
LAST-MODIFIED:20251203T161301Z
UID:10006150-1831989600-1831993200@www.gethsemane.org
SUMMARY:Staff Meeting
DESCRIPTION:
URL:https://www.gethsemane.org/event/staff-meeting/2028-01-20/
LOCATION:GLC – Conference Room\, 35 E Stanton Ave.\, Columbus\, OH\, 43214\, United States
END:VEVENT
BEGIN:VEVENT
DTSTART;TZID=America/New_York:20280127T140000
DTEND;TZID=America/New_York:20280127T150000
DTSTAMP:20260423T132605
CREATED:20241130T025125Z
LAST-MODIFIED:20251203T161301Z
UID:10006151-1832594400-1832598000@www.gethsemane.org
SUMMARY:Staff Meeting
DESCRIPTION:
URL:https://www.gethsemane.org/event/staff-meeting/2028-01-27/
LOCATION:GLC – Conference Room\, 35 E Stanton Ave.\, Columbus\, OH\, 43214\, United States
END:VEVENT
BEGIN:VEVENT
DTSTART;TZID=America/New_York:20280203T140000
DTEND;TZID=America/New_York:20280203T150000
DTSTAMP:20260423T132605
CREATED:20241130T025125Z
LAST-MODIFIED:20251203T161301Z
UID:10006152-1833199200-1833202800@www.gethsemane.org
SUMMARY:Staff Meeting
DESCRIPTION:
URL:https://www.gethsemane.org/event/staff-meeting/2028-02-03/
LOCATION:GLC – Conference Room\, 35 E Stanton Ave.\, Columbus\, OH\, 43214\, United States
END:VEVENT
BEGIN:VEVENT
DTSTART;TZID=America/New_York:20280207T183000
DTEND;TZID=America/New_York:20280207T200000
DTSTAMP:20260423T132605
CREATED:20241102T214833Z
LAST-MODIFIED:20250815T020713Z
UID:10001703-1833561000-1833566400@www.gethsemane.org
SUMMARY:Play & Learn Committee
DESCRIPTION:
URL:https://www.gethsemane.org/event/play-learn-committee/2028-02-07/
LOCATION:GLC – Conference Room\, 35 E Stanton Ave.\, Columbus\, OH\, 43214\, United States
END:VEVENT
BEGIN:VEVENT
DTSTART;TZID=America/New_York:20280210T140000
DTEND;TZID=America/New_York:20280210T150000
DTSTAMP:20260423T132605
CREATED:20241130T025125Z
LAST-MODIFIED:20251203T161301Z
UID:10006153-1833804000-1833807600@www.gethsemane.org
SUMMARY:Staff Meeting
DESCRIPTION:
URL:https://www.gethsemane.org/event/staff-meeting/2028-02-10/
LOCATION:GLC – Conference Room\, 35 E Stanton Ave.\, Columbus\, OH\, 43214\, United States
END:VEVENT
BEGIN:VEVENT
DTSTART;TZID=America/New_York:20280217T140000
DTEND;TZID=America/New_York:20280217T150000
DTSTAMP:20260423T132605
CREATED:20241130T025125Z
LAST-MODIFIED:20251203T161301Z
UID:10006154-1834408800-1834412400@www.gethsemane.org
SUMMARY:Staff Meeting
DESCRIPTION:
URL:https://www.gethsemane.org/event/staff-meeting/2028-02-17/
LOCATION:GLC – Conference Room\, 35 E Stanton Ave.\, Columbus\, OH\, 43214\, United States
END:VEVENT
BEGIN:VEVENT
DTSTART;TZID=America/New_York:20280221T190000
DTEND;TZID=America/New_York:20280221T203000
DTSTAMP:20260423T132605
CREATED:20241102T223834Z
LAST-MODIFIED:20250727T115514Z
UID:10004683-1834772400-1834777800@www.gethsemane.org
SUMMARY:Congregational Council
DESCRIPTION:
URL:https://www.gethsemane.org/event/congregational-council/2028-02-21/
LOCATION:GLC – Conference Room\, 35 E Stanton Ave.\, Columbus\, OH\, 43214\, United States
END:VEVENT
BEGIN:VEVENT
DTSTART;TZID=America/New_York:20280224T140000
DTEND;TZID=America/New_York:20280224T150000
DTSTAMP:20260423T132605
CREATED:20241130T025125Z
LAST-MODIFIED:20251203T161301Z
UID:10006155-1835013600-1835017200@www.gethsemane.org
SUMMARY:Staff Meeting
DESCRIPTION:
URL:https://www.gethsemane.org/event/staff-meeting/2028-02-24/
LOCATION:GLC – Conference Room\, 35 E Stanton Ave.\, Columbus\, OH\, 43214\, United States
END:VEVENT
BEGIN:VEVENT
DTSTART;TZID=America/New_York:20280302T140000
DTEND;TZID=America/New_York:20280302T150000
DTSTAMP:20260423T132605
CREATED:20241130T025125Z
LAST-MODIFIED:20251203T161301Z
UID:10006156-1835618400-1835622000@www.gethsemane.org
SUMMARY:Staff Meeting
DESCRIPTION:
URL:https://www.gethsemane.org/event/staff-meeting/2028-03-02/
LOCATION:GLC – Conference Room\, 35 E Stanton Ave.\, Columbus\, OH\, 43214\, United States
END:VEVENT
BEGIN:VEVENT
DTSTART;TZID=America/New_York:20280306T183000
DTEND;TZID=America/New_York:20280306T200000
DTSTAMP:20260423T132605
CREATED:20241102T214833Z
LAST-MODIFIED:20250815T020713Z
UID:10001704-1835980200-1835985600@www.gethsemane.org
SUMMARY:Play & Learn Committee
DESCRIPTION:
URL:https://www.gethsemane.org/event/play-learn-committee/2028-03-06/
LOCATION:GLC – Conference Room\, 35 E Stanton Ave.\, Columbus\, OH\, 43214\, United States
END:VEVENT
BEGIN:VEVENT
DTSTART;TZID=America/New_York:20280309T140000
DTEND;TZID=America/New_York:20280309T150000
DTSTAMP:20260423T132605
CREATED:20241130T025125Z
LAST-MODIFIED:20251203T161301Z
UID:10006157-1836223200-1836226800@www.gethsemane.org
SUMMARY:Staff Meeting
DESCRIPTION:
URL:https://www.gethsemane.org/event/staff-meeting/2028-03-09/
LOCATION:GLC – Conference Room\, 35 E Stanton Ave.\, Columbus\, OH\, 43214\, United States
END:VEVENT
BEGIN:VEVENT
DTSTART;TZID=America/New_York:20280316T140000
DTEND;TZID=America/New_York:20280316T150000
DTSTAMP:20260423T132605
CREATED:20241130T025125Z
LAST-MODIFIED:20251203T161301Z
UID:10006158-1836828000-1836831600@www.gethsemane.org
SUMMARY:Staff Meeting
DESCRIPTION:
URL:https://www.gethsemane.org/event/staff-meeting/2028-03-16/
LOCATION:GLC – Conference Room\, 35 E Stanton Ave.\, Columbus\, OH\, 43214\, United States
END:VEVENT
BEGIN:VEVENT
DTSTART;TZID=America/New_York:20280320T190000
DTEND;TZID=America/New_York:20280320T203000
DTSTAMP:20260423T132605
CREATED:20241102T223834Z
LAST-MODIFIED:20250727T115514Z
UID:10004684-1837191600-1837197000@www.gethsemane.org
SUMMARY:Congregational Council
DESCRIPTION:
URL:https://www.gethsemane.org/event/congregational-council/2028-03-20/
LOCATION:GLC – Conference Room\, 35 E Stanton Ave.\, Columbus\, OH\, 43214\, United States
END:VEVENT
BEGIN:VEVENT
DTSTART;TZID=America/New_York:20280323T140000
DTEND;TZID=America/New_York:20280323T150000
DTSTAMP:20260423T132605
CREATED:20241130T025125Z
LAST-MODIFIED:20251203T161301Z
UID:10006159-1837432800-1837436400@www.gethsemane.org
SUMMARY:Staff Meeting
DESCRIPTION:
URL:https://www.gethsemane.org/event/staff-meeting/2028-03-23/
LOCATION:GLC – Conference Room\, 35 E Stanton Ave.\, Columbus\, OH\, 43214\, United States
END:VEVENT
BEGIN:VEVENT
DTSTART;TZID=America/New_York:20280330T140000
DTEND;TZID=America/New_York:20280330T150000
DTSTAMP:20260423T132605
CREATED:20241130T025125Z
LAST-MODIFIED:20251203T161301Z
UID:10006160-1838037600-1838041200@www.gethsemane.org
SUMMARY:Staff Meeting
DESCRIPTION:
URL:https://www.gethsemane.org/event/staff-meeting/2028-03-30/
LOCATION:GLC – Conference Room\, 35 E Stanton Ave.\, Columbus\, OH\, 43214\, United States
END:VEVENT
BEGIN:VEVENT
DTSTART;TZID=America/New_York:20280403T183000
DTEND;TZID=America/New_York:20280403T200000
DTSTAMP:20260423T132605
CREATED:20241102T214833Z
LAST-MODIFIED:20250815T020713Z
UID:10001705-1838399400-1838404800@www.gethsemane.org
SUMMARY:Play & Learn Committee
DESCRIPTION:
URL:https://www.gethsemane.org/event/play-learn-committee/2028-04-03/
LOCATION:GLC – Conference Room\, 35 E Stanton Ave.\, Columbus\, OH\, 43214\, United States
END:VEVENT
BEGIN:VEVENT
DTSTART;TZID=America/New_York:20280406T140000
DTEND;TZID=America/New_York:20280406T150000
DTSTAMP:20260423T132605
CREATED:20241130T025125Z
LAST-MODIFIED:20251203T161301Z
UID:10006161-1838642400-1838646000@www.gethsemane.org
SUMMARY:Staff Meeting
DESCRIPTION:
URL:https://www.gethsemane.org/event/staff-meeting/2028-04-06/
LOCATION:GLC – Conference Room\, 35 E Stanton Ave.\, Columbus\, OH\, 43214\, United States
END:VEVENT
BEGIN:VEVENT
DTSTART;TZID=America/New_York:20280413T140000
DTEND;TZID=America/New_York:20280413T150000
DTSTAMP:20260423T132605
CREATED:20241130T025125Z
LAST-MODIFIED:20251203T161301Z
UID:10006162-1839247200-1839250800@www.gethsemane.org
SUMMARY:Staff Meeting
DESCRIPTION:
URL:https://www.gethsemane.org/event/staff-meeting/2028-04-13/
LOCATION:GLC – Conference Room\, 35 E Stanton Ave.\, Columbus\, OH\, 43214\, United States
END:VEVENT
BEGIN:VEVENT
DTSTART;TZID=America/New_York:20280417T190000
DTEND;TZID=America/New_York:20280417T203000
DTSTAMP:20260423T132605
CREATED:20241102T223834Z
LAST-MODIFIED:20250727T115514Z
UID:10004685-1839610800-1839616200@www.gethsemane.org
SUMMARY:Congregational Council
DESCRIPTION:
URL:https://www.gethsemane.org/event/congregational-council/2028-04-17/
LOCATION:GLC – Conference Room\, 35 E Stanton Ave.\, Columbus\, OH\, 43214\, United States
END:VEVENT
BEGIN:VEVENT
DTSTART;TZID=America/New_York:20280420T140000
DTEND;TZID=America/New_York:20280420T150000
DTSTAMP:20260423T132605
CREATED:20241130T025125Z
LAST-MODIFIED:20251203T161301Z
UID:10006163-1839852000-1839855600@www.gethsemane.org
SUMMARY:Staff Meeting
DESCRIPTION:
URL:https://www.gethsemane.org/event/staff-meeting/2028-04-20/
LOCATION:GLC – Conference Room\, 35 E Stanton Ave.\, Columbus\, OH\, 43214\, United States
END:VEVENT
BEGIN:VEVENT
DTSTART;TZID=America/New_York:20280427T140000
DTEND;TZID=America/New_York:20280427T150000
DTSTAMP:20260423T132605
CREATED:20241130T025125Z
LAST-MODIFIED:20251203T161301Z
UID:10006164-1840456800-1840460400@www.gethsemane.org
SUMMARY:Staff Meeting
DESCRIPTION:
URL:https://www.gethsemane.org/event/staff-meeting/2028-04-27/
LOCATION:GLC – Conference Room\, 35 E Stanton Ave.\, Columbus\, OH\, 43214\, United States
END:VEVENT
BEGIN:VEVENT
DTSTART;TZID=America/New_York:20280501T183000
DTEND;TZID=America/New_York:20280501T200000
DTSTAMP:20260423T132605
CREATED:20241102T214833Z
LAST-MODIFIED:20250815T020713Z
UID:10001706-1840818600-1840824000@www.gethsemane.org
SUMMARY:Play & Learn Committee
DESCRIPTION:
URL:https://www.gethsemane.org/event/play-learn-committee/2028-05-01/
LOCATION:GLC – Conference Room\, 35 E Stanton Ave.\, Columbus\, OH\, 43214\, United States
END:VEVENT
BEGIN:VEVENT
DTSTART;TZID=America/New_York:20280504T140000
DTEND;TZID=America/New_York:20280504T150000
DTSTAMP:20260423T132605
CREATED:20241130T025125Z
LAST-MODIFIED:20251203T161301Z
UID:10006165-1841061600-1841065200@www.gethsemane.org
SUMMARY:Staff Meeting
DESCRIPTION:
URL:https://www.gethsemane.org/event/staff-meeting/2028-05-04/
LOCATION:GLC – Conference Room\, 35 E Stanton Ave.\, Columbus\, OH\, 43214\, United States
END:VEVENT
BEGIN:VEVENT
DTSTART;TZID=America/New_York:20280511T140000
DTEND;TZID=America/New_York:20280511T150000
DTSTAMP:20260423T132606
CREATED:20241130T025125Z
LAST-MODIFIED:20251203T161301Z
UID:10006166-1841666400-1841670000@www.gethsemane.org
SUMMARY:Staff Meeting
DESCRIPTION:
URL:https://www.gethsemane.org/event/staff-meeting/2028-05-11/
LOCATION:GLC – Conference Room\, 35 E Stanton Ave.\, Columbus\, OH\, 43214\, United States
END:VEVENT
BEGIN:VEVENT
DTSTART;TZID=America/New_York:20280515T190000
DTEND;TZID=America/New_York:20280515T203000
DTSTAMP:20260423T132606
CREATED:20241102T223834Z
LAST-MODIFIED:20250727T115514Z
UID:10004686-1842030000-1842035400@www.gethsemane.org
SUMMARY:Congregational Council
DESCRIPTION:
URL:https://www.gethsemane.org/event/congregational-council/2028-05-15/
LOCATION:GLC – Conference Room\, 35 E Stanton Ave.\, Columbus\, OH\, 43214\, United States
END:VEVENT
BEGIN:VEVENT
DTSTART;TZID=America/New_York:20280518T140000
DTEND;TZID=America/New_York:20280518T150000
DTSTAMP:20260423T132606
CREATED:20241130T025125Z
LAST-MODIFIED:20251203T161301Z
UID:10006167-1842271200-1842274800@www.gethsemane.org
SUMMARY:Staff Meeting
DESCRIPTION:
URL:https://www.gethsemane.org/event/staff-meeting/2028-05-18/
LOCATION:GLC – Conference Room\, 35 E Stanton Ave.\, Columbus\, OH\, 43214\, United States
END:VEVENT
BEGIN:VEVENT
DTSTART;TZID=America/New_York:20280525T140000
DTEND;TZID=America/New_York:20280525T150000
DTSTAMP:20260423T132606
CREATED:20241130T025125Z
LAST-MODIFIED:20251203T161301Z
UID:10006168-1842876000-1842879600@www.gethsemane.org
SUMMARY:Staff Meeting
DESCRIPTION:
URL:https://www.gethsemane.org/event/staff-meeting/2028-05-25/
LOCATION:GLC – Conference Room\, 35 E Stanton Ave.\, Columbus\, OH\, 43214\, United States
END:VEVENT
BEGIN:VEVENT
DTSTART;TZID=America/New_York:20280601T140000
DTEND;TZID=America/New_York:20280601T150000
DTSTAMP:20260423T132606
CREATED:20241130T025125Z
LAST-MODIFIED:20251203T161301Z
UID:10006169-1843480800-1843484400@www.gethsemane.org
SUMMARY:Staff Meeting
DESCRIPTION:
URL:https://www.gethsemane.org/event/staff-meeting/2028-06-01/
LOCATION:GLC – Conference Room\, 35 E Stanton Ave.\, Columbus\, OH\, 43214\, United States
END:VEVENT
BEGIN:VEVENT
DTSTART;TZID=America/New_York:20280605T183000
DTEND;TZID=America/New_York:20280605T200000
DTSTAMP:20260423T132606
CREATED:20241102T214833Z
LAST-MODIFIED:20250815T020713Z
UID:10001707-1843842600-1843848000@www.gethsemane.org
SUMMARY:Play & Learn Committee
DESCRIPTION:
URL:https://www.gethsemane.org/event/play-learn-committee/2028-06-05/
LOCATION:GLC – Conference Room\, 35 E Stanton Ave.\, Columbus\, OH\, 43214\, United States
END:VEVENT
END:VCALENDAR