BEGIN:VCALENDAR
VERSION:2.0
PRODID:-//Gethsemane Lutheran Church - ECPv6.15.20//NONSGML v1.0//EN
CALSCALE:GREGORIAN
METHOD:PUBLISH
X-WR-CALNAME:Gethsemane Lutheran Church
X-ORIGINAL-URL:https://www.gethsemane.org
X-WR-CALDESC:Events for Gethsemane Lutheran Church
REFRESH-INTERVAL;VALUE=DURATION:PT1H
X-Robots-Tag:noindex
X-PUBLISHED-TTL:PT1H
BEGIN:VTIMEZONE
TZID:America/New_York
BEGIN:DAYLIGHT
TZOFFSETFROM:-0500
TZOFFSETTO:-0400
TZNAME:EDT
DTSTART:20260308T070000
END:DAYLIGHT
BEGIN:STANDARD
TZOFFSETFROM:-0400
TZOFFSETTO:-0500
TZNAME:EST
DTSTART:20261101T060000
END:STANDARD
BEGIN:DAYLIGHT
TZOFFSETFROM:-0500
TZOFFSETTO:-0400
TZNAME:EDT
DTSTART:20270314T070000
END:DAYLIGHT
BEGIN:STANDARD
TZOFFSETFROM:-0400
TZOFFSETTO:-0500
TZNAME:EST
DTSTART:20271107T060000
END:STANDARD
BEGIN:DAYLIGHT
TZOFFSETFROM:-0500
TZOFFSETTO:-0400
TZNAME:EDT
DTSTART:20280312T070000
END:DAYLIGHT
BEGIN:STANDARD
TZOFFSETFROM:-0400
TZOFFSETTO:-0500
TZNAME:EST
DTSTART:20281105T060000
END:STANDARD
END:VTIMEZONE
BEGIN:VEVENT
DTSTART;TZID=America/New_York:20270129T160000
DTEND;TZID=America/New_York:20270129T170000
DTSTAMP:20260421T071353
CREATED:20241102T212638Z
LAST-MODIFIED:20250627T025236Z
UID:10004365-1801238400-1801242000@www.gethsemane.org
SUMMARY:Piano Practice
DESCRIPTION:
URL:https://www.gethsemane.org/event/piano-practice-3/2027-01-29/
LOCATION:GLC – Sanctuary\, 35 E Stanton Ave\, Columbus\, OH\, 43214\, United States
END:VEVENT
BEGIN:VEVENT
DTSTART;TZID=America/New_York:20270130T110000
DTEND;TZID=America/New_York:20270130T140000
DTSTAMP:20260421T071353
CREATED:20240607T234910Z
LAST-MODIFIED:20241130T025448Z
UID:10000997-1801306800-1801317600@www.gethsemane.org
SUMMARY:IYK Choir
DESCRIPTION:
URL:https://www.gethsemane.org/event/iyk-choir/2027-01-30/
LOCATION:OH
END:VEVENT
BEGIN:VEVENT
DTSTART;TZID=America/New_York:20270131T130000
DTEND;TZID=America/New_York:20270131T150000
DTSTAMP:20260421T071353
CREATED:20241102T214108Z
LAST-MODIFIED:20250325T022544Z
UID:10001259-1801400400-1801407600@www.gethsemane.org
SUMMARY:IYK Worship
DESCRIPTION:
URL:https://www.gethsemane.org/event/iyk-worship/2027-01-31/
LOCATION:GLC – Sanctuary\, 35 E Stanton Ave\, Columbus\, OH\, 43214\, United States
END:VEVENT
BEGIN:VEVENT
DTSTART;TZID=America/New_York:20270205T160000
DTEND;TZID=America/New_York:20270205T170000
DTSTAMP:20260421T071353
CREATED:20241102T212638Z
LAST-MODIFIED:20250627T025236Z
UID:10004366-1801843200-1801846800@www.gethsemane.org
SUMMARY:Piano Practice
DESCRIPTION:
URL:https://www.gethsemane.org/event/piano-practice-3/2027-02-05/
LOCATION:GLC – Sanctuary\, 35 E Stanton Ave\, Columbus\, OH\, 43214\, United States
END:VEVENT
BEGIN:VEVENT
DTSTART;TZID=America/New_York:20270206T110000
DTEND;TZID=America/New_York:20270206T140000
DTSTAMP:20260421T071353
CREATED:20240607T234910Z
LAST-MODIFIED:20241130T025448Z
UID:10000998-1801911600-1801922400@www.gethsemane.org
SUMMARY:IYK Choir
DESCRIPTION:
URL:https://www.gethsemane.org/event/iyk-choir/2027-02-06/
LOCATION:OH
END:VEVENT
BEGIN:VEVENT
DTSTART;TZID=America/New_York:20270207T130000
DTEND;TZID=America/New_York:20270207T150000
DTSTAMP:20260421T071353
CREATED:20241102T214108Z
LAST-MODIFIED:20250325T022544Z
UID:10001260-1802005200-1802012400@www.gethsemane.org
SUMMARY:IYK Worship
DESCRIPTION:
URL:https://www.gethsemane.org/event/iyk-worship/2027-02-07/
LOCATION:GLC – Sanctuary\, 35 E Stanton Ave\, Columbus\, OH\, 43214\, United States
END:VEVENT
BEGIN:VEVENT
DTSTART;TZID=America/New_York:20270212T160000
DTEND;TZID=America/New_York:20270212T170000
DTSTAMP:20260421T071353
CREATED:20241102T212638Z
LAST-MODIFIED:20250627T025236Z
UID:10004367-1802448000-1802451600@www.gethsemane.org
SUMMARY:Piano Practice
DESCRIPTION:
URL:https://www.gethsemane.org/event/piano-practice-3/2027-02-12/
LOCATION:GLC – Sanctuary\, 35 E Stanton Ave\, Columbus\, OH\, 43214\, United States
END:VEVENT
BEGIN:VEVENT
DTSTART;TZID=America/New_York:20270213T110000
DTEND;TZID=America/New_York:20270213T140000
DTSTAMP:20260421T071353
CREATED:20240607T234910Z
LAST-MODIFIED:20241130T025448Z
UID:10000999-1802516400-1802527200@www.gethsemane.org
SUMMARY:IYK Choir
DESCRIPTION:
URL:https://www.gethsemane.org/event/iyk-choir/2027-02-13/
LOCATION:OH
END:VEVENT
BEGIN:VEVENT
DTSTART;TZID=America/New_York:20270214T130000
DTEND;TZID=America/New_York:20270214T150000
DTSTAMP:20260421T071353
CREATED:20241102T214108Z
LAST-MODIFIED:20250325T022544Z
UID:10001261-1802610000-1802617200@www.gethsemane.org
SUMMARY:IYK Worship
DESCRIPTION:
URL:https://www.gethsemane.org/event/iyk-worship/2027-02-14/
LOCATION:GLC – Sanctuary\, 35 E Stanton Ave\, Columbus\, OH\, 43214\, United States
END:VEVENT
BEGIN:VEVENT
DTSTART;TZID=America/New_York:20270219T160000
DTEND;TZID=America/New_York:20270219T170000
DTSTAMP:20260421T071353
CREATED:20241102T212638Z
LAST-MODIFIED:20250627T025236Z
UID:10004368-1803052800-1803056400@www.gethsemane.org
SUMMARY:Piano Practice
DESCRIPTION:
URL:https://www.gethsemane.org/event/piano-practice-3/2027-02-19/
LOCATION:GLC – Sanctuary\, 35 E Stanton Ave\, Columbus\, OH\, 43214\, United States
END:VEVENT
BEGIN:VEVENT
DTSTART;TZID=America/New_York:20270220T110000
DTEND;TZID=America/New_York:20270220T140000
DTSTAMP:20260421T071353
CREATED:20240607T234910Z
LAST-MODIFIED:20241130T025448Z
UID:10001000-1803121200-1803132000@www.gethsemane.org
SUMMARY:IYK Choir
DESCRIPTION:
URL:https://www.gethsemane.org/event/iyk-choir/2027-02-20/
LOCATION:OH
END:VEVENT
BEGIN:VEVENT
DTSTART;TZID=America/New_York:20270221T130000
DTEND;TZID=America/New_York:20270221T150000
DTSTAMP:20260421T071353
CREATED:20241102T214108Z
LAST-MODIFIED:20250325T022544Z
UID:10001262-1803214800-1803222000@www.gethsemane.org
SUMMARY:IYK Worship
DESCRIPTION:
URL:https://www.gethsemane.org/event/iyk-worship/2027-02-21/
LOCATION:GLC – Sanctuary\, 35 E Stanton Ave\, Columbus\, OH\, 43214\, United States
END:VEVENT
BEGIN:VEVENT
DTSTART;TZID=America/New_York:20270226T160000
DTEND;TZID=America/New_York:20270226T170000
DTSTAMP:20260421T071353
CREATED:20241102T212638Z
LAST-MODIFIED:20250627T025236Z
UID:10004369-1803657600-1803661200@www.gethsemane.org
SUMMARY:Piano Practice
DESCRIPTION:
URL:https://www.gethsemane.org/event/piano-practice-3/2027-02-26/
LOCATION:GLC – Sanctuary\, 35 E Stanton Ave\, Columbus\, OH\, 43214\, United States
END:VEVENT
BEGIN:VEVENT
DTSTART;TZID=America/New_York:20270227T110000
DTEND;TZID=America/New_York:20270227T140000
DTSTAMP:20260421T071353
CREATED:20240607T234910Z
LAST-MODIFIED:20241130T025448Z
UID:10001001-1803726000-1803736800@www.gethsemane.org
SUMMARY:IYK Choir
DESCRIPTION:
URL:https://www.gethsemane.org/event/iyk-choir/2027-02-27/
LOCATION:OH
END:VEVENT
BEGIN:VEVENT
DTSTART;TZID=America/New_York:20270228T130000
DTEND;TZID=America/New_York:20270228T150000
DTSTAMP:20260421T071353
CREATED:20241102T214108Z
LAST-MODIFIED:20250325T022544Z
UID:10001263-1803819600-1803826800@www.gethsemane.org
SUMMARY:IYK Worship
DESCRIPTION:
URL:https://www.gethsemane.org/event/iyk-worship/2027-02-28/
LOCATION:GLC – Sanctuary\, 35 E Stanton Ave\, Columbus\, OH\, 43214\, United States
END:VEVENT
BEGIN:VEVENT
DTSTART;TZID=America/New_York:20270305T160000
DTEND;TZID=America/New_York:20270305T170000
DTSTAMP:20260421T071353
CREATED:20241102T212638Z
LAST-MODIFIED:20250627T025236Z
UID:10004370-1804262400-1804266000@www.gethsemane.org
SUMMARY:Piano Practice
DESCRIPTION:
URL:https://www.gethsemane.org/event/piano-practice-3/2027-03-05/
LOCATION:GLC – Sanctuary\, 35 E Stanton Ave\, Columbus\, OH\, 43214\, United States
END:VEVENT
BEGIN:VEVENT
DTSTART;TZID=America/New_York:20270306T110000
DTEND;TZID=America/New_York:20270306T140000
DTSTAMP:20260421T071353
CREATED:20240607T234910Z
LAST-MODIFIED:20241130T025448Z
UID:10001002-1804330800-1804341600@www.gethsemane.org
SUMMARY:IYK Choir
DESCRIPTION:
URL:https://www.gethsemane.org/event/iyk-choir/2027-03-06/
LOCATION:OH
END:VEVENT
BEGIN:VEVENT
DTSTART;TZID=America/New_York:20270307T130000
DTEND;TZID=America/New_York:20270307T150000
DTSTAMP:20260421T071353
CREATED:20241102T214108Z
LAST-MODIFIED:20250325T022544Z
UID:10001264-1804424400-1804431600@www.gethsemane.org
SUMMARY:IYK Worship
DESCRIPTION:
URL:https://www.gethsemane.org/event/iyk-worship/2027-03-07/
LOCATION:GLC – Sanctuary\, 35 E Stanton Ave\, Columbus\, OH\, 43214\, United States
END:VEVENT
BEGIN:VEVENT
DTSTART;TZID=America/New_York:20270312T160000
DTEND;TZID=America/New_York:20270312T170000
DTSTAMP:20260421T071353
CREATED:20241102T212638Z
LAST-MODIFIED:20250627T025236Z
UID:10004371-1804867200-1804870800@www.gethsemane.org
SUMMARY:Piano Practice
DESCRIPTION:
URL:https://www.gethsemane.org/event/piano-practice-3/2027-03-12/
LOCATION:GLC – Sanctuary\, 35 E Stanton Ave\, Columbus\, OH\, 43214\, United States
END:VEVENT
BEGIN:VEVENT
DTSTART;TZID=America/New_York:20270313T110000
DTEND;TZID=America/New_York:20270313T140000
DTSTAMP:20260421T071353
CREATED:20240607T234910Z
LAST-MODIFIED:20241130T025448Z
UID:10001003-1804935600-1804946400@www.gethsemane.org
SUMMARY:IYK Choir
DESCRIPTION:
URL:https://www.gethsemane.org/event/iyk-choir/2027-03-13/
LOCATION:OH
END:VEVENT
BEGIN:VEVENT
DTSTART;TZID=America/New_York:20270314T130000
DTEND;TZID=America/New_York:20270314T150000
DTSTAMP:20260421T071353
CREATED:20241102T214108Z
LAST-MODIFIED:20250325T022544Z
UID:10001265-1805029200-1805036400@www.gethsemane.org
SUMMARY:IYK Worship
DESCRIPTION:
URL:https://www.gethsemane.org/event/iyk-worship/2027-03-14/
LOCATION:GLC – Sanctuary\, 35 E Stanton Ave\, Columbus\, OH\, 43214\, United States
END:VEVENT
BEGIN:VEVENT
DTSTART;TZID=America/New_York:20270319T160000
DTEND;TZID=America/New_York:20270319T170000
DTSTAMP:20260421T071353
CREATED:20241102T212638Z
LAST-MODIFIED:20250627T025236Z
UID:10004372-1805472000-1805475600@www.gethsemane.org
SUMMARY:Piano Practice
DESCRIPTION:
URL:https://www.gethsemane.org/event/piano-practice-3/2027-03-19/
LOCATION:GLC – Sanctuary\, 35 E Stanton Ave\, Columbus\, OH\, 43214\, United States
END:VEVENT
BEGIN:VEVENT
DTSTART;TZID=America/New_York:20270320T110000
DTEND;TZID=America/New_York:20270320T140000
DTSTAMP:20260421T071353
CREATED:20240607T234910Z
LAST-MODIFIED:20241130T025448Z
UID:10001004-1805540400-1805551200@www.gethsemane.org
SUMMARY:IYK Choir
DESCRIPTION:
URL:https://www.gethsemane.org/event/iyk-choir/2027-03-20/
LOCATION:OH
END:VEVENT
BEGIN:VEVENT
DTSTART;TZID=America/New_York:20270321T130000
DTEND;TZID=America/New_York:20270321T150000
DTSTAMP:20260421T071353
CREATED:20241102T214108Z
LAST-MODIFIED:20250325T022544Z
UID:10001266-1805634000-1805641200@www.gethsemane.org
SUMMARY:IYK Worship
DESCRIPTION:
URL:https://www.gethsemane.org/event/iyk-worship/2027-03-21/
LOCATION:GLC – Sanctuary\, 35 E Stanton Ave\, Columbus\, OH\, 43214\, United States
END:VEVENT
BEGIN:VEVENT
DTSTART;TZID=America/New_York:20270326T160000
DTEND;TZID=America/New_York:20270326T170000
DTSTAMP:20260421T071353
CREATED:20241102T212638Z
LAST-MODIFIED:20250627T025236Z
UID:10004373-1806076800-1806080400@www.gethsemane.org
SUMMARY:Piano Practice
DESCRIPTION:
URL:https://www.gethsemane.org/event/piano-practice-3/2027-03-26/
LOCATION:GLC – Sanctuary\, 35 E Stanton Ave\, Columbus\, OH\, 43214\, United States
END:VEVENT
BEGIN:VEVENT
DTSTART;TZID=America/New_York:20270327T110000
DTEND;TZID=America/New_York:20270327T140000
DTSTAMP:20260421T071353
CREATED:20240607T234910Z
LAST-MODIFIED:20241130T025448Z
UID:10001005-1806145200-1806156000@www.gethsemane.org
SUMMARY:IYK Choir
DESCRIPTION:
URL:https://www.gethsemane.org/event/iyk-choir/2027-03-27/
LOCATION:OH
END:VEVENT
BEGIN:VEVENT
DTSTART;TZID=America/New_York:20270328T130000
DTEND;TZID=America/New_York:20270328T150000
DTSTAMP:20260421T071353
CREATED:20241102T214108Z
LAST-MODIFIED:20250325T022544Z
UID:10001267-1806238800-1806246000@www.gethsemane.org
SUMMARY:IYK Worship
DESCRIPTION:
URL:https://www.gethsemane.org/event/iyk-worship/2027-03-28/
LOCATION:GLC – Sanctuary\, 35 E Stanton Ave\, Columbus\, OH\, 43214\, United States
END:VEVENT
BEGIN:VEVENT
DTSTART;TZID=America/New_York:20270402T160000
DTEND;TZID=America/New_York:20270402T170000
DTSTAMP:20260421T071353
CREATED:20241102T212638Z
LAST-MODIFIED:20250627T025236Z
UID:10004374-1806681600-1806685200@www.gethsemane.org
SUMMARY:Piano Practice
DESCRIPTION:
URL:https://www.gethsemane.org/event/piano-practice-3/2027-04-02/
LOCATION:GLC – Sanctuary\, 35 E Stanton Ave\, Columbus\, OH\, 43214\, United States
END:VEVENT
BEGIN:VEVENT
DTSTART;TZID=America/New_York:20270403T110000
DTEND;TZID=America/New_York:20270403T140000
DTSTAMP:20260421T071353
CREATED:20240607T234910Z
LAST-MODIFIED:20241130T025448Z
UID:10001006-1806750000-1806760800@www.gethsemane.org
SUMMARY:IYK Choir
DESCRIPTION:
URL:https://www.gethsemane.org/event/iyk-choir/2027-04-03/
LOCATION:OH
END:VEVENT
BEGIN:VEVENT
DTSTART;TZID=America/New_York:20270404T130000
DTEND;TZID=America/New_York:20270404T150000
DTSTAMP:20260421T071353
CREATED:20241102T214108Z
LAST-MODIFIED:20250325T022544Z
UID:10001268-1806843600-1806850800@www.gethsemane.org
SUMMARY:IYK Worship
DESCRIPTION:
URL:https://www.gethsemane.org/event/iyk-worship/2027-04-04/
LOCATION:GLC – Sanctuary\, 35 E Stanton Ave\, Columbus\, OH\, 43214\, United States
END:VEVENT
END:VCALENDAR