BEGIN:VCALENDAR
VERSION:2.0
PRODID:-//Gethsemane Lutheran Church - ECPv6.15.20//NONSGML v1.0//EN
CALSCALE:GREGORIAN
METHOD:PUBLISH
X-ORIGINAL-URL:https://www.gethsemane.org
X-WR-CALDESC:Events for Gethsemane Lutheran Church
REFRESH-INTERVAL;VALUE=DURATION:PT1H
X-Robots-Tag:noindex
X-PUBLISHED-TTL:PT1H
BEGIN:VTIMEZONE
TZID:America/New_York
BEGIN:DAYLIGHT
TZOFFSETFROM:-0500
TZOFFSETTO:-0400
TZNAME:EDT
DTSTART:20260308T070000
END:DAYLIGHT
BEGIN:STANDARD
TZOFFSETFROM:-0400
TZOFFSETTO:-0500
TZNAME:EST
DTSTART:20261101T060000
END:STANDARD
BEGIN:DAYLIGHT
TZOFFSETFROM:-0500
TZOFFSETTO:-0400
TZNAME:EDT
DTSTART:20270314T070000
END:DAYLIGHT
BEGIN:STANDARD
TZOFFSETFROM:-0400
TZOFFSETTO:-0500
TZNAME:EST
DTSTART:20271107T060000
END:STANDARD
BEGIN:DAYLIGHT
TZOFFSETFROM:-0500
TZOFFSETTO:-0400
TZNAME:EDT
DTSTART:20280312T070000
END:DAYLIGHT
BEGIN:STANDARD
TZOFFSETFROM:-0400
TZOFFSETTO:-0500
TZNAME:EST
DTSTART:20281105T060000
END:STANDARD
END:VTIMEZONE
BEGIN:VEVENT
DTSTART;TZID=America/New_York:20270423T160000
DTEND;TZID=America/New_York:20270423T170000
DTSTAMP:20260421T115343
CREATED:20241102T212638Z
LAST-MODIFIED:20250627T025236Z
UID:10004377-1808496000-1808499600@www.gethsemane.org
SUMMARY:Piano Practice
DESCRIPTION:
URL:https://www.gethsemane.org/event/piano-practice-3/2027-04-23/
LOCATION:GLC – Sanctuary\, 35 E Stanton Ave\, Columbus\, OH\, 43214\, United States
END:VEVENT
BEGIN:VEVENT
DTSTART;TZID=America/New_York:20270424T110000
DTEND;TZID=America/New_York:20270424T140000
DTSTAMP:20260421T115343
CREATED:20240607T234910Z
LAST-MODIFIED:20241130T025448Z
UID:10001009-1808564400-1808575200@www.gethsemane.org
SUMMARY:IYK Choir
DESCRIPTION:
URL:https://www.gethsemane.org/event/iyk-choir/2027-04-24/
LOCATION:OH
END:VEVENT
BEGIN:VEVENT
DTSTART;TZID=America/New_York:20270425T130000
DTEND;TZID=America/New_York:20270425T150000
DTSTAMP:20260421T115343
CREATED:20241102T214108Z
LAST-MODIFIED:20250325T022544Z
UID:10001271-1808658000-1808665200@www.gethsemane.org
SUMMARY:IYK Worship
DESCRIPTION:
URL:https://www.gethsemane.org/event/iyk-worship/2027-04-25/
LOCATION:GLC – Sanctuary\, 35 E Stanton Ave\, Columbus\, OH\, 43214\, United States
END:VEVENT
BEGIN:VEVENT
DTSTART;TZID=America/New_York:20270430T160000
DTEND;TZID=America/New_York:20270430T170000
DTSTAMP:20260421T115343
CREATED:20241102T212638Z
LAST-MODIFIED:20250627T025236Z
UID:10004378-1809100800-1809104400@www.gethsemane.org
SUMMARY:Piano Practice
DESCRIPTION:
URL:https://www.gethsemane.org/event/piano-practice-3/2027-04-30/
LOCATION:GLC – Sanctuary\, 35 E Stanton Ave\, Columbus\, OH\, 43214\, United States
END:VEVENT
BEGIN:VEVENT
DTSTART;TZID=America/New_York:20270501T110000
DTEND;TZID=America/New_York:20270501T140000
DTSTAMP:20260421T115343
CREATED:20240607T234910Z
LAST-MODIFIED:20241130T025448Z
UID:10001010-1809169200-1809180000@www.gethsemane.org
SUMMARY:IYK Choir
DESCRIPTION:
URL:https://www.gethsemane.org/event/iyk-choir/2027-05-01/
LOCATION:OH
END:VEVENT
BEGIN:VEVENT
DTSTART;TZID=America/New_York:20270502T130000
DTEND;TZID=America/New_York:20270502T150000
DTSTAMP:20260421T115343
CREATED:20241102T214108Z
LAST-MODIFIED:20250325T022544Z
UID:10001272-1809262800-1809270000@www.gethsemane.org
SUMMARY:IYK Worship
DESCRIPTION:
URL:https://www.gethsemane.org/event/iyk-worship/2027-05-02/
LOCATION:GLC – Sanctuary\, 35 E Stanton Ave\, Columbus\, OH\, 43214\, United States
END:VEVENT
BEGIN:VEVENT
DTSTART;TZID=America/New_York:20270507T160000
DTEND;TZID=America/New_York:20270507T170000
DTSTAMP:20260421T115343
CREATED:20241102T212638Z
LAST-MODIFIED:20250627T025236Z
UID:10004379-1809705600-1809709200@www.gethsemane.org
SUMMARY:Piano Practice
DESCRIPTION:
URL:https://www.gethsemane.org/event/piano-practice-3/2027-05-07/
LOCATION:GLC – Sanctuary\, 35 E Stanton Ave\, Columbus\, OH\, 43214\, United States
END:VEVENT
BEGIN:VEVENT
DTSTART;TZID=America/New_York:20270508T110000
DTEND;TZID=America/New_York:20270508T140000
DTSTAMP:20260421T115343
CREATED:20240607T234910Z
LAST-MODIFIED:20241130T025448Z
UID:10001011-1809774000-1809784800@www.gethsemane.org
SUMMARY:IYK Choir
DESCRIPTION:
URL:https://www.gethsemane.org/event/iyk-choir/2027-05-08/
LOCATION:OH
END:VEVENT
BEGIN:VEVENT
DTSTART;TZID=America/New_York:20270509T130000
DTEND;TZID=America/New_York:20270509T150000
DTSTAMP:20260421T115343
CREATED:20241102T214108Z
LAST-MODIFIED:20250325T022544Z
UID:10001273-1809867600-1809874800@www.gethsemane.org
SUMMARY:IYK Worship
DESCRIPTION:
URL:https://www.gethsemane.org/event/iyk-worship/2027-05-09/
LOCATION:GLC – Sanctuary\, 35 E Stanton Ave\, Columbus\, OH\, 43214\, United States
END:VEVENT
BEGIN:VEVENT
DTSTART;TZID=America/New_York:20270514T160000
DTEND;TZID=America/New_York:20270514T170000
DTSTAMP:20260421T115343
CREATED:20241102T212638Z
LAST-MODIFIED:20250627T025236Z
UID:10004380-1810310400-1810314000@www.gethsemane.org
SUMMARY:Piano Practice
DESCRIPTION:
URL:https://www.gethsemane.org/event/piano-practice-3/2027-05-14/
LOCATION:GLC – Sanctuary\, 35 E Stanton Ave\, Columbus\, OH\, 43214\, United States
END:VEVENT
BEGIN:VEVENT
DTSTART;TZID=America/New_York:20270515T110000
DTEND;TZID=America/New_York:20270515T140000
DTSTAMP:20260421T115343
CREATED:20240607T234910Z
LAST-MODIFIED:20241130T025448Z
UID:10001012-1810378800-1810389600@www.gethsemane.org
SUMMARY:IYK Choir
DESCRIPTION:
URL:https://www.gethsemane.org/event/iyk-choir/2027-05-15/
LOCATION:OH
END:VEVENT
BEGIN:VEVENT
DTSTART;TZID=America/New_York:20270516T130000
DTEND;TZID=America/New_York:20270516T150000
DTSTAMP:20260421T115343
CREATED:20241102T214108Z
LAST-MODIFIED:20250325T022544Z
UID:10001274-1810472400-1810479600@www.gethsemane.org
SUMMARY:IYK Worship
DESCRIPTION:
URL:https://www.gethsemane.org/event/iyk-worship/2027-05-16/
LOCATION:GLC – Sanctuary\, 35 E Stanton Ave\, Columbus\, OH\, 43214\, United States
END:VEVENT
BEGIN:VEVENT
DTSTART;TZID=America/New_York:20270521T160000
DTEND;TZID=America/New_York:20270521T170000
DTSTAMP:20260421T115343
CREATED:20241102T212638Z
LAST-MODIFIED:20250627T025236Z
UID:10004381-1810915200-1810918800@www.gethsemane.org
SUMMARY:Piano Practice
DESCRIPTION:
URL:https://www.gethsemane.org/event/piano-practice-3/2027-05-21/
LOCATION:GLC – Sanctuary\, 35 E Stanton Ave\, Columbus\, OH\, 43214\, United States
END:VEVENT
BEGIN:VEVENT
DTSTART;TZID=America/New_York:20270522T110000
DTEND;TZID=America/New_York:20270522T140000
DTSTAMP:20260421T115343
CREATED:20240607T234910Z
LAST-MODIFIED:20241130T025448Z
UID:10001013-1810983600-1810994400@www.gethsemane.org
SUMMARY:IYK Choir
DESCRIPTION:
URL:https://www.gethsemane.org/event/iyk-choir/2027-05-22/
LOCATION:OH
END:VEVENT
BEGIN:VEVENT
DTSTART;TZID=America/New_York:20270523T130000
DTEND;TZID=America/New_York:20270523T150000
DTSTAMP:20260421T115343
CREATED:20241102T214108Z
LAST-MODIFIED:20250325T022544Z
UID:10001275-1811077200-1811084400@www.gethsemane.org
SUMMARY:IYK Worship
DESCRIPTION:
URL:https://www.gethsemane.org/event/iyk-worship/2027-05-23/
LOCATION:GLC – Sanctuary\, 35 E Stanton Ave\, Columbus\, OH\, 43214\, United States
END:VEVENT
BEGIN:VEVENT
DTSTART;TZID=America/New_York:20270528T160000
DTEND;TZID=America/New_York:20270528T170000
DTSTAMP:20260421T115343
CREATED:20241102T212638Z
LAST-MODIFIED:20250627T025236Z
UID:10004382-1811520000-1811523600@www.gethsemane.org
SUMMARY:Piano Practice
DESCRIPTION:
URL:https://www.gethsemane.org/event/piano-practice-3/2027-05-28/
LOCATION:GLC – Sanctuary\, 35 E Stanton Ave\, Columbus\, OH\, 43214\, United States
END:VEVENT
BEGIN:VEVENT
DTSTART;TZID=America/New_York:20270529T110000
DTEND;TZID=America/New_York:20270529T140000
DTSTAMP:20260421T115343
CREATED:20240607T234910Z
LAST-MODIFIED:20241130T025448Z
UID:10001014-1811588400-1811599200@www.gethsemane.org
SUMMARY:IYK Choir
DESCRIPTION:
URL:https://www.gethsemane.org/event/iyk-choir/2027-05-29/
LOCATION:OH
END:VEVENT
BEGIN:VEVENT
DTSTART;TZID=America/New_York:20270530T130000
DTEND;TZID=America/New_York:20270530T150000
DTSTAMP:20260421T115343
CREATED:20241102T214108Z
LAST-MODIFIED:20250325T022544Z
UID:10001276-1811682000-1811689200@www.gethsemane.org
SUMMARY:IYK Worship
DESCRIPTION:
URL:https://www.gethsemane.org/event/iyk-worship/2027-05-30/
LOCATION:GLC – Sanctuary\, 35 E Stanton Ave\, Columbus\, OH\, 43214\, United States
END:VEVENT
BEGIN:VEVENT
DTSTART;TZID=America/New_York:20270604T160000
DTEND;TZID=America/New_York:20270604T170000
DTSTAMP:20260421T115343
CREATED:20241102T212638Z
LAST-MODIFIED:20250627T025236Z
UID:10004383-1812124800-1812128400@www.gethsemane.org
SUMMARY:Piano Practice
DESCRIPTION:
URL:https://www.gethsemane.org/event/piano-practice-3/2027-06-04/
LOCATION:GLC – Sanctuary\, 35 E Stanton Ave\, Columbus\, OH\, 43214\, United States
END:VEVENT
BEGIN:VEVENT
DTSTART;TZID=America/New_York:20270605T110000
DTEND;TZID=America/New_York:20270605T140000
DTSTAMP:20260421T115343
CREATED:20240607T234910Z
LAST-MODIFIED:20241130T025448Z
UID:10001015-1812193200-1812204000@www.gethsemane.org
SUMMARY:IYK Choir
DESCRIPTION:
URL:https://www.gethsemane.org/event/iyk-choir/2027-06-05/
LOCATION:OH
END:VEVENT
BEGIN:VEVENT
DTSTART;TZID=America/New_York:20270606T130000
DTEND;TZID=America/New_York:20270606T150000
DTSTAMP:20260421T115343
CREATED:20241102T214108Z
LAST-MODIFIED:20250325T022544Z
UID:10001277-1812286800-1812294000@www.gethsemane.org
SUMMARY:IYK Worship
DESCRIPTION:
URL:https://www.gethsemane.org/event/iyk-worship/2027-06-06/
LOCATION:GLC – Sanctuary\, 35 E Stanton Ave\, Columbus\, OH\, 43214\, United States
END:VEVENT
BEGIN:VEVENT
DTSTART;TZID=America/New_York:20270611T160000
DTEND;TZID=America/New_York:20270611T170000
DTSTAMP:20260421T115343
CREATED:20241102T212638Z
LAST-MODIFIED:20250627T025236Z
UID:10004384-1812729600-1812733200@www.gethsemane.org
SUMMARY:Piano Practice
DESCRIPTION:
URL:https://www.gethsemane.org/event/piano-practice-3/2027-06-11/
LOCATION:GLC – Sanctuary\, 35 E Stanton Ave\, Columbus\, OH\, 43214\, United States
END:VEVENT
BEGIN:VEVENT
DTSTART;TZID=America/New_York:20270612T110000
DTEND;TZID=America/New_York:20270612T140000
DTSTAMP:20260421T115343
CREATED:20240607T234910Z
LAST-MODIFIED:20241130T025448Z
UID:10001016-1812798000-1812808800@www.gethsemane.org
SUMMARY:IYK Choir
DESCRIPTION:
URL:https://www.gethsemane.org/event/iyk-choir/2027-06-12/
LOCATION:OH
END:VEVENT
BEGIN:VEVENT
DTSTART;TZID=America/New_York:20270613T130000
DTEND;TZID=America/New_York:20270613T150000
DTSTAMP:20260421T115343
CREATED:20241102T214108Z
LAST-MODIFIED:20250325T022544Z
UID:10001278-1812891600-1812898800@www.gethsemane.org
SUMMARY:IYK Worship
DESCRIPTION:
URL:https://www.gethsemane.org/event/iyk-worship/2027-06-13/
LOCATION:GLC – Sanctuary\, 35 E Stanton Ave\, Columbus\, OH\, 43214\, United States
END:VEVENT
BEGIN:VEVENT
DTSTART;TZID=America/New_York:20270618T160000
DTEND;TZID=America/New_York:20270618T170000
DTSTAMP:20260421T115343
CREATED:20241102T212638Z
LAST-MODIFIED:20250627T025236Z
UID:10004385-1813334400-1813338000@www.gethsemane.org
SUMMARY:Piano Practice
DESCRIPTION:
URL:https://www.gethsemane.org/event/piano-practice-3/2027-06-18/
LOCATION:GLC – Sanctuary\, 35 E Stanton Ave\, Columbus\, OH\, 43214\, United States
END:VEVENT
BEGIN:VEVENT
DTSTART;TZID=America/New_York:20270619T110000
DTEND;TZID=America/New_York:20270619T140000
DTSTAMP:20260421T115343
CREATED:20240607T234910Z
LAST-MODIFIED:20241130T025448Z
UID:10001017-1813402800-1813413600@www.gethsemane.org
SUMMARY:IYK Choir
DESCRIPTION:
URL:https://www.gethsemane.org/event/iyk-choir/2027-06-19/
LOCATION:OH
END:VEVENT
BEGIN:VEVENT
DTSTART;TZID=America/New_York:20270620T130000
DTEND;TZID=America/New_York:20270620T150000
DTSTAMP:20260421T115343
CREATED:20241102T214108Z
LAST-MODIFIED:20250325T022544Z
UID:10001279-1813496400-1813503600@www.gethsemane.org
SUMMARY:IYK Worship
DESCRIPTION:
URL:https://www.gethsemane.org/event/iyk-worship/2027-06-20/
LOCATION:GLC – Sanctuary\, 35 E Stanton Ave\, Columbus\, OH\, 43214\, United States
END:VEVENT
BEGIN:VEVENT
DTSTART;TZID=America/New_York:20270625T160000
DTEND;TZID=America/New_York:20270625T170000
DTSTAMP:20260421T115343
CREATED:20241102T212638Z
LAST-MODIFIED:20250627T025236Z
UID:10004386-1813939200-1813942800@www.gethsemane.org
SUMMARY:Piano Practice
DESCRIPTION:
URL:https://www.gethsemane.org/event/piano-practice-3/2027-06-25/
LOCATION:GLC – Sanctuary\, 35 E Stanton Ave\, Columbus\, OH\, 43214\, United States
END:VEVENT
BEGIN:VEVENT
DTSTART;TZID=America/New_York:20270626T110000
DTEND;TZID=America/New_York:20270626T140000
DTSTAMP:20260421T115343
CREATED:20240607T234910Z
LAST-MODIFIED:20241130T025448Z
UID:10001018-1814007600-1814018400@www.gethsemane.org
SUMMARY:IYK Choir
DESCRIPTION:
URL:https://www.gethsemane.org/event/iyk-choir/2027-06-26/
LOCATION:OH
END:VEVENT
BEGIN:VEVENT
DTSTART;TZID=America/New_York:20270627T130000
DTEND;TZID=America/New_York:20270627T150000
DTSTAMP:20260421T115343
CREATED:20241102T214108Z
LAST-MODIFIED:20250325T022544Z
UID:10001280-1814101200-1814108400@www.gethsemane.org
SUMMARY:IYK Worship
DESCRIPTION:
URL:https://www.gethsemane.org/event/iyk-worship/2027-06-27/
LOCATION:GLC – Sanctuary\, 35 E Stanton Ave\, Columbus\, OH\, 43214\, United States
END:VEVENT
END:VCALENDAR