BEGIN:VCALENDAR
VERSION:2.0
PRODID:-//Gethsemane Lutheran Church - ECPv6.15.20//NONSGML v1.0//EN
CALSCALE:GREGORIAN
METHOD:PUBLISH
X-WR-CALNAME:Gethsemane Lutheran Church
X-ORIGINAL-URL:https://www.gethsemane.org
X-WR-CALDESC:Events for Gethsemane Lutheran Church
REFRESH-INTERVAL;VALUE=DURATION:PT1H
X-Robots-Tag:noindex
X-PUBLISHED-TTL:PT1H
BEGIN:VTIMEZONE
TZID:America/New_York
BEGIN:DAYLIGHT
TZOFFSETFROM:-0500
TZOFFSETTO:-0400
TZNAME:EDT
DTSTART:20260308T070000
END:DAYLIGHT
BEGIN:STANDARD
TZOFFSETFROM:-0400
TZOFFSETTO:-0500
TZNAME:EST
DTSTART:20261101T060000
END:STANDARD
BEGIN:DAYLIGHT
TZOFFSETFROM:-0500
TZOFFSETTO:-0400
TZNAME:EDT
DTSTART:20270314T070000
END:DAYLIGHT
BEGIN:STANDARD
TZOFFSETFROM:-0400
TZOFFSETTO:-0500
TZNAME:EST
DTSTART:20271107T060000
END:STANDARD
BEGIN:DAYLIGHT
TZOFFSETFROM:-0500
TZOFFSETTO:-0400
TZNAME:EDT
DTSTART:20280312T070000
END:DAYLIGHT
BEGIN:STANDARD
TZOFFSETFROM:-0400
TZOFFSETTO:-0500
TZNAME:EST
DTSTART:20281105T060000
END:STANDARD
END:VTIMEZONE
BEGIN:VEVENT
DTSTART;TZID=America/New_York:20270910T160000
DTEND;TZID=America/New_York:20270910T170000
DTSTAMP:20260421T194807
CREATED:20241102T212638Z
LAST-MODIFIED:20250627T025236Z
UID:10004397-1820592000-1820595600@www.gethsemane.org
SUMMARY:Piano Practice
DESCRIPTION:
URL:https://www.gethsemane.org/event/piano-practice-3/2027-09-10/
LOCATION:GLC – Sanctuary\, 35 E Stanton Ave\, Columbus\, OH\, 43214\, United States
END:VEVENT
BEGIN:VEVENT
DTSTART;TZID=America/New_York:20270911T110000
DTEND;TZID=America/New_York:20270911T140000
DTSTAMP:20260421T194807
CREATED:20240607T234910Z
LAST-MODIFIED:20241130T025448Z
UID:10001029-1820660400-1820671200@www.gethsemane.org
SUMMARY:IYK Choir
DESCRIPTION:
URL:https://www.gethsemane.org/event/iyk-choir/2027-09-11/
LOCATION:OH
END:VEVENT
BEGIN:VEVENT
DTSTART;TZID=America/New_York:20270912T130000
DTEND;TZID=America/New_York:20270912T150000
DTSTAMP:20260421T194807
CREATED:20241102T214108Z
LAST-MODIFIED:20250325T022544Z
UID:10001291-1820754000-1820761200@www.gethsemane.org
SUMMARY:IYK Worship
DESCRIPTION:
URL:https://www.gethsemane.org/event/iyk-worship/2027-09-12/
LOCATION:GLC – Sanctuary\, 35 E Stanton Ave\, Columbus\, OH\, 43214\, United States
END:VEVENT
BEGIN:VEVENT
DTSTART;TZID=America/New_York:20270917T160000
DTEND;TZID=America/New_York:20270917T170000
DTSTAMP:20260421T194807
CREATED:20241102T212638Z
LAST-MODIFIED:20250627T025236Z
UID:10004398-1821196800-1821200400@www.gethsemane.org
SUMMARY:Piano Practice
DESCRIPTION:
URL:https://www.gethsemane.org/event/piano-practice-3/2027-09-17/
LOCATION:GLC – Sanctuary\, 35 E Stanton Ave\, Columbus\, OH\, 43214\, United States
END:VEVENT
BEGIN:VEVENT
DTSTART;TZID=America/New_York:20270918T110000
DTEND;TZID=America/New_York:20270918T140000
DTSTAMP:20260421T194807
CREATED:20240607T234910Z
LAST-MODIFIED:20241130T025448Z
UID:10001030-1821265200-1821276000@www.gethsemane.org
SUMMARY:IYK Choir
DESCRIPTION:
URL:https://www.gethsemane.org/event/iyk-choir/2027-09-18/
LOCATION:OH
END:VEVENT
BEGIN:VEVENT
DTSTART;TZID=America/New_York:20270919T130000
DTEND;TZID=America/New_York:20270919T150000
DTSTAMP:20260421T194807
CREATED:20241102T214108Z
LAST-MODIFIED:20250325T022544Z
UID:10001292-1821358800-1821366000@www.gethsemane.org
SUMMARY:IYK Worship
DESCRIPTION:
URL:https://www.gethsemane.org/event/iyk-worship/2027-09-19/
LOCATION:GLC – Sanctuary\, 35 E Stanton Ave\, Columbus\, OH\, 43214\, United States
END:VEVENT
BEGIN:VEVENT
DTSTART;TZID=America/New_York:20270924T160000
DTEND;TZID=America/New_York:20270924T170000
DTSTAMP:20260421T194807
CREATED:20241102T212638Z
LAST-MODIFIED:20250627T025236Z
UID:10004399-1821801600-1821805200@www.gethsemane.org
SUMMARY:Piano Practice
DESCRIPTION:
URL:https://www.gethsemane.org/event/piano-practice-3/2027-09-24/
LOCATION:GLC – Sanctuary\, 35 E Stanton Ave\, Columbus\, OH\, 43214\, United States
END:VEVENT
BEGIN:VEVENT
DTSTART;TZID=America/New_York:20270925T110000
DTEND;TZID=America/New_York:20270925T140000
DTSTAMP:20260421T194807
CREATED:20240607T234910Z
LAST-MODIFIED:20241130T025448Z
UID:10001031-1821870000-1821880800@www.gethsemane.org
SUMMARY:IYK Choir
DESCRIPTION:
URL:https://www.gethsemane.org/event/iyk-choir/2027-09-25/
LOCATION:OH
END:VEVENT
BEGIN:VEVENT
DTSTART;TZID=America/New_York:20270926T130000
DTEND;TZID=America/New_York:20270926T150000
DTSTAMP:20260421T194807
CREATED:20241102T214108Z
LAST-MODIFIED:20250325T022544Z
UID:10001293-1821963600-1821970800@www.gethsemane.org
SUMMARY:IYK Worship
DESCRIPTION:
URL:https://www.gethsemane.org/event/iyk-worship/2027-09-26/
LOCATION:GLC – Sanctuary\, 35 E Stanton Ave\, Columbus\, OH\, 43214\, United States
END:VEVENT
BEGIN:VEVENT
DTSTART;TZID=America/New_York:20271001T160000
DTEND;TZID=America/New_York:20271001T170000
DTSTAMP:20260421T194807
CREATED:20241102T212638Z
LAST-MODIFIED:20250627T025236Z
UID:10004400-1822406400-1822410000@www.gethsemane.org
SUMMARY:Piano Practice
DESCRIPTION:
URL:https://www.gethsemane.org/event/piano-practice-3/2027-10-01/
LOCATION:GLC – Sanctuary\, 35 E Stanton Ave\, Columbus\, OH\, 43214\, United States
END:VEVENT
BEGIN:VEVENT
DTSTART;TZID=America/New_York:20271002T110000
DTEND;TZID=America/New_York:20271002T140000
DTSTAMP:20260421T194807
CREATED:20240607T234910Z
LAST-MODIFIED:20241130T025448Z
UID:10001032-1822474800-1822485600@www.gethsemane.org
SUMMARY:IYK Choir
DESCRIPTION:
URL:https://www.gethsemane.org/event/iyk-choir/2027-10-02/
LOCATION:OH
END:VEVENT
BEGIN:VEVENT
DTSTART;TZID=America/New_York:20271003T130000
DTEND;TZID=America/New_York:20271003T150000
DTSTAMP:20260421T194807
CREATED:20241102T214108Z
LAST-MODIFIED:20250325T022544Z
UID:10001294-1822568400-1822575600@www.gethsemane.org
SUMMARY:IYK Worship
DESCRIPTION:
URL:https://www.gethsemane.org/event/iyk-worship/2027-10-03/
LOCATION:GLC – Sanctuary\, 35 E Stanton Ave\, Columbus\, OH\, 43214\, United States
END:VEVENT
BEGIN:VEVENT
DTSTART;TZID=America/New_York:20271008T160000
DTEND;TZID=America/New_York:20271008T170000
DTSTAMP:20260421T194807
CREATED:20241102T212638Z
LAST-MODIFIED:20250627T025236Z
UID:10004401-1823011200-1823014800@www.gethsemane.org
SUMMARY:Piano Practice
DESCRIPTION:
URL:https://www.gethsemane.org/event/piano-practice-3/2027-10-08/
LOCATION:GLC – Sanctuary\, 35 E Stanton Ave\, Columbus\, OH\, 43214\, United States
END:VEVENT
BEGIN:VEVENT
DTSTART;TZID=America/New_York:20271009T110000
DTEND;TZID=America/New_York:20271009T140000
DTSTAMP:20260421T194807
CREATED:20240607T234910Z
LAST-MODIFIED:20241130T025448Z
UID:10001033-1823079600-1823090400@www.gethsemane.org
SUMMARY:IYK Choir
DESCRIPTION:
URL:https://www.gethsemane.org/event/iyk-choir/2027-10-09/
LOCATION:OH
END:VEVENT
BEGIN:VEVENT
DTSTART;TZID=America/New_York:20271010T130000
DTEND;TZID=America/New_York:20271010T150000
DTSTAMP:20260421T194807
CREATED:20241102T214108Z
LAST-MODIFIED:20250325T022544Z
UID:10001295-1823173200-1823180400@www.gethsemane.org
SUMMARY:IYK Worship
DESCRIPTION:
URL:https://www.gethsemane.org/event/iyk-worship/2027-10-10/
LOCATION:GLC – Sanctuary\, 35 E Stanton Ave\, Columbus\, OH\, 43214\, United States
END:VEVENT
BEGIN:VEVENT
DTSTART;TZID=America/New_York:20271015T160000
DTEND;TZID=America/New_York:20271015T170000
DTSTAMP:20260421T194807
CREATED:20241102T212638Z
LAST-MODIFIED:20250627T025236Z
UID:10004402-1823616000-1823619600@www.gethsemane.org
SUMMARY:Piano Practice
DESCRIPTION:
URL:https://www.gethsemane.org/event/piano-practice-3/2027-10-15/
LOCATION:GLC – Sanctuary\, 35 E Stanton Ave\, Columbus\, OH\, 43214\, United States
END:VEVENT
BEGIN:VEVENT
DTSTART;TZID=America/New_York:20271016T110000
DTEND;TZID=America/New_York:20271016T140000
DTSTAMP:20260421T194807
CREATED:20240607T234910Z
LAST-MODIFIED:20241130T025448Z
UID:10001034-1823684400-1823695200@www.gethsemane.org
SUMMARY:IYK Choir
DESCRIPTION:
URL:https://www.gethsemane.org/event/iyk-choir/2027-10-16/
LOCATION:OH
END:VEVENT
BEGIN:VEVENT
DTSTART;TZID=America/New_York:20271017T130000
DTEND;TZID=America/New_York:20271017T150000
DTSTAMP:20260421T194807
CREATED:20241102T214108Z
LAST-MODIFIED:20250325T022544Z
UID:10001296-1823778000-1823785200@www.gethsemane.org
SUMMARY:IYK Worship
DESCRIPTION:
URL:https://www.gethsemane.org/event/iyk-worship/2027-10-17/
LOCATION:GLC – Sanctuary\, 35 E Stanton Ave\, Columbus\, OH\, 43214\, United States
END:VEVENT
BEGIN:VEVENT
DTSTART;TZID=America/New_York:20271022T160000
DTEND;TZID=America/New_York:20271022T170000
DTSTAMP:20260421T194807
CREATED:20241102T212638Z
LAST-MODIFIED:20250627T025236Z
UID:10004403-1824220800-1824224400@www.gethsemane.org
SUMMARY:Piano Practice
DESCRIPTION:
URL:https://www.gethsemane.org/event/piano-practice-3/2027-10-22/
LOCATION:GLC – Sanctuary\, 35 E Stanton Ave\, Columbus\, OH\, 43214\, United States
END:VEVENT
BEGIN:VEVENT
DTSTART;TZID=America/New_York:20271023T110000
DTEND;TZID=America/New_York:20271023T140000
DTSTAMP:20260421T194807
CREATED:20240607T234910Z
LAST-MODIFIED:20241130T025448Z
UID:10001035-1824289200-1824300000@www.gethsemane.org
SUMMARY:IYK Choir
DESCRIPTION:
URL:https://www.gethsemane.org/event/iyk-choir/2027-10-23/
LOCATION:OH
END:VEVENT
BEGIN:VEVENT
DTSTART;TZID=America/New_York:20271024T130000
DTEND;TZID=America/New_York:20271024T150000
DTSTAMP:20260421T194807
CREATED:20241102T214108Z
LAST-MODIFIED:20250325T022544Z
UID:10001297-1824382800-1824390000@www.gethsemane.org
SUMMARY:IYK Worship
DESCRIPTION:
URL:https://www.gethsemane.org/event/iyk-worship/2027-10-24/
LOCATION:GLC – Sanctuary\, 35 E Stanton Ave\, Columbus\, OH\, 43214\, United States
END:VEVENT
BEGIN:VEVENT
DTSTART;TZID=America/New_York:20271029T160000
DTEND;TZID=America/New_York:20271029T170000
DTSTAMP:20260421T194807
CREATED:20241102T212638Z
LAST-MODIFIED:20250627T025236Z
UID:10004404-1824825600-1824829200@www.gethsemane.org
SUMMARY:Piano Practice
DESCRIPTION:
URL:https://www.gethsemane.org/event/piano-practice-3/2027-10-29/
LOCATION:GLC – Sanctuary\, 35 E Stanton Ave\, Columbus\, OH\, 43214\, United States
END:VEVENT
BEGIN:VEVENT
DTSTART;TZID=America/New_York:20271030T110000
DTEND;TZID=America/New_York:20271030T140000
DTSTAMP:20260421T194807
CREATED:20240607T234910Z
LAST-MODIFIED:20241130T025448Z
UID:10001036-1824894000-1824904800@www.gethsemane.org
SUMMARY:IYK Choir
DESCRIPTION:
URL:https://www.gethsemane.org/event/iyk-choir/2027-10-30/
LOCATION:OH
END:VEVENT
BEGIN:VEVENT
DTSTART;TZID=America/New_York:20271031T130000
DTEND;TZID=America/New_York:20271031T150000
DTSTAMP:20260421T194807
CREATED:20241102T214108Z
LAST-MODIFIED:20250325T022544Z
UID:10001298-1824987600-1824994800@www.gethsemane.org
SUMMARY:IYK Worship
DESCRIPTION:
URL:https://www.gethsemane.org/event/iyk-worship/2027-10-31/
LOCATION:GLC – Sanctuary\, 35 E Stanton Ave\, Columbus\, OH\, 43214\, United States
END:VEVENT
BEGIN:VEVENT
DTSTART;TZID=America/New_York:20271105T160000
DTEND;TZID=America/New_York:20271105T170000
DTSTAMP:20260421T194807
CREATED:20241102T212638Z
LAST-MODIFIED:20250627T025236Z
UID:10004405-1825430400-1825434000@www.gethsemane.org
SUMMARY:Piano Practice
DESCRIPTION:
URL:https://www.gethsemane.org/event/piano-practice-3/2027-11-05/
LOCATION:GLC – Sanctuary\, 35 E Stanton Ave\, Columbus\, OH\, 43214\, United States
END:VEVENT
BEGIN:VEVENT
DTSTART;TZID=America/New_York:20271106T110000
DTEND;TZID=America/New_York:20271106T140000
DTSTAMP:20260421T194807
CREATED:20240607T234910Z
LAST-MODIFIED:20241130T025448Z
UID:10001037-1825498800-1825509600@www.gethsemane.org
SUMMARY:IYK Choir
DESCRIPTION:
URL:https://www.gethsemane.org/event/iyk-choir/2027-11-06/
LOCATION:OH
END:VEVENT
BEGIN:VEVENT
DTSTART;TZID=America/New_York:20271107T130000
DTEND;TZID=America/New_York:20271107T150000
DTSTAMP:20260421T194807
CREATED:20241102T214108Z
LAST-MODIFIED:20250325T022544Z
UID:10001299-1825592400-1825599600@www.gethsemane.org
SUMMARY:IYK Worship
DESCRIPTION:
URL:https://www.gethsemane.org/event/iyk-worship/2027-11-07/
LOCATION:GLC – Sanctuary\, 35 E Stanton Ave\, Columbus\, OH\, 43214\, United States
END:VEVENT
BEGIN:VEVENT
DTSTART;TZID=America/New_York:20271112T160000
DTEND;TZID=America/New_York:20271112T170000
DTSTAMP:20260421T194807
CREATED:20241102T212638Z
LAST-MODIFIED:20250627T025236Z
UID:10004406-1826035200-1826038800@www.gethsemane.org
SUMMARY:Piano Practice
DESCRIPTION:
URL:https://www.gethsemane.org/event/piano-practice-3/2027-11-12/
LOCATION:GLC – Sanctuary\, 35 E Stanton Ave\, Columbus\, OH\, 43214\, United States
END:VEVENT
BEGIN:VEVENT
DTSTART;TZID=America/New_York:20271113T110000
DTEND;TZID=America/New_York:20271113T140000
DTSTAMP:20260421T194807
CREATED:20240607T234910Z
LAST-MODIFIED:20241130T025448Z
UID:10001038-1826103600-1826114400@www.gethsemane.org
SUMMARY:IYK Choir
DESCRIPTION:
URL:https://www.gethsemane.org/event/iyk-choir/2027-11-13/
LOCATION:OH
END:VEVENT
BEGIN:VEVENT
DTSTART;TZID=America/New_York:20271114T130000
DTEND;TZID=America/New_York:20271114T150000
DTSTAMP:20260421T194807
CREATED:20241102T214108Z
LAST-MODIFIED:20250325T022544Z
UID:10001300-1826197200-1826204400@www.gethsemane.org
SUMMARY:IYK Worship
DESCRIPTION:
URL:https://www.gethsemane.org/event/iyk-worship/2027-11-14/
LOCATION:GLC – Sanctuary\, 35 E Stanton Ave\, Columbus\, OH\, 43214\, United States
END:VEVENT
END:VCALENDAR