BEGIN:VCALENDAR
VERSION:2.0
PRODID:-//Gethsemane Lutheran Church - ECPv6.15.20//NONSGML v1.0//EN
CALSCALE:GREGORIAN
METHOD:PUBLISH
X-ORIGINAL-URL:https://www.gethsemane.org
X-WR-CALDESC:Events for Gethsemane Lutheran Church
REFRESH-INTERVAL;VALUE=DURATION:PT1H
X-Robots-Tag:noindex
X-PUBLISHED-TTL:PT1H
BEGIN:VTIMEZONE
TZID:America/New_York
BEGIN:DAYLIGHT
TZOFFSETFROM:-0500
TZOFFSETTO:-0400
TZNAME:EDT
DTSTART:20260308T070000
END:DAYLIGHT
BEGIN:STANDARD
TZOFFSETFROM:-0400
TZOFFSETTO:-0500
TZNAME:EST
DTSTART:20261101T060000
END:STANDARD
BEGIN:DAYLIGHT
TZOFFSETFROM:-0500
TZOFFSETTO:-0400
TZNAME:EDT
DTSTART:20270314T070000
END:DAYLIGHT
BEGIN:STANDARD
TZOFFSETFROM:-0400
TZOFFSETTO:-0500
TZNAME:EST
DTSTART:20271107T060000
END:STANDARD
BEGIN:DAYLIGHT
TZOFFSETFROM:-0500
TZOFFSETTO:-0400
TZNAME:EDT
DTSTART:20280312T070000
END:DAYLIGHT
BEGIN:STANDARD
TZOFFSETFROM:-0400
TZOFFSETTO:-0500
TZNAME:EST
DTSTART:20281105T060000
END:STANDARD
BEGIN:DAYLIGHT
TZOFFSETFROM:-0500
TZOFFSETTO:-0400
TZNAME:EDT
DTSTART:20290311T070000
END:DAYLIGHT
BEGIN:STANDARD
TZOFFSETFROM:-0400
TZOFFSETTO:-0500
TZNAME:EST
DTSTART:20291104T060000
END:STANDARD
END:VTIMEZONE
BEGIN:VEVENT
DTSTART;TZID=America/New_York:20271203T160000
DTEND;TZID=America/New_York:20271203T170000
DTSTAMP:20260422T033149
CREATED:20241102T212638Z
LAST-MODIFIED:20250627T025236Z
UID:10004409-1827849600-1827853200@www.gethsemane.org
SUMMARY:Piano Practice
DESCRIPTION:
URL:https://www.gethsemane.org/event/piano-practice-3/2027-12-03/
LOCATION:GLC – Sanctuary\, 35 E Stanton Ave\, Columbus\, OH\, 43214\, United States
END:VEVENT
BEGIN:VEVENT
DTSTART;TZID=America/New_York:20271204T110000
DTEND;TZID=America/New_York:20271204T140000
DTSTAMP:20260422T033149
CREATED:20240607T234910Z
LAST-MODIFIED:20241130T025448Z
UID:10001041-1827918000-1827928800@www.gethsemane.org
SUMMARY:IYK Choir
DESCRIPTION:
URL:https://www.gethsemane.org/event/iyk-choir/2027-12-04/
LOCATION:OH
END:VEVENT
BEGIN:VEVENT
DTSTART;TZID=America/New_York:20271205T130000
DTEND;TZID=America/New_York:20271205T150000
DTSTAMP:20260422T033149
CREATED:20241102T214108Z
LAST-MODIFIED:20250325T022544Z
UID:10009156-1828011600-1828018800@www.gethsemane.org
SUMMARY:IYK Worship
DESCRIPTION:
URL:https://www.gethsemane.org/event/iyk-worship/2027-12-05/
LOCATION:GLC – Sanctuary\, 35 E Stanton Ave\, Columbus\, OH\, 43214\, United States
END:VEVENT
BEGIN:VEVENT
DTSTART;TZID=America/New_York:20271210T160000
DTEND;TZID=America/New_York:20271210T170000
DTSTAMP:20260422T033149
CREATED:20241102T212638Z
LAST-MODIFIED:20250627T025236Z
UID:10004410-1828454400-1828458000@www.gethsemane.org
SUMMARY:Piano Practice
DESCRIPTION:
URL:https://www.gethsemane.org/event/piano-practice-3/2027-12-10/
LOCATION:GLC – Sanctuary\, 35 E Stanton Ave\, Columbus\, OH\, 43214\, United States
END:VEVENT
BEGIN:VEVENT
DTSTART;TZID=America/New_York:20271211T110000
DTEND;TZID=America/New_York:20271211T140000
DTSTAMP:20260422T033149
CREATED:20240607T234910Z
LAST-MODIFIED:20241130T025448Z
UID:10001042-1828522800-1828533600@www.gethsemane.org
SUMMARY:IYK Choir
DESCRIPTION:
URL:https://www.gethsemane.org/event/iyk-choir/2027-12-11/
LOCATION:OH
END:VEVENT
BEGIN:VEVENT
DTSTART;TZID=America/New_York:20271212T130000
DTEND;TZID=America/New_York:20271212T150000
DTSTAMP:20260422T033149
CREATED:20241102T214108Z
LAST-MODIFIED:20250325T022544Z
UID:10009157-1828616400-1828623600@www.gethsemane.org
SUMMARY:IYK Worship
DESCRIPTION:
URL:https://www.gethsemane.org/event/iyk-worship/2027-12-12/
LOCATION:GLC – Sanctuary\, 35 E Stanton Ave\, Columbus\, OH\, 43214\, United States
END:VEVENT
BEGIN:VEVENT
DTSTART;TZID=America/New_York:20271217T160000
DTEND;TZID=America/New_York:20271217T170000
DTSTAMP:20260422T033149
CREATED:20241102T212638Z
LAST-MODIFIED:20250627T025236Z
UID:10004411-1829059200-1829062800@www.gethsemane.org
SUMMARY:Piano Practice
DESCRIPTION:
URL:https://www.gethsemane.org/event/piano-practice-3/2027-12-17/
LOCATION:GLC – Sanctuary\, 35 E Stanton Ave\, Columbus\, OH\, 43214\, United States
END:VEVENT
BEGIN:VEVENT
DTSTART;TZID=America/New_York:20271218T110000
DTEND;TZID=America/New_York:20271218T140000
DTSTAMP:20260422T033149
CREATED:20240607T234910Z
LAST-MODIFIED:20241130T025448Z
UID:10001043-1829127600-1829138400@www.gethsemane.org
SUMMARY:IYK Choir
DESCRIPTION:
URL:https://www.gethsemane.org/event/iyk-choir/2027-12-18/
LOCATION:OH
END:VEVENT
BEGIN:VEVENT
DTSTART;TZID=America/New_York:20271219T130000
DTEND;TZID=America/New_York:20271219T150000
DTSTAMP:20260422T033149
CREATED:20241102T214108Z
LAST-MODIFIED:20250325T022544Z
UID:10009158-1829221200-1829228400@www.gethsemane.org
SUMMARY:IYK Worship
DESCRIPTION:
URL:https://www.gethsemane.org/event/iyk-worship/2027-12-19/
LOCATION:GLC – Sanctuary\, 35 E Stanton Ave\, Columbus\, OH\, 43214\, United States
END:VEVENT
BEGIN:VEVENT
DTSTART;TZID=America/New_York:20271224T160000
DTEND;TZID=America/New_York:20271224T170000
DTSTAMP:20260422T033149
CREATED:20241102T212638Z
LAST-MODIFIED:20250627T025236Z
UID:10004412-1829664000-1829667600@www.gethsemane.org
SUMMARY:Piano Practice
DESCRIPTION:
URL:https://www.gethsemane.org/event/piano-practice-3/2027-12-24/
LOCATION:GLC – Sanctuary\, 35 E Stanton Ave\, Columbus\, OH\, 43214\, United States
END:VEVENT
BEGIN:VEVENT
DTSTART;TZID=America/New_York:20271225T110000
DTEND;TZID=America/New_York:20271225T140000
DTSTAMP:20260422T033149
CREATED:20240607T234910Z
LAST-MODIFIED:20241130T025448Z
UID:10001044-1829732400-1829743200@www.gethsemane.org
SUMMARY:IYK Choir
DESCRIPTION:
URL:https://www.gethsemane.org/event/iyk-choir/2027-12-25/
LOCATION:OH
END:VEVENT
BEGIN:VEVENT
DTSTART;TZID=America/New_York:20271226T130000
DTEND;TZID=America/New_York:20271226T150000
DTSTAMP:20260422T033149
CREATED:20241102T214108Z
LAST-MODIFIED:20250325T022544Z
UID:10009159-1829826000-1829833200@www.gethsemane.org
SUMMARY:IYK Worship
DESCRIPTION:
URL:https://www.gethsemane.org/event/iyk-worship/2027-12-26/
LOCATION:GLC – Sanctuary\, 35 E Stanton Ave\, Columbus\, OH\, 43214\, United States
END:VEVENT
BEGIN:VEVENT
DTSTART;TZID=America/New_York:20271231T160000
DTEND;TZID=America/New_York:20271231T170000
DTSTAMP:20260422T033149
CREATED:20241102T212638Z
LAST-MODIFIED:20250627T025236Z
UID:10004413-1830268800-1830272400@www.gethsemane.org
SUMMARY:Piano Practice
DESCRIPTION:
URL:https://www.gethsemane.org/event/piano-practice-3/2027-12-31/
LOCATION:GLC – Sanctuary\, 35 E Stanton Ave\, Columbus\, OH\, 43214\, United States
END:VEVENT
BEGIN:VEVENT
DTSTART;TZID=America/New_York:20280101T110000
DTEND;TZID=America/New_York:20280101T140000
DTSTAMP:20260422T033149
CREATED:20240607T234910Z
LAST-MODIFIED:20241130T025448Z
UID:10001045-1830337200-1830348000@www.gethsemane.org
SUMMARY:IYK Choir
DESCRIPTION:
URL:https://www.gethsemane.org/event/iyk-choir/2028-01-01/
LOCATION:OH
END:VEVENT
BEGIN:VEVENT
DTSTART;TZID=America/New_York:20280102T130000
DTEND;TZID=America/New_York:20280102T150000
DTSTAMP:20260422T033149
CREATED:20241102T214108Z
LAST-MODIFIED:20250325T022544Z
UID:10009160-1830430800-1830438000@www.gethsemane.org
SUMMARY:IYK Worship
DESCRIPTION:
URL:https://www.gethsemane.org/event/iyk-worship/2028-01-02/
LOCATION:GLC – Sanctuary\, 35 E Stanton Ave\, Columbus\, OH\, 43214\, United States
END:VEVENT
BEGIN:VEVENT
DTSTART;TZID=America/New_York:20280107T160000
DTEND;TZID=America/New_York:20280107T170000
DTSTAMP:20260422T033149
CREATED:20241102T212638Z
LAST-MODIFIED:20250627T025236Z
UID:10004414-1830873600-1830877200@www.gethsemane.org
SUMMARY:Piano Practice
DESCRIPTION:
URL:https://www.gethsemane.org/event/piano-practice-3/2028-01-07/
LOCATION:GLC – Sanctuary\, 35 E Stanton Ave\, Columbus\, OH\, 43214\, United States
END:VEVENT
BEGIN:VEVENT
DTSTART;TZID=America/New_York:20280108T110000
DTEND;TZID=America/New_York:20280108T140000
DTSTAMP:20260422T033149
CREATED:20240607T234910Z
LAST-MODIFIED:20241130T025448Z
UID:10001046-1830942000-1830952800@www.gethsemane.org
SUMMARY:IYK Choir
DESCRIPTION:
URL:https://www.gethsemane.org/event/iyk-choir/2028-01-08/
LOCATION:OH
END:VEVENT
BEGIN:VEVENT
DTSTART;TZID=America/New_York:20280109T130000
DTEND;TZID=America/New_York:20280109T150000
DTSTAMP:20260422T033149
CREATED:20241102T214108Z
LAST-MODIFIED:20250325T022544Z
UID:10009161-1831035600-1831042800@www.gethsemane.org
SUMMARY:IYK Worship
DESCRIPTION:
URL:https://www.gethsemane.org/event/iyk-worship/2028-01-09/
LOCATION:GLC – Sanctuary\, 35 E Stanton Ave\, Columbus\, OH\, 43214\, United States
END:VEVENT
BEGIN:VEVENT
DTSTART;TZID=America/New_York:20280114T160000
DTEND;TZID=America/New_York:20280114T170000
DTSTAMP:20260422T033149
CREATED:20241102T212638Z
LAST-MODIFIED:20250627T025236Z
UID:10004415-1831478400-1831482000@www.gethsemane.org
SUMMARY:Piano Practice
DESCRIPTION:
URL:https://www.gethsemane.org/event/piano-practice-3/2028-01-14/
LOCATION:GLC – Sanctuary\, 35 E Stanton Ave\, Columbus\, OH\, 43214\, United States
END:VEVENT
BEGIN:VEVENT
DTSTART;TZID=America/New_York:20280115T110000
DTEND;TZID=America/New_York:20280115T140000
DTSTAMP:20260422T033149
CREATED:20240607T234910Z
LAST-MODIFIED:20241130T025448Z
UID:10001047-1831546800-1831557600@www.gethsemane.org
SUMMARY:IYK Choir
DESCRIPTION:
URL:https://www.gethsemane.org/event/iyk-choir/2028-01-15/
LOCATION:OH
END:VEVENT
BEGIN:VEVENT
DTSTART;TZID=America/New_York:20280116T130000
DTEND;TZID=America/New_York:20280116T150000
DTSTAMP:20260422T033150
CREATED:20241102T214108Z
LAST-MODIFIED:20250325T022544Z
UID:10009162-1831640400-1831647600@www.gethsemane.org
SUMMARY:IYK Worship
DESCRIPTION:
URL:https://www.gethsemane.org/event/iyk-worship/2028-01-16/
LOCATION:GLC – Sanctuary\, 35 E Stanton Ave\, Columbus\, OH\, 43214\, United States
END:VEVENT
BEGIN:VEVENT
DTSTART;TZID=America/New_York:20280121T160000
DTEND;TZID=America/New_York:20280121T170000
DTSTAMP:20260422T033150
CREATED:20241102T212638Z
LAST-MODIFIED:20250627T025236Z
UID:10004416-1832083200-1832086800@www.gethsemane.org
SUMMARY:Piano Practice
DESCRIPTION:
URL:https://www.gethsemane.org/event/piano-practice-3/2028-01-21/
LOCATION:GLC – Sanctuary\, 35 E Stanton Ave\, Columbus\, OH\, 43214\, United States
END:VEVENT
BEGIN:VEVENT
DTSTART;TZID=America/New_York:20280122T110000
DTEND;TZID=America/New_York:20280122T140000
DTSTAMP:20260422T033150
CREATED:20240607T234910Z
LAST-MODIFIED:20241130T025448Z
UID:10001048-1832151600-1832162400@www.gethsemane.org
SUMMARY:IYK Choir
DESCRIPTION:
URL:https://www.gethsemane.org/event/iyk-choir/2028-01-22/
LOCATION:OH
END:VEVENT
BEGIN:VEVENT
DTSTART;TZID=America/New_York:20280123T130000
DTEND;TZID=America/New_York:20280123T150000
DTSTAMP:20260422T033150
CREATED:20241102T214108Z
LAST-MODIFIED:20250325T022544Z
UID:10009163-1832245200-1832252400@www.gethsemane.org
SUMMARY:IYK Worship
DESCRIPTION:
URL:https://www.gethsemane.org/event/iyk-worship/2028-01-23/
LOCATION:GLC – Sanctuary\, 35 E Stanton Ave\, Columbus\, OH\, 43214\, United States
END:VEVENT
BEGIN:VEVENT
DTSTART;TZID=America/New_York:20280128T160000
DTEND;TZID=America/New_York:20280128T170000
DTSTAMP:20260422T033150
CREATED:20241102T212638Z
LAST-MODIFIED:20250627T025236Z
UID:10004417-1832688000-1832691600@www.gethsemane.org
SUMMARY:Piano Practice
DESCRIPTION:
URL:https://www.gethsemane.org/event/piano-practice-3/2028-01-28/
LOCATION:GLC – Sanctuary\, 35 E Stanton Ave\, Columbus\, OH\, 43214\, United States
END:VEVENT
BEGIN:VEVENT
DTSTART;TZID=America/New_York:20280129T110000
DTEND;TZID=America/New_York:20280129T140000
DTSTAMP:20260422T033150
CREATED:20240607T234910Z
LAST-MODIFIED:20241130T025448Z
UID:10001049-1832756400-1832767200@www.gethsemane.org
SUMMARY:IYK Choir
DESCRIPTION:
URL:https://www.gethsemane.org/event/iyk-choir/2028-01-29/
LOCATION:OH
END:VEVENT
BEGIN:VEVENT
DTSTART;TZID=America/New_York:20280130T130000
DTEND;TZID=America/New_York:20280130T150000
DTSTAMP:20260422T033150
CREATED:20241102T214108Z
LAST-MODIFIED:20250325T022544Z
UID:10009164-1832850000-1832857200@www.gethsemane.org
SUMMARY:IYK Worship
DESCRIPTION:
URL:https://www.gethsemane.org/event/iyk-worship/2028-01-30/
LOCATION:GLC – Sanctuary\, 35 E Stanton Ave\, Columbus\, OH\, 43214\, United States
END:VEVENT
BEGIN:VEVENT
DTSTART;TZID=America/New_York:20280204T160000
DTEND;TZID=America/New_York:20280204T170000
DTSTAMP:20260422T033150
CREATED:20241102T212638Z
LAST-MODIFIED:20250627T025236Z
UID:10004418-1833292800-1833296400@www.gethsemane.org
SUMMARY:Piano Practice
DESCRIPTION:
URL:https://www.gethsemane.org/event/piano-practice-3/2028-02-04/
LOCATION:GLC – Sanctuary\, 35 E Stanton Ave\, Columbus\, OH\, 43214\, United States
END:VEVENT
BEGIN:VEVENT
DTSTART;TZID=America/New_York:20280205T110000
DTEND;TZID=America/New_York:20280205T140000
DTSTAMP:20260422T033150
CREATED:20240607T234910Z
LAST-MODIFIED:20241130T025448Z
UID:10001050-1833361200-1833372000@www.gethsemane.org
SUMMARY:IYK Choir
DESCRIPTION:
URL:https://www.gethsemane.org/event/iyk-choir/2028-02-05/
LOCATION:OH
END:VEVENT
BEGIN:VEVENT
DTSTART;TZID=America/New_York:20280206T130000
DTEND;TZID=America/New_York:20280206T150000
DTSTAMP:20260422T033150
CREATED:20241102T214108Z
LAST-MODIFIED:20250325T022544Z
UID:10009165-1833454800-1833462000@www.gethsemane.org
SUMMARY:IYK Worship
DESCRIPTION:
URL:https://www.gethsemane.org/event/iyk-worship/2028-02-06/
LOCATION:GLC – Sanctuary\, 35 E Stanton Ave\, Columbus\, OH\, 43214\, United States
END:VEVENT
END:VCALENDAR