BEGIN:VCALENDAR
VERSION:2.0
PRODID:-//Gethsemane Lutheran Church - ECPv6.15.20//NONSGML v1.0//EN
CALSCALE:GREGORIAN
METHOD:PUBLISH
X-ORIGINAL-URL:https://www.gethsemane.org
X-WR-CALDESC:Events for Gethsemane Lutheran Church
REFRESH-INTERVAL;VALUE=DURATION:PT1H
X-Robots-Tag:noindex
X-PUBLISHED-TTL:PT1H
BEGIN:VTIMEZONE
TZID:America/New_York
BEGIN:DAYLIGHT
TZOFFSETFROM:-0500
TZOFFSETTO:-0400
TZNAME:EDT
DTSTART:20270314T070000
END:DAYLIGHT
BEGIN:STANDARD
TZOFFSETFROM:-0400
TZOFFSETTO:-0500
TZNAME:EST
DTSTART:20271107T060000
END:STANDARD
BEGIN:DAYLIGHT
TZOFFSETFROM:-0500
TZOFFSETTO:-0400
TZNAME:EDT
DTSTART:20280312T070000
END:DAYLIGHT
BEGIN:STANDARD
TZOFFSETFROM:-0400
TZOFFSETTO:-0500
TZNAME:EST
DTSTART:20281105T060000
END:STANDARD
BEGIN:DAYLIGHT
TZOFFSETFROM:-0500
TZOFFSETTO:-0400
TZNAME:EDT
DTSTART:20290311T070000
END:DAYLIGHT
BEGIN:STANDARD
TZOFFSETFROM:-0400
TZOFFSETTO:-0500
TZNAME:EST
DTSTART:20291104T060000
END:STANDARD
END:VTIMEZONE
BEGIN:VEVENT
DTSTART;TZID=America/New_York:20280225T160000
DTEND;TZID=America/New_York:20280225T170000
DTSTAMP:20260422T080227
CREATED:20241102T212638Z
LAST-MODIFIED:20250627T025236Z
UID:10004421-1835107200-1835110800@www.gethsemane.org
SUMMARY:Piano Practice
DESCRIPTION:
URL:https://www.gethsemane.org/event/piano-practice-3/2028-02-25/
LOCATION:GLC – Sanctuary\, 35 E Stanton Ave\, Columbus\, OH\, 43214\, United States
END:VEVENT
BEGIN:VEVENT
DTSTART;TZID=America/New_York:20280226T110000
DTEND;TZID=America/New_York:20280226T140000
DTSTAMP:20260422T080227
CREATED:20240607T234910Z
LAST-MODIFIED:20241130T025448Z
UID:10001053-1835175600-1835186400@www.gethsemane.org
SUMMARY:IYK Choir
DESCRIPTION:
URL:https://www.gethsemane.org/event/iyk-choir/2028-02-26/
LOCATION:OH
END:VEVENT
BEGIN:VEVENT
DTSTART;TZID=America/New_York:20280227T130000
DTEND;TZID=America/New_York:20280227T150000
DTSTAMP:20260422T080227
CREATED:20241102T214108Z
LAST-MODIFIED:20250325T022544Z
UID:10009168-1835269200-1835276400@www.gethsemane.org
SUMMARY:IYK Worship
DESCRIPTION:
URL:https://www.gethsemane.org/event/iyk-worship/2028-02-27/
LOCATION:GLC – Sanctuary\, 35 E Stanton Ave\, Columbus\, OH\, 43214\, United States
END:VEVENT
BEGIN:VEVENT
DTSTART;TZID=America/New_York:20280303T160000
DTEND;TZID=America/New_York:20280303T170000
DTSTAMP:20260422T080227
CREATED:20241102T212638Z
LAST-MODIFIED:20250627T025236Z
UID:10004422-1835712000-1835715600@www.gethsemane.org
SUMMARY:Piano Practice
DESCRIPTION:
URL:https://www.gethsemane.org/event/piano-practice-3/2028-03-03/
LOCATION:GLC – Sanctuary\, 35 E Stanton Ave\, Columbus\, OH\, 43214\, United States
END:VEVENT
BEGIN:VEVENT
DTSTART;TZID=America/New_York:20280304T110000
DTEND;TZID=America/New_York:20280304T140000
DTSTAMP:20260422T080227
CREATED:20240607T234910Z
LAST-MODIFIED:20241130T025448Z
UID:10001054-1835780400-1835791200@www.gethsemane.org
SUMMARY:IYK Choir
DESCRIPTION:
URL:https://www.gethsemane.org/event/iyk-choir/2028-03-04/
LOCATION:OH
END:VEVENT
BEGIN:VEVENT
DTSTART;TZID=America/New_York:20280305T130000
DTEND;TZID=America/New_York:20280305T150000
DTSTAMP:20260422T080227
CREATED:20241102T214108Z
LAST-MODIFIED:20250325T022544Z
UID:10009169-1835874000-1835881200@www.gethsemane.org
SUMMARY:IYK Worship
DESCRIPTION:
URL:https://www.gethsemane.org/event/iyk-worship/2028-03-05/
LOCATION:GLC – Sanctuary\, 35 E Stanton Ave\, Columbus\, OH\, 43214\, United States
END:VEVENT
BEGIN:VEVENT
DTSTART;TZID=America/New_York:20280310T160000
DTEND;TZID=America/New_York:20280310T170000
DTSTAMP:20260422T080227
CREATED:20241102T212638Z
LAST-MODIFIED:20250627T025236Z
UID:10004423-1836316800-1836320400@www.gethsemane.org
SUMMARY:Piano Practice
DESCRIPTION:
URL:https://www.gethsemane.org/event/piano-practice-3/2028-03-10/
LOCATION:GLC – Sanctuary\, 35 E Stanton Ave\, Columbus\, OH\, 43214\, United States
END:VEVENT
BEGIN:VEVENT
DTSTART;TZID=America/New_York:20280311T110000
DTEND;TZID=America/New_York:20280311T140000
DTSTAMP:20260422T080227
CREATED:20240607T234910Z
LAST-MODIFIED:20241130T025448Z
UID:10001055-1836385200-1836396000@www.gethsemane.org
SUMMARY:IYK Choir
DESCRIPTION:
URL:https://www.gethsemane.org/event/iyk-choir/2028-03-11/
LOCATION:OH
END:VEVENT
BEGIN:VEVENT
DTSTART;TZID=America/New_York:20280312T130000
DTEND;TZID=America/New_York:20280312T150000
DTSTAMP:20260422T080227
CREATED:20241102T214108Z
LAST-MODIFIED:20250325T022544Z
UID:10009170-1836478800-1836486000@www.gethsemane.org
SUMMARY:IYK Worship
DESCRIPTION:
URL:https://www.gethsemane.org/event/iyk-worship/2028-03-12/
LOCATION:GLC – Sanctuary\, 35 E Stanton Ave\, Columbus\, OH\, 43214\, United States
END:VEVENT
BEGIN:VEVENT
DTSTART;TZID=America/New_York:20280317T160000
DTEND;TZID=America/New_York:20280317T170000
DTSTAMP:20260422T080227
CREATED:20241102T212638Z
LAST-MODIFIED:20250627T025236Z
UID:10004424-1836921600-1836925200@www.gethsemane.org
SUMMARY:Piano Practice
DESCRIPTION:
URL:https://www.gethsemane.org/event/piano-practice-3/2028-03-17/
LOCATION:GLC – Sanctuary\, 35 E Stanton Ave\, Columbus\, OH\, 43214\, United States
END:VEVENT
BEGIN:VEVENT
DTSTART;TZID=America/New_York:20280318T110000
DTEND;TZID=America/New_York:20280318T140000
DTSTAMP:20260422T080227
CREATED:20240607T234910Z
LAST-MODIFIED:20241130T025448Z
UID:10001056-1836990000-1837000800@www.gethsemane.org
SUMMARY:IYK Choir
DESCRIPTION:
URL:https://www.gethsemane.org/event/iyk-choir/2028-03-18/
LOCATION:OH
END:VEVENT
BEGIN:VEVENT
DTSTART;TZID=America/New_York:20280319T130000
DTEND;TZID=America/New_York:20280319T150000
DTSTAMP:20260422T080227
CREATED:20241102T214108Z
LAST-MODIFIED:20250325T022544Z
UID:10009171-1837083600-1837090800@www.gethsemane.org
SUMMARY:IYK Worship
DESCRIPTION:
URL:https://www.gethsemane.org/event/iyk-worship/2028-03-19/
LOCATION:GLC – Sanctuary\, 35 E Stanton Ave\, Columbus\, OH\, 43214\, United States
END:VEVENT
BEGIN:VEVENT
DTSTART;TZID=America/New_York:20280324T160000
DTEND;TZID=America/New_York:20280324T170000
DTSTAMP:20260422T080227
CREATED:20241102T212638Z
LAST-MODIFIED:20250627T025236Z
UID:10004425-1837526400-1837530000@www.gethsemane.org
SUMMARY:Piano Practice
DESCRIPTION:
URL:https://www.gethsemane.org/event/piano-practice-3/2028-03-24/
LOCATION:GLC – Sanctuary\, 35 E Stanton Ave\, Columbus\, OH\, 43214\, United States
END:VEVENT
BEGIN:VEVENT
DTSTART;TZID=America/New_York:20280325T110000
DTEND;TZID=America/New_York:20280325T140000
DTSTAMP:20260422T080227
CREATED:20240607T234910Z
LAST-MODIFIED:20241130T025448Z
UID:10001057-1837594800-1837605600@www.gethsemane.org
SUMMARY:IYK Choir
DESCRIPTION:
URL:https://www.gethsemane.org/event/iyk-choir/2028-03-25/
LOCATION:OH
END:VEVENT
BEGIN:VEVENT
DTSTART;TZID=America/New_York:20280326T130000
DTEND;TZID=America/New_York:20280326T150000
DTSTAMP:20260422T080227
CREATED:20241102T214108Z
LAST-MODIFIED:20250325T022544Z
UID:10009172-1837688400-1837695600@www.gethsemane.org
SUMMARY:IYK Worship
DESCRIPTION:
URL:https://www.gethsemane.org/event/iyk-worship/2028-03-26/
LOCATION:GLC – Sanctuary\, 35 E Stanton Ave\, Columbus\, OH\, 43214\, United States
END:VEVENT
BEGIN:VEVENT
DTSTART;TZID=America/New_York:20280331T160000
DTEND;TZID=America/New_York:20280331T170000
DTSTAMP:20260422T080227
CREATED:20241102T212638Z
LAST-MODIFIED:20250627T025236Z
UID:10004426-1838131200-1838134800@www.gethsemane.org
SUMMARY:Piano Practice
DESCRIPTION:
URL:https://www.gethsemane.org/event/piano-practice-3/2028-03-31/
LOCATION:GLC – Sanctuary\, 35 E Stanton Ave\, Columbus\, OH\, 43214\, United States
END:VEVENT
BEGIN:VEVENT
DTSTART;TZID=America/New_York:20280401T110000
DTEND;TZID=America/New_York:20280401T140000
DTSTAMP:20260422T080227
CREATED:20240607T234910Z
LAST-MODIFIED:20241130T025448Z
UID:10001058-1838199600-1838210400@www.gethsemane.org
SUMMARY:IYK Choir
DESCRIPTION:
URL:https://www.gethsemane.org/event/iyk-choir/2028-04-01/
LOCATION:OH
END:VEVENT
BEGIN:VEVENT
DTSTART;TZID=America/New_York:20280402T130000
DTEND;TZID=America/New_York:20280402T150000
DTSTAMP:20260422T080227
CREATED:20241102T214108Z
LAST-MODIFIED:20250325T022544Z
UID:10009173-1838293200-1838300400@www.gethsemane.org
SUMMARY:IYK Worship
DESCRIPTION:
URL:https://www.gethsemane.org/event/iyk-worship/2028-04-02/
LOCATION:GLC – Sanctuary\, 35 E Stanton Ave\, Columbus\, OH\, 43214\, United States
END:VEVENT
BEGIN:VEVENT
DTSTART;TZID=America/New_York:20280407T160000
DTEND;TZID=America/New_York:20280407T170000
DTSTAMP:20260422T080227
CREATED:20241102T212638Z
LAST-MODIFIED:20250627T025236Z
UID:10004427-1838736000-1838739600@www.gethsemane.org
SUMMARY:Piano Practice
DESCRIPTION:
URL:https://www.gethsemane.org/event/piano-practice-3/2028-04-07/
LOCATION:GLC – Sanctuary\, 35 E Stanton Ave\, Columbus\, OH\, 43214\, United States
END:VEVENT
BEGIN:VEVENT
DTSTART;TZID=America/New_York:20280408T110000
DTEND;TZID=America/New_York:20280408T140000
DTSTAMP:20260422T080227
CREATED:20240607T234910Z
LAST-MODIFIED:20241130T025448Z
UID:10001059-1838804400-1838815200@www.gethsemane.org
SUMMARY:IYK Choir
DESCRIPTION:
URL:https://www.gethsemane.org/event/iyk-choir/2028-04-08/
LOCATION:OH
END:VEVENT
BEGIN:VEVENT
DTSTART;TZID=America/New_York:20280409T130000
DTEND;TZID=America/New_York:20280409T150000
DTSTAMP:20260422T080227
CREATED:20241102T214108Z
LAST-MODIFIED:20250325T022544Z
UID:10009174-1838898000-1838905200@www.gethsemane.org
SUMMARY:IYK Worship
DESCRIPTION:
URL:https://www.gethsemane.org/event/iyk-worship/2028-04-09/
LOCATION:GLC – Sanctuary\, 35 E Stanton Ave\, Columbus\, OH\, 43214\, United States
END:VEVENT
BEGIN:VEVENT
DTSTART;TZID=America/New_York:20280414T160000
DTEND;TZID=America/New_York:20280414T170000
DTSTAMP:20260422T080227
CREATED:20241102T212638Z
LAST-MODIFIED:20250627T025236Z
UID:10004428-1839340800-1839344400@www.gethsemane.org
SUMMARY:Piano Practice
DESCRIPTION:
URL:https://www.gethsemane.org/event/piano-practice-3/2028-04-14/
LOCATION:GLC – Sanctuary\, 35 E Stanton Ave\, Columbus\, OH\, 43214\, United States
END:VEVENT
BEGIN:VEVENT
DTSTART;TZID=America/New_York:20280415T110000
DTEND;TZID=America/New_York:20280415T140000
DTSTAMP:20260422T080227
CREATED:20240607T234910Z
LAST-MODIFIED:20241130T025448Z
UID:10001060-1839409200-1839420000@www.gethsemane.org
SUMMARY:IYK Choir
DESCRIPTION:
URL:https://www.gethsemane.org/event/iyk-choir/2028-04-15/
LOCATION:OH
END:VEVENT
BEGIN:VEVENT
DTSTART;TZID=America/New_York:20280416T130000
DTEND;TZID=America/New_York:20280416T150000
DTSTAMP:20260422T080227
CREATED:20241102T214108Z
LAST-MODIFIED:20250325T022544Z
UID:10009175-1839502800-1839510000@www.gethsemane.org
SUMMARY:IYK Worship
DESCRIPTION:
URL:https://www.gethsemane.org/event/iyk-worship/2028-04-16/
LOCATION:GLC – Sanctuary\, 35 E Stanton Ave\, Columbus\, OH\, 43214\, United States
END:VEVENT
BEGIN:VEVENT
DTSTART;TZID=America/New_York:20280421T160000
DTEND;TZID=America/New_York:20280421T170000
DTSTAMP:20260422T080227
CREATED:20241102T212638Z
LAST-MODIFIED:20250627T025236Z
UID:10004429-1839945600-1839949200@www.gethsemane.org
SUMMARY:Piano Practice
DESCRIPTION:
URL:https://www.gethsemane.org/event/piano-practice-3/2028-04-21/
LOCATION:GLC – Sanctuary\, 35 E Stanton Ave\, Columbus\, OH\, 43214\, United States
END:VEVENT
BEGIN:VEVENT
DTSTART;TZID=America/New_York:20280422T110000
DTEND;TZID=America/New_York:20280422T140000
DTSTAMP:20260422T080227
CREATED:20240607T234910Z
LAST-MODIFIED:20241130T025448Z
UID:10001061-1840014000-1840024800@www.gethsemane.org
SUMMARY:IYK Choir
DESCRIPTION:
URL:https://www.gethsemane.org/event/iyk-choir/2028-04-22/
LOCATION:OH
END:VEVENT
BEGIN:VEVENT
DTSTART;TZID=America/New_York:20280423T130000
DTEND;TZID=America/New_York:20280423T150000
DTSTAMP:20260422T080227
CREATED:20241102T214108Z
LAST-MODIFIED:20250325T022544Z
UID:10009176-1840107600-1840114800@www.gethsemane.org
SUMMARY:IYK Worship
DESCRIPTION:
URL:https://www.gethsemane.org/event/iyk-worship/2028-04-23/
LOCATION:GLC – Sanctuary\, 35 E Stanton Ave\, Columbus\, OH\, 43214\, United States
END:VEVENT
BEGIN:VEVENT
DTSTART;TZID=America/New_York:20280428T160000
DTEND;TZID=America/New_York:20280428T170000
DTSTAMP:20260422T080227
CREATED:20241102T212638Z
LAST-MODIFIED:20250627T025236Z
UID:10004430-1840550400-1840554000@www.gethsemane.org
SUMMARY:Piano Practice
DESCRIPTION:
URL:https://www.gethsemane.org/event/piano-practice-3/2028-04-28/
LOCATION:GLC – Sanctuary\, 35 E Stanton Ave\, Columbus\, OH\, 43214\, United States
END:VEVENT
BEGIN:VEVENT
DTSTART;TZID=America/New_York:20280429T110000
DTEND;TZID=America/New_York:20280429T140000
DTSTAMP:20260422T080227
CREATED:20240607T234910Z
LAST-MODIFIED:20241130T025448Z
UID:10001062-1840618800-1840629600@www.gethsemane.org
SUMMARY:IYK Choir
DESCRIPTION:
URL:https://www.gethsemane.org/event/iyk-choir/2028-04-29/
LOCATION:OH
END:VEVENT
BEGIN:VEVENT
DTSTART;TZID=America/New_York:20280430T130000
DTEND;TZID=America/New_York:20280430T150000
DTSTAMP:20260422T080227
CREATED:20241102T214108Z
LAST-MODIFIED:20250325T022544Z
UID:10009177-1840712400-1840719600@www.gethsemane.org
SUMMARY:IYK Worship
DESCRIPTION:
URL:https://www.gethsemane.org/event/iyk-worship/2028-04-30/
LOCATION:GLC – Sanctuary\, 35 E Stanton Ave\, Columbus\, OH\, 43214\, United States
END:VEVENT
END:VCALENDAR