BEGIN:VCALENDAR
VERSION:2.0
PRODID:-//Gethsemane Lutheran Church - ECPv6.15.20//NONSGML v1.0//EN
CALSCALE:GREGORIAN
METHOD:PUBLISH
X-ORIGINAL-URL:https://www.gethsemane.org
X-WR-CALDESC:Events for Gethsemane Lutheran Church
REFRESH-INTERVAL;VALUE=DURATION:PT1H
X-Robots-Tag:noindex
X-PUBLISHED-TTL:PT1H
BEGIN:VTIMEZONE
TZID:America/New_York
BEGIN:DAYLIGHT
TZOFFSETFROM:-0500
TZOFFSETTO:-0400
TZNAME:EDT
DTSTART:20270314T070000
END:DAYLIGHT
BEGIN:STANDARD
TZOFFSETFROM:-0400
TZOFFSETTO:-0500
TZNAME:EST
DTSTART:20271107T060000
END:STANDARD
BEGIN:DAYLIGHT
TZOFFSETFROM:-0500
TZOFFSETTO:-0400
TZNAME:EDT
DTSTART:20280312T070000
END:DAYLIGHT
BEGIN:STANDARD
TZOFFSETFROM:-0400
TZOFFSETTO:-0500
TZNAME:EST
DTSTART:20281105T060000
END:STANDARD
BEGIN:DAYLIGHT
TZOFFSETFROM:-0500
TZOFFSETTO:-0400
TZNAME:EDT
DTSTART:20290311T070000
END:DAYLIGHT
BEGIN:STANDARD
TZOFFSETFROM:-0400
TZOFFSETTO:-0500
TZNAME:EST
DTSTART:20291104T060000
END:STANDARD
END:VTIMEZONE
BEGIN:VEVENT
DTSTART;TZID=America/New_York:20280514T130000
DTEND;TZID=America/New_York:20280514T150000
DTSTAMP:20260422T143633
CREATED:20241102T214108Z
LAST-MODIFIED:20250325T022544Z
UID:10009179-1841922000-1841929200@www.gethsemane.org
SUMMARY:IYK Worship
DESCRIPTION:
URL:https://www.gethsemane.org/event/iyk-worship/2028-05-14/
LOCATION:GLC – Sanctuary\, 35 E Stanton Ave\, Columbus\, OH\, 43214\, United States
END:VEVENT
BEGIN:VEVENT
DTSTART;TZID=America/New_York:20280519T160000
DTEND;TZID=America/New_York:20280519T170000
DTSTAMP:20260422T143633
CREATED:20241102T212638Z
LAST-MODIFIED:20250627T025236Z
UID:10004433-1842364800-1842368400@www.gethsemane.org
SUMMARY:Piano Practice
DESCRIPTION:
URL:https://www.gethsemane.org/event/piano-practice-3/2028-05-19/
LOCATION:GLC – Sanctuary\, 35 E Stanton Ave\, Columbus\, OH\, 43214\, United States
END:VEVENT
BEGIN:VEVENT
DTSTART;TZID=America/New_York:20280520T110000
DTEND;TZID=America/New_York:20280520T140000
DTSTAMP:20260422T143633
CREATED:20240607T234910Z
LAST-MODIFIED:20241130T025448Z
UID:10001065-1842433200-1842444000@www.gethsemane.org
SUMMARY:IYK Choir
DESCRIPTION:
URL:https://www.gethsemane.org/event/iyk-choir/2028-05-20/
LOCATION:OH
END:VEVENT
BEGIN:VEVENT
DTSTART;TZID=America/New_York:20280521T130000
DTEND;TZID=America/New_York:20280521T150000
DTSTAMP:20260422T143633
CREATED:20241102T214108Z
LAST-MODIFIED:20250325T022544Z
UID:10009180-1842526800-1842534000@www.gethsemane.org
SUMMARY:IYK Worship
DESCRIPTION:
URL:https://www.gethsemane.org/event/iyk-worship/2028-05-21/
LOCATION:GLC – Sanctuary\, 35 E Stanton Ave\, Columbus\, OH\, 43214\, United States
END:VEVENT
BEGIN:VEVENT
DTSTART;TZID=America/New_York:20280526T160000
DTEND;TZID=America/New_York:20280526T170000
DTSTAMP:20260422T143633
CREATED:20241102T212638Z
LAST-MODIFIED:20250627T025236Z
UID:10004434-1842969600-1842973200@www.gethsemane.org
SUMMARY:Piano Practice
DESCRIPTION:
URL:https://www.gethsemane.org/event/piano-practice-3/2028-05-26/
LOCATION:GLC – Sanctuary\, 35 E Stanton Ave\, Columbus\, OH\, 43214\, United States
END:VEVENT
BEGIN:VEVENT
DTSTART;TZID=America/New_York:20280527T110000
DTEND;TZID=America/New_York:20280527T140000
DTSTAMP:20260422T143633
CREATED:20240607T234910Z
LAST-MODIFIED:20241130T025448Z
UID:10001066-1843038000-1843048800@www.gethsemane.org
SUMMARY:IYK Choir
DESCRIPTION:
URL:https://www.gethsemane.org/event/iyk-choir/2028-05-27/
LOCATION:OH
END:VEVENT
BEGIN:VEVENT
DTSTART;TZID=America/New_York:20280528T130000
DTEND;TZID=America/New_York:20280528T150000
DTSTAMP:20260422T143633
CREATED:20241102T214108Z
LAST-MODIFIED:20250325T022544Z
UID:10009181-1843131600-1843138800@www.gethsemane.org
SUMMARY:IYK Worship
DESCRIPTION:
URL:https://www.gethsemane.org/event/iyk-worship/2028-05-28/
LOCATION:GLC – Sanctuary\, 35 E Stanton Ave\, Columbus\, OH\, 43214\, United States
END:VEVENT
BEGIN:VEVENT
DTSTART;TZID=America/New_York:20280602T160000
DTEND;TZID=America/New_York:20280602T170000
DTSTAMP:20260422T143633
CREATED:20241102T212638Z
LAST-MODIFIED:20250627T025236Z
UID:10004435-1843574400-1843578000@www.gethsemane.org
SUMMARY:Piano Practice
DESCRIPTION:
URL:https://www.gethsemane.org/event/piano-practice-3/2028-06-02/
LOCATION:GLC – Sanctuary\, 35 E Stanton Ave\, Columbus\, OH\, 43214\, United States
END:VEVENT
BEGIN:VEVENT
DTSTART;TZID=America/New_York:20280603T110000
DTEND;TZID=America/New_York:20280603T140000
DTSTAMP:20260422T143633
CREATED:20240607T234910Z
LAST-MODIFIED:20241130T025448Z
UID:10001067-1843642800-1843653600@www.gethsemane.org
SUMMARY:IYK Choir
DESCRIPTION:
URL:https://www.gethsemane.org/event/iyk-choir/2028-06-03/
LOCATION:OH
END:VEVENT
BEGIN:VEVENT
DTSTART;TZID=America/New_York:20280604T130000
DTEND;TZID=America/New_York:20280604T150000
DTSTAMP:20260422T143633
CREATED:20241102T214108Z
LAST-MODIFIED:20250325T022544Z
UID:10009182-1843736400-1843743600@www.gethsemane.org
SUMMARY:IYK Worship
DESCRIPTION:
URL:https://www.gethsemane.org/event/iyk-worship/2028-06-04/
LOCATION:GLC – Sanctuary\, 35 E Stanton Ave\, Columbus\, OH\, 43214\, United States
END:VEVENT
BEGIN:VEVENT
DTSTART;TZID=America/New_York:20280609T160000
DTEND;TZID=America/New_York:20280609T170000
DTSTAMP:20260422T143633
CREATED:20241102T212638Z
LAST-MODIFIED:20250627T025236Z
UID:10004436-1844179200-1844182800@www.gethsemane.org
SUMMARY:Piano Practice
DESCRIPTION:
URL:https://www.gethsemane.org/event/piano-practice-3/2028-06-09/
LOCATION:GLC – Sanctuary\, 35 E Stanton Ave\, Columbus\, OH\, 43214\, United States
END:VEVENT
BEGIN:VEVENT
DTSTART;TZID=America/New_York:20280610T110000
DTEND;TZID=America/New_York:20280610T140000
DTSTAMP:20260422T143633
CREATED:20240607T234910Z
LAST-MODIFIED:20241130T025448Z
UID:10001068-1844247600-1844258400@www.gethsemane.org
SUMMARY:IYK Choir
DESCRIPTION:
URL:https://www.gethsemane.org/event/iyk-choir/2028-06-10/
LOCATION:OH
END:VEVENT
BEGIN:VEVENT
DTSTART;TZID=America/New_York:20280611T130000
DTEND;TZID=America/New_York:20280611T150000
DTSTAMP:20260422T143633
CREATED:20241102T214108Z
LAST-MODIFIED:20250325T022544Z
UID:10009183-1844341200-1844348400@www.gethsemane.org
SUMMARY:IYK Worship
DESCRIPTION:
URL:https://www.gethsemane.org/event/iyk-worship/2028-06-11/
LOCATION:GLC – Sanctuary\, 35 E Stanton Ave\, Columbus\, OH\, 43214\, United States
END:VEVENT
BEGIN:VEVENT
DTSTART;TZID=America/New_York:20280616T160000
DTEND;TZID=America/New_York:20280616T170000
DTSTAMP:20260422T143633
CREATED:20241102T212638Z
LAST-MODIFIED:20250627T025236Z
UID:10004437-1844784000-1844787600@www.gethsemane.org
SUMMARY:Piano Practice
DESCRIPTION:
URL:https://www.gethsemane.org/event/piano-practice-3/2028-06-16/
LOCATION:GLC – Sanctuary\, 35 E Stanton Ave\, Columbus\, OH\, 43214\, United States
END:VEVENT
BEGIN:VEVENT
DTSTART;TZID=America/New_York:20280617T110000
DTEND;TZID=America/New_York:20280617T140000
DTSTAMP:20260422T143633
CREATED:20240607T234910Z
LAST-MODIFIED:20241130T025448Z
UID:10001069-1844852400-1844863200@www.gethsemane.org
SUMMARY:IYK Choir
DESCRIPTION:
URL:https://www.gethsemane.org/event/iyk-choir/2028-06-17/
LOCATION:OH
END:VEVENT
BEGIN:VEVENT
DTSTART;TZID=America/New_York:20280618T130000
DTEND;TZID=America/New_York:20280618T150000
DTSTAMP:20260422T143633
CREATED:20241102T214108Z
LAST-MODIFIED:20250325T022544Z
UID:10009184-1844946000-1844953200@www.gethsemane.org
SUMMARY:IYK Worship
DESCRIPTION:
URL:https://www.gethsemane.org/event/iyk-worship/2028-06-18/
LOCATION:GLC – Sanctuary\, 35 E Stanton Ave\, Columbus\, OH\, 43214\, United States
END:VEVENT
BEGIN:VEVENT
DTSTART;TZID=America/New_York:20280623T160000
DTEND;TZID=America/New_York:20280623T170000
DTSTAMP:20260422T143633
CREATED:20241102T212638Z
LAST-MODIFIED:20250627T025236Z
UID:10004438-1845388800-1845392400@www.gethsemane.org
SUMMARY:Piano Practice
DESCRIPTION:
URL:https://www.gethsemane.org/event/piano-practice-3/2028-06-23/
LOCATION:GLC – Sanctuary\, 35 E Stanton Ave\, Columbus\, OH\, 43214\, United States
END:VEVENT
BEGIN:VEVENT
DTSTART;TZID=America/New_York:20280624T110000
DTEND;TZID=America/New_York:20280624T140000
DTSTAMP:20260422T143633
CREATED:20240607T234910Z
LAST-MODIFIED:20241130T025448Z
UID:10001070-1845457200-1845468000@www.gethsemane.org
SUMMARY:IYK Choir
DESCRIPTION:
URL:https://www.gethsemane.org/event/iyk-choir/2028-06-24/
LOCATION:OH
END:VEVENT
BEGIN:VEVENT
DTSTART;TZID=America/New_York:20280625T130000
DTEND;TZID=America/New_York:20280625T150000
DTSTAMP:20260422T143633
CREATED:20241102T214108Z
LAST-MODIFIED:20250325T022544Z
UID:10009185-1845550800-1845558000@www.gethsemane.org
SUMMARY:IYK Worship
DESCRIPTION:
URL:https://www.gethsemane.org/event/iyk-worship/2028-06-25/
LOCATION:GLC – Sanctuary\, 35 E Stanton Ave\, Columbus\, OH\, 43214\, United States
END:VEVENT
BEGIN:VEVENT
DTSTART;TZID=America/New_York:20280630T160000
DTEND;TZID=America/New_York:20280630T170000
DTSTAMP:20260422T143633
CREATED:20241102T212638Z
LAST-MODIFIED:20250627T025236Z
UID:10004439-1845993600-1845997200@www.gethsemane.org
SUMMARY:Piano Practice
DESCRIPTION:
URL:https://www.gethsemane.org/event/piano-practice-3/2028-06-30/
LOCATION:GLC – Sanctuary\, 35 E Stanton Ave\, Columbus\, OH\, 43214\, United States
END:VEVENT
BEGIN:VEVENT
DTSTART;TZID=America/New_York:20280701T110000
DTEND;TZID=America/New_York:20280701T140000
DTSTAMP:20260422T143633
CREATED:20240607T234910Z
LAST-MODIFIED:20241130T025448Z
UID:10001071-1846062000-1846072800@www.gethsemane.org
SUMMARY:IYK Choir
DESCRIPTION:
URL:https://www.gethsemane.org/event/iyk-choir/2028-07-01/
LOCATION:OH
END:VEVENT
BEGIN:VEVENT
DTSTART;TZID=America/New_York:20280702T130000
DTEND;TZID=America/New_York:20280702T150000
DTSTAMP:20260422T143633
CREATED:20241102T214108Z
LAST-MODIFIED:20250325T022544Z
UID:10009186-1846155600-1846162800@www.gethsemane.org
SUMMARY:IYK Worship
DESCRIPTION:
URL:https://www.gethsemane.org/event/iyk-worship/2028-07-02/
LOCATION:GLC – Sanctuary\, 35 E Stanton Ave\, Columbus\, OH\, 43214\, United States
END:VEVENT
BEGIN:VEVENT
DTSTART;TZID=America/New_York:20280707T160000
DTEND;TZID=America/New_York:20280707T170000
DTSTAMP:20260422T143633
CREATED:20241102T212638Z
LAST-MODIFIED:20250627T025236Z
UID:10004440-1846598400-1846602000@www.gethsemane.org
SUMMARY:Piano Practice
DESCRIPTION:
URL:https://www.gethsemane.org/event/piano-practice-3/2028-07-07/
LOCATION:GLC – Sanctuary\, 35 E Stanton Ave\, Columbus\, OH\, 43214\, United States
END:VEVENT
BEGIN:VEVENT
DTSTART;TZID=America/New_York:20280708T110000
DTEND;TZID=America/New_York:20280708T140000
DTSTAMP:20260422T143633
CREATED:20240607T234910Z
LAST-MODIFIED:20241130T025448Z
UID:10001072-1846666800-1846677600@www.gethsemane.org
SUMMARY:IYK Choir
DESCRIPTION:
URL:https://www.gethsemane.org/event/iyk-choir/2028-07-08/
LOCATION:OH
END:VEVENT
BEGIN:VEVENT
DTSTART;TZID=America/New_York:20280709T130000
DTEND;TZID=America/New_York:20280709T150000
DTSTAMP:20260422T143633
CREATED:20241102T214108Z
LAST-MODIFIED:20250325T022544Z
UID:10009187-1846760400-1846767600@www.gethsemane.org
SUMMARY:IYK Worship
DESCRIPTION:
URL:https://www.gethsemane.org/event/iyk-worship/2028-07-09/
LOCATION:GLC – Sanctuary\, 35 E Stanton Ave\, Columbus\, OH\, 43214\, United States
END:VEVENT
BEGIN:VEVENT
DTSTART;TZID=America/New_York:20280714T160000
DTEND;TZID=America/New_York:20280714T170000
DTSTAMP:20260422T143633
CREATED:20241102T212638Z
LAST-MODIFIED:20250627T025236Z
UID:10004441-1847203200-1847206800@www.gethsemane.org
SUMMARY:Piano Practice
DESCRIPTION:
URL:https://www.gethsemane.org/event/piano-practice-3/2028-07-14/
LOCATION:GLC – Sanctuary\, 35 E Stanton Ave\, Columbus\, OH\, 43214\, United States
END:VEVENT
BEGIN:VEVENT
DTSTART;TZID=America/New_York:20280715T110000
DTEND;TZID=America/New_York:20280715T140000
DTSTAMP:20260422T143633
CREATED:20240607T234910Z
LAST-MODIFIED:20241130T025448Z
UID:10001073-1847271600-1847282400@www.gethsemane.org
SUMMARY:IYK Choir
DESCRIPTION:
URL:https://www.gethsemane.org/event/iyk-choir/2028-07-15/
LOCATION:OH
END:VEVENT
BEGIN:VEVENT
DTSTART;TZID=America/New_York:20280716T130000
DTEND;TZID=America/New_York:20280716T150000
DTSTAMP:20260422T143633
CREATED:20241102T214108Z
LAST-MODIFIED:20250325T022544Z
UID:10009188-1847365200-1847372400@www.gethsemane.org
SUMMARY:IYK Worship
DESCRIPTION:
URL:https://www.gethsemane.org/event/iyk-worship/2028-07-16/
LOCATION:GLC – Sanctuary\, 35 E Stanton Ave\, Columbus\, OH\, 43214\, United States
END:VEVENT
BEGIN:VEVENT
DTSTART;TZID=America/New_York:20280721T160000
DTEND;TZID=America/New_York:20280721T170000
DTSTAMP:20260422T143633
CREATED:20241102T212638Z
LAST-MODIFIED:20250627T025236Z
UID:10004442-1847808000-1847811600@www.gethsemane.org
SUMMARY:Piano Practice
DESCRIPTION:
URL:https://www.gethsemane.org/event/piano-practice-3/2028-07-21/
LOCATION:GLC – Sanctuary\, 35 E Stanton Ave\, Columbus\, OH\, 43214\, United States
END:VEVENT
BEGIN:VEVENT
DTSTART;TZID=America/New_York:20280722T110000
DTEND;TZID=America/New_York:20280722T140000
DTSTAMP:20260422T143633
CREATED:20240607T234910Z
LAST-MODIFIED:20241130T025448Z
UID:10001074-1847876400-1847887200@www.gethsemane.org
SUMMARY:IYK Choir
DESCRIPTION:
URL:https://www.gethsemane.org/event/iyk-choir/2028-07-22/
LOCATION:OH
END:VEVENT
END:VCALENDAR