BEGIN:VCALENDAR
VERSION:2.0
PRODID:-//Gethsemane Lutheran Church - ECPv6.15.20//NONSGML v1.0//EN
CALSCALE:GREGORIAN
METHOD:PUBLISH
X-WR-CALNAME:Gethsemane Lutheran Church
X-ORIGINAL-URL:https://www.gethsemane.org
X-WR-CALDESC:Events for Gethsemane Lutheran Church
REFRESH-INTERVAL;VALUE=DURATION:PT1H
X-Robots-Tag:noindex
X-PUBLISHED-TTL:PT1H
BEGIN:VTIMEZONE
TZID:America/New_York
BEGIN:DAYLIGHT
TZOFFSETFROM:-0500
TZOFFSETTO:-0400
TZNAME:EDT
DTSTART:20270314T070000
END:DAYLIGHT
BEGIN:STANDARD
TZOFFSETFROM:-0400
TZOFFSETTO:-0500
TZNAME:EST
DTSTART:20271107T060000
END:STANDARD
BEGIN:DAYLIGHT
TZOFFSETFROM:-0500
TZOFFSETTO:-0400
TZNAME:EDT
DTSTART:20280312T070000
END:DAYLIGHT
BEGIN:STANDARD
TZOFFSETFROM:-0400
TZOFFSETTO:-0500
TZNAME:EST
DTSTART:20281105T060000
END:STANDARD
BEGIN:DAYLIGHT
TZOFFSETFROM:-0500
TZOFFSETTO:-0400
TZNAME:EDT
DTSTART:20290311T070000
END:DAYLIGHT
BEGIN:STANDARD
TZOFFSETFROM:-0400
TZOFFSETTO:-0500
TZNAME:EST
DTSTART:20291104T060000
END:STANDARD
END:VTIMEZONE
BEGIN:VEVENT
DTSTART;TZID=America/New_York:20280806T130000
DTEND;TZID=America/New_York:20280806T150000
DTSTAMP:20260422T232329
CREATED:20241102T214108Z
LAST-MODIFIED:20250325T022544Z
UID:10009191-1849179600-1849186800@www.gethsemane.org
SUMMARY:IYK Worship
DESCRIPTION:
URL:https://www.gethsemane.org/event/iyk-worship/2028-08-06/
LOCATION:GLC – Sanctuary\, 35 E Stanton Ave\, Columbus\, OH\, 43214\, United States
END:VEVENT
BEGIN:VEVENT
DTSTART;TZID=America/New_York:20280811T160000
DTEND;TZID=America/New_York:20280811T170000
DTSTAMP:20260422T232329
CREATED:20241102T212638Z
LAST-MODIFIED:20250627T025236Z
UID:10004445-1849622400-1849626000@www.gethsemane.org
SUMMARY:Piano Practice
DESCRIPTION:
URL:https://www.gethsemane.org/event/piano-practice-3/2028-08-11/
LOCATION:GLC – Sanctuary\, 35 E Stanton Ave\, Columbus\, OH\, 43214\, United States
END:VEVENT
BEGIN:VEVENT
DTSTART;TZID=America/New_York:20280812T110000
DTEND;TZID=America/New_York:20280812T140000
DTSTAMP:20260422T232329
CREATED:20240607T234910Z
LAST-MODIFIED:20241130T025448Z
UID:10001077-1849690800-1849701600@www.gethsemane.org
SUMMARY:IYK Choir
DESCRIPTION:
URL:https://www.gethsemane.org/event/iyk-choir/2028-08-12/
LOCATION:OH
END:VEVENT
BEGIN:VEVENT
DTSTART;TZID=America/New_York:20280813T130000
DTEND;TZID=America/New_York:20280813T150000
DTSTAMP:20260422T232329
CREATED:20241102T214108Z
LAST-MODIFIED:20250325T022544Z
UID:10009192-1849784400-1849791600@www.gethsemane.org
SUMMARY:IYK Worship
DESCRIPTION:
URL:https://www.gethsemane.org/event/iyk-worship/2028-08-13/
LOCATION:GLC – Sanctuary\, 35 E Stanton Ave\, Columbus\, OH\, 43214\, United States
END:VEVENT
BEGIN:VEVENT
DTSTART;TZID=America/New_York:20280818T160000
DTEND;TZID=America/New_York:20280818T170000
DTSTAMP:20260422T232329
CREATED:20241102T212638Z
LAST-MODIFIED:20250627T025236Z
UID:10004446-1850227200-1850230800@www.gethsemane.org
SUMMARY:Piano Practice
DESCRIPTION:
URL:https://www.gethsemane.org/event/piano-practice-3/2028-08-18/
LOCATION:GLC – Sanctuary\, 35 E Stanton Ave\, Columbus\, OH\, 43214\, United States
END:VEVENT
BEGIN:VEVENT
DTSTART;TZID=America/New_York:20280819T110000
DTEND;TZID=America/New_York:20280819T140000
DTSTAMP:20260422T232329
CREATED:20240607T234910Z
LAST-MODIFIED:20241130T025448Z
UID:10001078-1850295600-1850306400@www.gethsemane.org
SUMMARY:IYK Choir
DESCRIPTION:
URL:https://www.gethsemane.org/event/iyk-choir/2028-08-19/
LOCATION:OH
END:VEVENT
BEGIN:VEVENT
DTSTART;TZID=America/New_York:20280820T130000
DTEND;TZID=America/New_York:20280820T150000
DTSTAMP:20260422T232329
CREATED:20241102T214108Z
LAST-MODIFIED:20250325T022544Z
UID:10009193-1850389200-1850396400@www.gethsemane.org
SUMMARY:IYK Worship
DESCRIPTION:
URL:https://www.gethsemane.org/event/iyk-worship/2028-08-20/
LOCATION:GLC – Sanctuary\, 35 E Stanton Ave\, Columbus\, OH\, 43214\, United States
END:VEVENT
BEGIN:VEVENT
DTSTART;TZID=America/New_York:20280825T160000
DTEND;TZID=America/New_York:20280825T170000
DTSTAMP:20260422T232329
CREATED:20241102T212638Z
LAST-MODIFIED:20250627T025236Z
UID:10004447-1850832000-1850835600@www.gethsemane.org
SUMMARY:Piano Practice
DESCRIPTION:
URL:https://www.gethsemane.org/event/piano-practice-3/2028-08-25/
LOCATION:GLC – Sanctuary\, 35 E Stanton Ave\, Columbus\, OH\, 43214\, United States
END:VEVENT
BEGIN:VEVENT
DTSTART;TZID=America/New_York:20280826T110000
DTEND;TZID=America/New_York:20280826T140000
DTSTAMP:20260422T232329
CREATED:20240607T234910Z
LAST-MODIFIED:20241130T025448Z
UID:10001079-1850900400-1850911200@www.gethsemane.org
SUMMARY:IYK Choir
DESCRIPTION:
URL:https://www.gethsemane.org/event/iyk-choir/2028-08-26/
LOCATION:OH
END:VEVENT
BEGIN:VEVENT
DTSTART;TZID=America/New_York:20280827T130000
DTEND;TZID=America/New_York:20280827T150000
DTSTAMP:20260422T232329
CREATED:20241102T214108Z
LAST-MODIFIED:20250325T022544Z
UID:10009194-1850994000-1851001200@www.gethsemane.org
SUMMARY:IYK Worship
DESCRIPTION:
URL:https://www.gethsemane.org/event/iyk-worship/2028-08-27/
LOCATION:GLC – Sanctuary\, 35 E Stanton Ave\, Columbus\, OH\, 43214\, United States
END:VEVENT
BEGIN:VEVENT
DTSTART;TZID=America/New_York:20280901T160000
DTEND;TZID=America/New_York:20280901T170000
DTSTAMP:20260422T232329
CREATED:20241102T212638Z
LAST-MODIFIED:20250627T025236Z
UID:10004448-1851436800-1851440400@www.gethsemane.org
SUMMARY:Piano Practice
DESCRIPTION:
URL:https://www.gethsemane.org/event/piano-practice-3/2028-09-01/
LOCATION:GLC – Sanctuary\, 35 E Stanton Ave\, Columbus\, OH\, 43214\, United States
END:VEVENT
BEGIN:VEVENT
DTSTART;TZID=America/New_York:20280902T110000
DTEND;TZID=America/New_York:20280902T140000
DTSTAMP:20260422T232329
CREATED:20240607T234910Z
LAST-MODIFIED:20241130T025448Z
UID:10001080-1851505200-1851516000@www.gethsemane.org
SUMMARY:IYK Choir
DESCRIPTION:
URL:https://www.gethsemane.org/event/iyk-choir/2028-09-02/
LOCATION:OH
END:VEVENT
BEGIN:VEVENT
DTSTART;TZID=America/New_York:20280903T130000
DTEND;TZID=America/New_York:20280903T150000
DTSTAMP:20260422T232329
CREATED:20241102T214108Z
LAST-MODIFIED:20250325T022544Z
UID:10009195-1851598800-1851606000@www.gethsemane.org
SUMMARY:IYK Worship
DESCRIPTION:
URL:https://www.gethsemane.org/event/iyk-worship/2028-09-03/
LOCATION:GLC – Sanctuary\, 35 E Stanton Ave\, Columbus\, OH\, 43214\, United States
END:VEVENT
BEGIN:VEVENT
DTSTART;TZID=America/New_York:20280908T160000
DTEND;TZID=America/New_York:20280908T170000
DTSTAMP:20260422T232329
CREATED:20241102T212638Z
LAST-MODIFIED:20250627T025236Z
UID:10004449-1852041600-1852045200@www.gethsemane.org
SUMMARY:Piano Practice
DESCRIPTION:
URL:https://www.gethsemane.org/event/piano-practice-3/2028-09-08/
LOCATION:GLC – Sanctuary\, 35 E Stanton Ave\, Columbus\, OH\, 43214\, United States
END:VEVENT
BEGIN:VEVENT
DTSTART;TZID=America/New_York:20280909T110000
DTEND;TZID=America/New_York:20280909T140000
DTSTAMP:20260422T232329
CREATED:20240607T234910Z
LAST-MODIFIED:20241130T025448Z
UID:10001081-1852110000-1852120800@www.gethsemane.org
SUMMARY:IYK Choir
DESCRIPTION:
URL:https://www.gethsemane.org/event/iyk-choir/2028-09-09/
LOCATION:OH
END:VEVENT
BEGIN:VEVENT
DTSTART;TZID=America/New_York:20280910T130000
DTEND;TZID=America/New_York:20280910T150000
DTSTAMP:20260422T232329
CREATED:20241102T214108Z
LAST-MODIFIED:20250325T022544Z
UID:10009196-1852203600-1852210800@www.gethsemane.org
SUMMARY:IYK Worship
DESCRIPTION:
URL:https://www.gethsemane.org/event/iyk-worship/2028-09-10/
LOCATION:GLC – Sanctuary\, 35 E Stanton Ave\, Columbus\, OH\, 43214\, United States
END:VEVENT
BEGIN:VEVENT
DTSTART;TZID=America/New_York:20280915T160000
DTEND;TZID=America/New_York:20280915T170000
DTSTAMP:20260422T232329
CREATED:20241102T212638Z
LAST-MODIFIED:20250627T025236Z
UID:10004450-1852646400-1852650000@www.gethsemane.org
SUMMARY:Piano Practice
DESCRIPTION:
URL:https://www.gethsemane.org/event/piano-practice-3/2028-09-15/
LOCATION:GLC – Sanctuary\, 35 E Stanton Ave\, Columbus\, OH\, 43214\, United States
END:VEVENT
BEGIN:VEVENT
DTSTART;TZID=America/New_York:20280916T110000
DTEND;TZID=America/New_York:20280916T140000
DTSTAMP:20260422T232329
CREATED:20240607T234910Z
LAST-MODIFIED:20241130T025448Z
UID:10001082-1852714800-1852725600@www.gethsemane.org
SUMMARY:IYK Choir
DESCRIPTION:
URL:https://www.gethsemane.org/event/iyk-choir/2028-09-16/
LOCATION:OH
END:VEVENT
BEGIN:VEVENT
DTSTART;TZID=America/New_York:20280917T130000
DTEND;TZID=America/New_York:20280917T150000
DTSTAMP:20260422T232329
CREATED:20241102T214108Z
LAST-MODIFIED:20250325T022544Z
UID:10009197-1852808400-1852815600@www.gethsemane.org
SUMMARY:IYK Worship
DESCRIPTION:
URL:https://www.gethsemane.org/event/iyk-worship/2028-09-17/
LOCATION:GLC – Sanctuary\, 35 E Stanton Ave\, Columbus\, OH\, 43214\, United States
END:VEVENT
BEGIN:VEVENT
DTSTART;TZID=America/New_York:20280922T160000
DTEND;TZID=America/New_York:20280922T170000
DTSTAMP:20260422T232329
CREATED:20241102T212638Z
LAST-MODIFIED:20250627T025236Z
UID:10004451-1853251200-1853254800@www.gethsemane.org
SUMMARY:Piano Practice
DESCRIPTION:
URL:https://www.gethsemane.org/event/piano-practice-3/2028-09-22/
LOCATION:GLC – Sanctuary\, 35 E Stanton Ave\, Columbus\, OH\, 43214\, United States
END:VEVENT
BEGIN:VEVENT
DTSTART;TZID=America/New_York:20280923T110000
DTEND;TZID=America/New_York:20280923T140000
DTSTAMP:20260422T232329
CREATED:20240607T234910Z
LAST-MODIFIED:20241130T025448Z
UID:10001083-1853319600-1853330400@www.gethsemane.org
SUMMARY:IYK Choir
DESCRIPTION:
URL:https://www.gethsemane.org/event/iyk-choir/2028-09-23/
LOCATION:OH
END:VEVENT
BEGIN:VEVENT
DTSTART;TZID=America/New_York:20280924T130000
DTEND;TZID=America/New_York:20280924T150000
DTSTAMP:20260422T232329
CREATED:20241102T214108Z
LAST-MODIFIED:20250325T022544Z
UID:10009198-1853413200-1853420400@www.gethsemane.org
SUMMARY:IYK Worship
DESCRIPTION:
URL:https://www.gethsemane.org/event/iyk-worship/2028-09-24/
LOCATION:GLC – Sanctuary\, 35 E Stanton Ave\, Columbus\, OH\, 43214\, United States
END:VEVENT
BEGIN:VEVENT
DTSTART;TZID=America/New_York:20280929T160000
DTEND;TZID=America/New_York:20280929T170000
DTSTAMP:20260422T232329
CREATED:20241102T212638Z
LAST-MODIFIED:20250627T025236Z
UID:10004452-1853856000-1853859600@www.gethsemane.org
SUMMARY:Piano Practice
DESCRIPTION:
URL:https://www.gethsemane.org/event/piano-practice-3/2028-09-29/
LOCATION:GLC – Sanctuary\, 35 E Stanton Ave\, Columbus\, OH\, 43214\, United States
END:VEVENT
BEGIN:VEVENT
DTSTART;TZID=America/New_York:20280930T110000
DTEND;TZID=America/New_York:20280930T140000
DTSTAMP:20260422T232329
CREATED:20240607T234910Z
LAST-MODIFIED:20241130T025448Z
UID:10001084-1853924400-1853935200@www.gethsemane.org
SUMMARY:IYK Choir
DESCRIPTION:
URL:https://www.gethsemane.org/event/iyk-choir/2028-09-30/
LOCATION:OH
END:VEVENT
BEGIN:VEVENT
DTSTART;TZID=America/New_York:20281001T130000
DTEND;TZID=America/New_York:20281001T150000
DTSTAMP:20260422T232329
CREATED:20241102T214108Z
LAST-MODIFIED:20250325T022544Z
UID:10009199-1854018000-1854025200@www.gethsemane.org
SUMMARY:IYK Worship
DESCRIPTION:
URL:https://www.gethsemane.org/event/iyk-worship/2028-10-01/
LOCATION:GLC – Sanctuary\, 35 E Stanton Ave\, Columbus\, OH\, 43214\, United States
END:VEVENT
BEGIN:VEVENT
DTSTART;TZID=America/New_York:20281006T160000
DTEND;TZID=America/New_York:20281006T170000
DTSTAMP:20260422T232329
CREATED:20241102T212638Z
LAST-MODIFIED:20250627T025236Z
UID:10004453-1854460800-1854464400@www.gethsemane.org
SUMMARY:Piano Practice
DESCRIPTION:
URL:https://www.gethsemane.org/event/piano-practice-3/2028-10-06/
LOCATION:GLC – Sanctuary\, 35 E Stanton Ave\, Columbus\, OH\, 43214\, United States
END:VEVENT
BEGIN:VEVENT
DTSTART;TZID=America/New_York:20281007T110000
DTEND;TZID=America/New_York:20281007T140000
DTSTAMP:20260422T232329
CREATED:20240607T234910Z
LAST-MODIFIED:20241130T025448Z
UID:10001085-1854529200-1854540000@www.gethsemane.org
SUMMARY:IYK Choir
DESCRIPTION:
URL:https://www.gethsemane.org/event/iyk-choir/2028-10-07/
LOCATION:OH
END:VEVENT
BEGIN:VEVENT
DTSTART;TZID=America/New_York:20281008T130000
DTEND;TZID=America/New_York:20281008T150000
DTSTAMP:20260422T232329
CREATED:20241102T214108Z
LAST-MODIFIED:20250325T022544Z
UID:10009200-1854622800-1854630000@www.gethsemane.org
SUMMARY:IYK Worship
DESCRIPTION:
URL:https://www.gethsemane.org/event/iyk-worship/2028-10-08/
LOCATION:GLC – Sanctuary\, 35 E Stanton Ave\, Columbus\, OH\, 43214\, United States
END:VEVENT
BEGIN:VEVENT
DTSTART;TZID=America/New_York:20281013T160000
DTEND;TZID=America/New_York:20281013T170000
DTSTAMP:20260422T232329
CREATED:20241102T212638Z
LAST-MODIFIED:20250627T025236Z
UID:10004454-1855065600-1855069200@www.gethsemane.org
SUMMARY:Piano Practice
DESCRIPTION:
URL:https://www.gethsemane.org/event/piano-practice-3/2028-10-13/
LOCATION:GLC – Sanctuary\, 35 E Stanton Ave\, Columbus\, OH\, 43214\, United States
END:VEVENT
BEGIN:VEVENT
DTSTART;TZID=America/New_York:20281014T110000
DTEND;TZID=America/New_York:20281014T140000
DTSTAMP:20260422T232329
CREATED:20240607T234910Z
LAST-MODIFIED:20241130T025448Z
UID:10001086-1855134000-1855144800@www.gethsemane.org
SUMMARY:IYK Choir
DESCRIPTION:
URL:https://www.gethsemane.org/event/iyk-choir/2028-10-14/
LOCATION:OH
END:VEVENT
END:VCALENDAR