BEGIN:VCALENDAR
VERSION:2.0
PRODID:-//Gethsemane Lutheran Church - ECPv6.15.20//NONSGML v1.0//EN
CALSCALE:GREGORIAN
METHOD:PUBLISH
X-ORIGINAL-URL:https://www.gethsemane.org
X-WR-CALDESC:Events for Gethsemane Lutheran Church
REFRESH-INTERVAL;VALUE=DURATION:PT1H
X-Robots-Tag:noindex
X-PUBLISHED-TTL:PT1H
BEGIN:VTIMEZONE
TZID:America/New_York
BEGIN:DAYLIGHT
TZOFFSETFROM:-0500
TZOFFSETTO:-0400
TZNAME:EDT
DTSTART:20270314T070000
END:DAYLIGHT
BEGIN:STANDARD
TZOFFSETFROM:-0400
TZOFFSETTO:-0500
TZNAME:EST
DTSTART:20271107T060000
END:STANDARD
BEGIN:DAYLIGHT
TZOFFSETFROM:-0500
TZOFFSETTO:-0400
TZNAME:EDT
DTSTART:20280312T070000
END:DAYLIGHT
BEGIN:STANDARD
TZOFFSETFROM:-0400
TZOFFSETTO:-0500
TZNAME:EST
DTSTART:20281105T060000
END:STANDARD
BEGIN:DAYLIGHT
TZOFFSETFROM:-0500
TZOFFSETTO:-0400
TZNAME:EDT
DTSTART:20290311T070000
END:DAYLIGHT
BEGIN:STANDARD
TZOFFSETFROM:-0400
TZOFFSETTO:-0500
TZNAME:EST
DTSTART:20291104T060000
END:STANDARD
BEGIN:DAYLIGHT
TZOFFSETFROM:-0500
TZOFFSETTO:-0400
TZNAME:EDT
DTSTART:20300310T070000
END:DAYLIGHT
BEGIN:STANDARD
TZOFFSETFROM:-0400
TZOFFSETTO:-0500
TZNAME:EST
DTSTART:20301103T060000
END:STANDARD
END:VTIMEZONE
BEGIN:VEVENT
DTSTART;TZID=America/New_York:20281029T130000
DTEND;TZID=America/New_York:20281029T150000
DTSTAMP:20260423T051608
CREATED:20241102T214108Z
LAST-MODIFIED:20250325T022544Z
UID:10009203-1856437200-1856444400@www.gethsemane.org
SUMMARY:IYK Worship
DESCRIPTION:
URL:https://www.gethsemane.org/event/iyk-worship/2028-10-29/
LOCATION:GLC – Sanctuary\, 35 E Stanton Ave\, Columbus\, OH\, 43214\, United States
END:VEVENT
BEGIN:VEVENT
DTSTART;TZID=America/New_York:20281103T160000
DTEND;TZID=America/New_York:20281103T170000
DTSTAMP:20260423T051608
CREATED:20241102T212638Z
LAST-MODIFIED:20250627T025236Z
UID:10004457-1856880000-1856883600@www.gethsemane.org
SUMMARY:Piano Practice
DESCRIPTION:
URL:https://www.gethsemane.org/event/piano-practice-3/2028-11-03/
LOCATION:GLC – Sanctuary\, 35 E Stanton Ave\, Columbus\, OH\, 43214\, United States
END:VEVENT
BEGIN:VEVENT
DTSTART;TZID=America/New_York:20281104T110000
DTEND;TZID=America/New_York:20281104T140000
DTSTAMP:20260423T051608
CREATED:20240607T234910Z
LAST-MODIFIED:20241130T025448Z
UID:10001089-1856948400-1856959200@www.gethsemane.org
SUMMARY:IYK Choir
DESCRIPTION:
URL:https://www.gethsemane.org/event/iyk-choir/2028-11-04/
LOCATION:OH
END:VEVENT
BEGIN:VEVENT
DTSTART;TZID=America/New_York:20281105T130000
DTEND;TZID=America/New_York:20281105T150000
DTSTAMP:20260423T051608
CREATED:20241102T214108Z
LAST-MODIFIED:20250325T022544Z
UID:10001351-1857042000-1857049200@www.gethsemane.org
SUMMARY:IYK Worship
DESCRIPTION:
URL:https://www.gethsemane.org/event/iyk-worship/2028-11-05/
LOCATION:GLC – Sanctuary\, 35 E Stanton Ave\, Columbus\, OH\, 43214\, United States
END:VEVENT
BEGIN:VEVENT
DTSTART;TZID=America/New_York:20281110T160000
DTEND;TZID=America/New_York:20281110T170000
DTSTAMP:20260423T051608
CREATED:20241102T212638Z
LAST-MODIFIED:20250627T025236Z
UID:10004458-1857484800-1857488400@www.gethsemane.org
SUMMARY:Piano Practice
DESCRIPTION:
URL:https://www.gethsemane.org/event/piano-practice-3/2028-11-10/
LOCATION:GLC – Sanctuary\, 35 E Stanton Ave\, Columbus\, OH\, 43214\, United States
END:VEVENT
BEGIN:VEVENT
DTSTART;TZID=America/New_York:20281111T110000
DTEND;TZID=America/New_York:20281111T140000
DTSTAMP:20260423T051608
CREATED:20240607T234910Z
LAST-MODIFIED:20241130T025448Z
UID:10001090-1857553200-1857564000@www.gethsemane.org
SUMMARY:IYK Choir
DESCRIPTION:
URL:https://www.gethsemane.org/event/iyk-choir/2028-11-11/
LOCATION:OH
END:VEVENT
BEGIN:VEVENT
DTSTART;TZID=America/New_York:20281112T130000
DTEND;TZID=America/New_York:20281112T150000
DTSTAMP:20260423T051608
CREATED:20241102T214108Z
LAST-MODIFIED:20250325T022544Z
UID:10001352-1857646800-1857654000@www.gethsemane.org
SUMMARY:IYK Worship
DESCRIPTION:
URL:https://www.gethsemane.org/event/iyk-worship/2028-11-12/
LOCATION:GLC – Sanctuary\, 35 E Stanton Ave\, Columbus\, OH\, 43214\, United States
END:VEVENT
BEGIN:VEVENT
DTSTART;TZID=America/New_York:20281117T160000
DTEND;TZID=America/New_York:20281117T170000
DTSTAMP:20260423T051608
CREATED:20241102T212638Z
LAST-MODIFIED:20250627T025236Z
UID:10004459-1858089600-1858093200@www.gethsemane.org
SUMMARY:Piano Practice
DESCRIPTION:
URL:https://www.gethsemane.org/event/piano-practice-3/2028-11-17/
LOCATION:GLC – Sanctuary\, 35 E Stanton Ave\, Columbus\, OH\, 43214\, United States
END:VEVENT
BEGIN:VEVENT
DTSTART;TZID=America/New_York:20281118T110000
DTEND;TZID=America/New_York:20281118T140000
DTSTAMP:20260423T051608
CREATED:20240607T234910Z
LAST-MODIFIED:20241130T025448Z
UID:10001091-1858158000-1858168800@www.gethsemane.org
SUMMARY:IYK Choir
DESCRIPTION:
URL:https://www.gethsemane.org/event/iyk-choir/2028-11-18/
LOCATION:OH
END:VEVENT
BEGIN:VEVENT
DTSTART;TZID=America/New_York:20281119T130000
DTEND;TZID=America/New_York:20281119T150000
DTSTAMP:20260423T051608
CREATED:20241102T214108Z
LAST-MODIFIED:20250325T022544Z
UID:10001353-1858251600-1858258800@www.gethsemane.org
SUMMARY:IYK Worship
DESCRIPTION:
URL:https://www.gethsemane.org/event/iyk-worship/2028-11-19/
LOCATION:GLC – Sanctuary\, 35 E Stanton Ave\, Columbus\, OH\, 43214\, United States
END:VEVENT
BEGIN:VEVENT
DTSTART;TZID=America/New_York:20281124T160000
DTEND;TZID=America/New_York:20281124T170000
DTSTAMP:20260423T051608
CREATED:20241102T212638Z
LAST-MODIFIED:20250627T025236Z
UID:10004460-1858694400-1858698000@www.gethsemane.org
SUMMARY:Piano Practice
DESCRIPTION:
URL:https://www.gethsemane.org/event/piano-practice-3/2028-11-24/
LOCATION:GLC – Sanctuary\, 35 E Stanton Ave\, Columbus\, OH\, 43214\, United States
END:VEVENT
BEGIN:VEVENT
DTSTART;TZID=America/New_York:20281125T110000
DTEND;TZID=America/New_York:20281125T140000
DTSTAMP:20260423T051608
CREATED:20240607T234910Z
LAST-MODIFIED:20241130T025448Z
UID:10001092-1858762800-1858773600@www.gethsemane.org
SUMMARY:IYK Choir
DESCRIPTION:
URL:https://www.gethsemane.org/event/iyk-choir/2028-11-25/
LOCATION:OH
END:VEVENT
BEGIN:VEVENT
DTSTART;TZID=America/New_York:20281126T130000
DTEND;TZID=America/New_York:20281126T150000
DTSTAMP:20260423T051608
CREATED:20241102T214108Z
LAST-MODIFIED:20250325T022544Z
UID:10001354-1858856400-1858863600@www.gethsemane.org
SUMMARY:IYK Worship
DESCRIPTION:
URL:https://www.gethsemane.org/event/iyk-worship/2028-11-26/
LOCATION:GLC – Sanctuary\, 35 E Stanton Ave\, Columbus\, OH\, 43214\, United States
END:VEVENT
BEGIN:VEVENT
DTSTART;TZID=America/New_York:20281201T160000
DTEND;TZID=America/New_York:20281201T170000
DTSTAMP:20260423T051608
CREATED:20241102T212638Z
LAST-MODIFIED:20250627T025236Z
UID:10004461-1859299200-1859302800@www.gethsemane.org
SUMMARY:Piano Practice
DESCRIPTION:
URL:https://www.gethsemane.org/event/piano-practice-3/2028-12-01/
LOCATION:GLC – Sanctuary\, 35 E Stanton Ave\, Columbus\, OH\, 43214\, United States
END:VEVENT
BEGIN:VEVENT
DTSTART;TZID=America/New_York:20281202T110000
DTEND;TZID=America/New_York:20281202T140000
DTSTAMP:20260423T051608
CREATED:20240607T234910Z
LAST-MODIFIED:20241130T025448Z
UID:10001093-1859367600-1859378400@www.gethsemane.org
SUMMARY:IYK Choir
DESCRIPTION:
URL:https://www.gethsemane.org/event/iyk-choir/2028-12-02/
LOCATION:OH
END:VEVENT
BEGIN:VEVENT
DTSTART;TZID=America/New_York:20281203T130000
DTEND;TZID=America/New_York:20281203T150000
DTSTAMP:20260423T051608
CREATED:20241102T214108Z
LAST-MODIFIED:20250325T022544Z
UID:10001355-1859461200-1859468400@www.gethsemane.org
SUMMARY:IYK Worship
DESCRIPTION:
URL:https://www.gethsemane.org/event/iyk-worship/2028-12-03/
LOCATION:GLC – Sanctuary\, 35 E Stanton Ave\, Columbus\, OH\, 43214\, United States
END:VEVENT
BEGIN:VEVENT
DTSTART;TZID=America/New_York:20281208T160000
DTEND;TZID=America/New_York:20281208T170000
DTSTAMP:20260423T051608
CREATED:20241102T212638Z
LAST-MODIFIED:20250627T025236Z
UID:10004462-1859904000-1859907600@www.gethsemane.org
SUMMARY:Piano Practice
DESCRIPTION:
URL:https://www.gethsemane.org/event/piano-practice-3/2028-12-08/
LOCATION:GLC – Sanctuary\, 35 E Stanton Ave\, Columbus\, OH\, 43214\, United States
END:VEVENT
BEGIN:VEVENT
DTSTART;TZID=America/New_York:20281209T110000
DTEND;TZID=America/New_York:20281209T140000
DTSTAMP:20260423T051608
CREATED:20240607T234910Z
LAST-MODIFIED:20241130T025448Z
UID:10001094-1859972400-1859983200@www.gethsemane.org
SUMMARY:IYK Choir
DESCRIPTION:
URL:https://www.gethsemane.org/event/iyk-choir/2028-12-09/
LOCATION:OH
END:VEVENT
BEGIN:VEVENT
DTSTART;TZID=America/New_York:20281210T130000
DTEND;TZID=America/New_York:20281210T150000
DTSTAMP:20260423T051608
CREATED:20241102T214108Z
LAST-MODIFIED:20250325T022544Z
UID:10001356-1860066000-1860073200@www.gethsemane.org
SUMMARY:IYK Worship
DESCRIPTION:
URL:https://www.gethsemane.org/event/iyk-worship/2028-12-10/
LOCATION:GLC – Sanctuary\, 35 E Stanton Ave\, Columbus\, OH\, 43214\, United States
END:VEVENT
BEGIN:VEVENT
DTSTART;TZID=America/New_York:20281215T160000
DTEND;TZID=America/New_York:20281215T170000
DTSTAMP:20260423T051608
CREATED:20241102T212638Z
LAST-MODIFIED:20250627T025236Z
UID:10004463-1860508800-1860512400@www.gethsemane.org
SUMMARY:Piano Practice
DESCRIPTION:
URL:https://www.gethsemane.org/event/piano-practice-3/2028-12-15/
LOCATION:GLC – Sanctuary\, 35 E Stanton Ave\, Columbus\, OH\, 43214\, United States
END:VEVENT
BEGIN:VEVENT
DTSTART;TZID=America/New_York:20281216T110000
DTEND;TZID=America/New_York:20281216T140000
DTSTAMP:20260423T051608
CREATED:20240607T234910Z
LAST-MODIFIED:20241130T025448Z
UID:10001095-1860577200-1860588000@www.gethsemane.org
SUMMARY:IYK Choir
DESCRIPTION:
URL:https://www.gethsemane.org/event/iyk-choir/2028-12-16/
LOCATION:OH
END:VEVENT
BEGIN:VEVENT
DTSTART;TZID=America/New_York:20281217T130000
DTEND;TZID=America/New_York:20281217T150000
DTSTAMP:20260423T051608
CREATED:20241102T214108Z
LAST-MODIFIED:20250325T022544Z
UID:10001357-1860670800-1860678000@www.gethsemane.org
SUMMARY:IYK Worship
DESCRIPTION:
URL:https://www.gethsemane.org/event/iyk-worship/2028-12-17/
LOCATION:GLC – Sanctuary\, 35 E Stanton Ave\, Columbus\, OH\, 43214\, United States
END:VEVENT
BEGIN:VEVENT
DTSTART;TZID=America/New_York:20281222T160000
DTEND;TZID=America/New_York:20281222T170000
DTSTAMP:20260423T051608
CREATED:20241102T212638Z
LAST-MODIFIED:20250627T025236Z
UID:10004464-1861113600-1861117200@www.gethsemane.org
SUMMARY:Piano Practice
DESCRIPTION:
URL:https://www.gethsemane.org/event/piano-practice-3/2028-12-22/
LOCATION:GLC – Sanctuary\, 35 E Stanton Ave\, Columbus\, OH\, 43214\, United States
END:VEVENT
BEGIN:VEVENT
DTSTART;TZID=America/New_York:20281223T110000
DTEND;TZID=America/New_York:20281223T140000
DTSTAMP:20260423T051608
CREATED:20240607T234910Z
LAST-MODIFIED:20241130T025448Z
UID:10001096-1861182000-1861192800@www.gethsemane.org
SUMMARY:IYK Choir
DESCRIPTION:
URL:https://www.gethsemane.org/event/iyk-choir/2028-12-23/
LOCATION:OH
END:VEVENT
BEGIN:VEVENT
DTSTART;TZID=America/New_York:20281224T130000
DTEND;TZID=America/New_York:20281224T150000
DTSTAMP:20260423T051608
CREATED:20241102T214108Z
LAST-MODIFIED:20250325T022544Z
UID:10001358-1861275600-1861282800@www.gethsemane.org
SUMMARY:IYK Worship
DESCRIPTION:
URL:https://www.gethsemane.org/event/iyk-worship/2028-12-24/
LOCATION:GLC – Sanctuary\, 35 E Stanton Ave\, Columbus\, OH\, 43214\, United States
END:VEVENT
BEGIN:VEVENT
DTSTART;TZID=America/New_York:20281229T160000
DTEND;TZID=America/New_York:20281229T170000
DTSTAMP:20260423T051608
CREATED:20241102T212638Z
LAST-MODIFIED:20250627T025236Z
UID:10004465-1861718400-1861722000@www.gethsemane.org
SUMMARY:Piano Practice
DESCRIPTION:
URL:https://www.gethsemane.org/event/piano-practice-3/2028-12-29/
LOCATION:GLC – Sanctuary\, 35 E Stanton Ave\, Columbus\, OH\, 43214\, United States
END:VEVENT
BEGIN:VEVENT
DTSTART;TZID=America/New_York:20281230T110000
DTEND;TZID=America/New_York:20281230T140000
DTSTAMP:20260423T051608
CREATED:20240607T234910Z
LAST-MODIFIED:20241130T025448Z
UID:10001097-1861786800-1861797600@www.gethsemane.org
SUMMARY:IYK Choir
DESCRIPTION:
URL:https://www.gethsemane.org/event/iyk-choir/2028-12-30/
LOCATION:OH
END:VEVENT
BEGIN:VEVENT
DTSTART;TZID=America/New_York:20281231T130000
DTEND;TZID=America/New_York:20281231T150000
DTSTAMP:20260423T051608
CREATED:20241102T214108Z
LAST-MODIFIED:20250325T022544Z
UID:10001359-1861880400-1861887600@www.gethsemane.org
SUMMARY:IYK Worship
DESCRIPTION:
URL:https://www.gethsemane.org/event/iyk-worship/2028-12-31/
LOCATION:GLC – Sanctuary\, 35 E Stanton Ave\, Columbus\, OH\, 43214\, United States
END:VEVENT
BEGIN:VEVENT
DTSTART;TZID=America/New_York:20290105T160000
DTEND;TZID=America/New_York:20290105T170000
DTSTAMP:20260423T051608
CREATED:20241102T212638Z
LAST-MODIFIED:20250627T025236Z
UID:10004466-1862323200-1862326800@www.gethsemane.org
SUMMARY:Piano Practice
DESCRIPTION:
URL:https://www.gethsemane.org/event/piano-practice-3/2029-01-05/
LOCATION:GLC – Sanctuary\, 35 E Stanton Ave\, Columbus\, OH\, 43214\, United States
END:VEVENT
BEGIN:VEVENT
DTSTART;TZID=America/New_York:20290106T110000
DTEND;TZID=America/New_York:20290106T140000
DTSTAMP:20260423T051608
CREATED:20240607T234910Z
LAST-MODIFIED:20241130T025448Z
UID:10001098-1862391600-1862402400@www.gethsemane.org
SUMMARY:IYK Choir
DESCRIPTION:
URL:https://www.gethsemane.org/event/iyk-choir/2029-01-06/
LOCATION:OH
END:VEVENT
END:VCALENDAR