BEGIN:VCALENDAR
VERSION:2.0
PRODID:-//Gethsemane Lutheran Church - ECPv6.15.20//NONSGML v1.0//EN
CALSCALE:GREGORIAN
METHOD:PUBLISH
X-WR-CALNAME:Gethsemane Lutheran Church
X-ORIGINAL-URL:https://www.gethsemane.org
X-WR-CALDESC:Events for Gethsemane Lutheran Church
REFRESH-INTERVAL;VALUE=DURATION:PT1H
X-Robots-Tag:noindex
X-PUBLISHED-TTL:PT1H
BEGIN:VTIMEZONE
TZID:America/New_York
BEGIN:DAYLIGHT
TZOFFSETFROM:-0500
TZOFFSETTO:-0400
TZNAME:EDT
DTSTART:20280312T070000
END:DAYLIGHT
BEGIN:STANDARD
TZOFFSETFROM:-0400
TZOFFSETTO:-0500
TZNAME:EST
DTSTART:20281105T060000
END:STANDARD
BEGIN:DAYLIGHT
TZOFFSETFROM:-0500
TZOFFSETTO:-0400
TZNAME:EDT
DTSTART:20290311T070000
END:DAYLIGHT
BEGIN:STANDARD
TZOFFSETFROM:-0400
TZOFFSETTO:-0500
TZNAME:EST
DTSTART:20291104T060000
END:STANDARD
BEGIN:DAYLIGHT
TZOFFSETFROM:-0500
TZOFFSETTO:-0400
TZNAME:EDT
DTSTART:20300310T070000
END:DAYLIGHT
BEGIN:STANDARD
TZOFFSETFROM:-0400
TZOFFSETTO:-0500
TZNAME:EST
DTSTART:20301103T060000
END:STANDARD
END:VTIMEZONE
BEGIN:VEVENT
DTSTART;TZID=America/New_York:20290218T130000
DTEND;TZID=America/New_York:20290218T150000
DTSTAMP:20260423T164124
CREATED:20241102T214108Z
LAST-MODIFIED:20250325T022544Z
UID:10001366-1866114000-1866121200@www.gethsemane.org
SUMMARY:IYK Worship
DESCRIPTION:
URL:https://www.gethsemane.org/event/iyk-worship/2029-02-18/
LOCATION:GLC – Sanctuary\, 35 E Stanton Ave\, Columbus\, OH\, 43214\, United States
END:VEVENT
BEGIN:VEVENT
DTSTART;TZID=America/New_York:20290223T160000
DTEND;TZID=America/New_York:20290223T170000
DTSTAMP:20260423T164124
CREATED:20241102T212638Z
LAST-MODIFIED:20250627T025236Z
UID:10004473-1866556800-1866560400@www.gethsemane.org
SUMMARY:Piano Practice
DESCRIPTION:
URL:https://www.gethsemane.org/event/piano-practice-3/2029-02-23/
LOCATION:GLC – Sanctuary\, 35 E Stanton Ave\, Columbus\, OH\, 43214\, United States
END:VEVENT
BEGIN:VEVENT
DTSTART;TZID=America/New_York:20290224T110000
DTEND;TZID=America/New_York:20290224T140000
DTSTAMP:20260423T164124
CREATED:20240607T234910Z
LAST-MODIFIED:20241130T025448Z
UID:10001105-1866625200-1866636000@www.gethsemane.org
SUMMARY:IYK Choir
DESCRIPTION:
URL:https://www.gethsemane.org/event/iyk-choir/2029-02-24/
LOCATION:OH
END:VEVENT
BEGIN:VEVENT
DTSTART;TZID=America/New_York:20290225T130000
DTEND;TZID=America/New_York:20290225T150000
DTSTAMP:20260423T164124
CREATED:20241102T214108Z
LAST-MODIFIED:20250325T022544Z
UID:10001367-1866718800-1866726000@www.gethsemane.org
SUMMARY:IYK Worship
DESCRIPTION:
URL:https://www.gethsemane.org/event/iyk-worship/2029-02-25/
LOCATION:GLC – Sanctuary\, 35 E Stanton Ave\, Columbus\, OH\, 43214\, United States
END:VEVENT
BEGIN:VEVENT
DTSTART;TZID=America/New_York:20290302T160000
DTEND;TZID=America/New_York:20290302T170000
DTSTAMP:20260423T164124
CREATED:20241102T212638Z
LAST-MODIFIED:20250627T025236Z
UID:10004474-1867161600-1867165200@www.gethsemane.org
SUMMARY:Piano Practice
DESCRIPTION:
URL:https://www.gethsemane.org/event/piano-practice-3/2029-03-02/
LOCATION:GLC – Sanctuary\, 35 E Stanton Ave\, Columbus\, OH\, 43214\, United States
END:VEVENT
BEGIN:VEVENT
DTSTART;TZID=America/New_York:20290303T110000
DTEND;TZID=America/New_York:20290303T140000
DTSTAMP:20260423T164124
CREATED:20240607T234910Z
LAST-MODIFIED:20241130T025448Z
UID:10001106-1867230000-1867240800@www.gethsemane.org
SUMMARY:IYK Choir
DESCRIPTION:
URL:https://www.gethsemane.org/event/iyk-choir/2029-03-03/
LOCATION:OH
END:VEVENT
BEGIN:VEVENT
DTSTART;TZID=America/New_York:20290304T130000
DTEND;TZID=America/New_York:20290304T150000
DTSTAMP:20260423T164124
CREATED:20241102T214108Z
LAST-MODIFIED:20250325T022544Z
UID:10001368-1867323600-1867330800@www.gethsemane.org
SUMMARY:IYK Worship
DESCRIPTION:
URL:https://www.gethsemane.org/event/iyk-worship/2029-03-04/
LOCATION:GLC – Sanctuary\, 35 E Stanton Ave\, Columbus\, OH\, 43214\, United States
END:VEVENT
BEGIN:VEVENT
DTSTART;TZID=America/New_York:20290309T160000
DTEND;TZID=America/New_York:20290309T170000
DTSTAMP:20260423T164124
CREATED:20241102T212638Z
LAST-MODIFIED:20250627T025236Z
UID:10004475-1867766400-1867770000@www.gethsemane.org
SUMMARY:Piano Practice
DESCRIPTION:
URL:https://www.gethsemane.org/event/piano-practice-3/2029-03-09/
LOCATION:GLC – Sanctuary\, 35 E Stanton Ave\, Columbus\, OH\, 43214\, United States
END:VEVENT
BEGIN:VEVENT
DTSTART;TZID=America/New_York:20290310T110000
DTEND;TZID=America/New_York:20290310T140000
DTSTAMP:20260423T164124
CREATED:20240607T234910Z
LAST-MODIFIED:20241130T025448Z
UID:10001107-1867834800-1867845600@www.gethsemane.org
SUMMARY:IYK Choir
DESCRIPTION:
URL:https://www.gethsemane.org/event/iyk-choir/2029-03-10/
LOCATION:OH
END:VEVENT
BEGIN:VEVENT
DTSTART;TZID=America/New_York:20290311T130000
DTEND;TZID=America/New_York:20290311T150000
DTSTAMP:20260423T164124
CREATED:20241102T214108Z
LAST-MODIFIED:20250325T022544Z
UID:10001369-1867928400-1867935600@www.gethsemane.org
SUMMARY:IYK Worship
DESCRIPTION:
URL:https://www.gethsemane.org/event/iyk-worship/2029-03-11/
LOCATION:GLC – Sanctuary\, 35 E Stanton Ave\, Columbus\, OH\, 43214\, United States
END:VEVENT
BEGIN:VEVENT
DTSTART;TZID=America/New_York:20290316T160000
DTEND;TZID=America/New_York:20290316T170000
DTSTAMP:20260423T164124
CREATED:20241102T212638Z
LAST-MODIFIED:20250627T025236Z
UID:10004476-1868371200-1868374800@www.gethsemane.org
SUMMARY:Piano Practice
DESCRIPTION:
URL:https://www.gethsemane.org/event/piano-practice-3/2029-03-16/
LOCATION:GLC – Sanctuary\, 35 E Stanton Ave\, Columbus\, OH\, 43214\, United States
END:VEVENT
BEGIN:VEVENT
DTSTART;TZID=America/New_York:20290317T110000
DTEND;TZID=America/New_York:20290317T140000
DTSTAMP:20260423T164124
CREATED:20240607T234910Z
LAST-MODIFIED:20241130T025448Z
UID:10001108-1868439600-1868450400@www.gethsemane.org
SUMMARY:IYK Choir
DESCRIPTION:
URL:https://www.gethsemane.org/event/iyk-choir/2029-03-17/
LOCATION:OH
END:VEVENT
BEGIN:VEVENT
DTSTART;TZID=America/New_York:20290318T130000
DTEND;TZID=America/New_York:20290318T150000
DTSTAMP:20260423T164124
CREATED:20241102T214108Z
LAST-MODIFIED:20250325T022544Z
UID:10001370-1868533200-1868540400@www.gethsemane.org
SUMMARY:IYK Worship
DESCRIPTION:
URL:https://www.gethsemane.org/event/iyk-worship/2029-03-18/
LOCATION:GLC – Sanctuary\, 35 E Stanton Ave\, Columbus\, OH\, 43214\, United States
END:VEVENT
BEGIN:VEVENT
DTSTART;TZID=America/New_York:20290323T160000
DTEND;TZID=America/New_York:20290323T170000
DTSTAMP:20260423T164124
CREATED:20241102T212638Z
LAST-MODIFIED:20250627T025236Z
UID:10004477-1868976000-1868979600@www.gethsemane.org
SUMMARY:Piano Practice
DESCRIPTION:
URL:https://www.gethsemane.org/event/piano-practice-3/2029-03-23/
LOCATION:GLC – Sanctuary\, 35 E Stanton Ave\, Columbus\, OH\, 43214\, United States
END:VEVENT
BEGIN:VEVENT
DTSTART;TZID=America/New_York:20290324T110000
DTEND;TZID=America/New_York:20290324T140000
DTSTAMP:20260423T164124
CREATED:20240607T234910Z
LAST-MODIFIED:20241130T025448Z
UID:10001109-1869044400-1869055200@www.gethsemane.org
SUMMARY:IYK Choir
DESCRIPTION:
URL:https://www.gethsemane.org/event/iyk-choir/2029-03-24/
LOCATION:OH
END:VEVENT
BEGIN:VEVENT
DTSTART;TZID=America/New_York:20290325T130000
DTEND;TZID=America/New_York:20290325T150000
DTSTAMP:20260423T164124
CREATED:20241102T214108Z
LAST-MODIFIED:20250325T022544Z
UID:10001371-1869138000-1869145200@www.gethsemane.org
SUMMARY:IYK Worship
DESCRIPTION:
URL:https://www.gethsemane.org/event/iyk-worship/2029-03-25/
LOCATION:GLC – Sanctuary\, 35 E Stanton Ave\, Columbus\, OH\, 43214\, United States
END:VEVENT
BEGIN:VEVENT
DTSTART;TZID=America/New_York:20290330T160000
DTEND;TZID=America/New_York:20290330T170000
DTSTAMP:20260423T164124
CREATED:20241102T212638Z
LAST-MODIFIED:20250627T025236Z
UID:10004478-1869580800-1869584400@www.gethsemane.org
SUMMARY:Piano Practice
DESCRIPTION:
URL:https://www.gethsemane.org/event/piano-practice-3/2029-03-30/
LOCATION:GLC – Sanctuary\, 35 E Stanton Ave\, Columbus\, OH\, 43214\, United States
END:VEVENT
BEGIN:VEVENT
DTSTART;TZID=America/New_York:20290331T110000
DTEND;TZID=America/New_York:20290331T140000
DTSTAMP:20260423T164124
CREATED:20240607T234910Z
LAST-MODIFIED:20241130T025448Z
UID:10001110-1869649200-1869660000@www.gethsemane.org
SUMMARY:IYK Choir
DESCRIPTION:
URL:https://www.gethsemane.org/event/iyk-choir/2029-03-31/
LOCATION:OH
END:VEVENT
BEGIN:VEVENT
DTSTART;TZID=America/New_York:20290401T130000
DTEND;TZID=America/New_York:20290401T150000
DTSTAMP:20260423T164124
CREATED:20241102T214108Z
LAST-MODIFIED:20250325T022544Z
UID:10001372-1869742800-1869750000@www.gethsemane.org
SUMMARY:IYK Worship
DESCRIPTION:
URL:https://www.gethsemane.org/event/iyk-worship/2029-04-01/
LOCATION:GLC – Sanctuary\, 35 E Stanton Ave\, Columbus\, OH\, 43214\, United States
END:VEVENT
BEGIN:VEVENT
DTSTART;TZID=America/New_York:20290406T160000
DTEND;TZID=America/New_York:20290406T170000
DTSTAMP:20260423T164124
CREATED:20241102T212638Z
LAST-MODIFIED:20250627T025236Z
UID:10004479-1870185600-1870189200@www.gethsemane.org
SUMMARY:Piano Practice
DESCRIPTION:
URL:https://www.gethsemane.org/event/piano-practice-3/2029-04-06/
LOCATION:GLC – Sanctuary\, 35 E Stanton Ave\, Columbus\, OH\, 43214\, United States
END:VEVENT
BEGIN:VEVENT
DTSTART;TZID=America/New_York:20290407T110000
DTEND;TZID=America/New_York:20290407T140000
DTSTAMP:20260423T164124
CREATED:20240607T234910Z
LAST-MODIFIED:20241130T025448Z
UID:10001111-1870254000-1870264800@www.gethsemane.org
SUMMARY:IYK Choir
DESCRIPTION:
URL:https://www.gethsemane.org/event/iyk-choir/2029-04-07/
LOCATION:OH
END:VEVENT
BEGIN:VEVENT
DTSTART;TZID=America/New_York:20290408T130000
DTEND;TZID=America/New_York:20290408T150000
DTSTAMP:20260423T164124
CREATED:20241102T214108Z
LAST-MODIFIED:20250325T022544Z
UID:10001373-1870347600-1870354800@www.gethsemane.org
SUMMARY:IYK Worship
DESCRIPTION:
URL:https://www.gethsemane.org/event/iyk-worship/2029-04-08/
LOCATION:GLC – Sanctuary\, 35 E Stanton Ave\, Columbus\, OH\, 43214\, United States
END:VEVENT
BEGIN:VEVENT
DTSTART;TZID=America/New_York:20290413T160000
DTEND;TZID=America/New_York:20290413T170000
DTSTAMP:20260423T164124
CREATED:20241102T212638Z
LAST-MODIFIED:20250627T025236Z
UID:10004480-1870790400-1870794000@www.gethsemane.org
SUMMARY:Piano Practice
DESCRIPTION:
URL:https://www.gethsemane.org/event/piano-practice-3/2029-04-13/
LOCATION:GLC – Sanctuary\, 35 E Stanton Ave\, Columbus\, OH\, 43214\, United States
END:VEVENT
BEGIN:VEVENT
DTSTART;TZID=America/New_York:20290414T110000
DTEND;TZID=America/New_York:20290414T140000
DTSTAMP:20260423T164124
CREATED:20240607T234910Z
LAST-MODIFIED:20241130T025448Z
UID:10001112-1870858800-1870869600@www.gethsemane.org
SUMMARY:IYK Choir
DESCRIPTION:
URL:https://www.gethsemane.org/event/iyk-choir/2029-04-14/
LOCATION:OH
END:VEVENT
BEGIN:VEVENT
DTSTART;TZID=America/New_York:20290415T130000
DTEND;TZID=America/New_York:20290415T150000
DTSTAMP:20260423T164124
CREATED:20241102T214108Z
LAST-MODIFIED:20250325T022544Z
UID:10001374-1870952400-1870959600@www.gethsemane.org
SUMMARY:IYK Worship
DESCRIPTION:
URL:https://www.gethsemane.org/event/iyk-worship/2029-04-15/
LOCATION:GLC – Sanctuary\, 35 E Stanton Ave\, Columbus\, OH\, 43214\, United States
END:VEVENT
BEGIN:VEVENT
DTSTART;TZID=America/New_York:20290420T160000
DTEND;TZID=America/New_York:20290420T170000
DTSTAMP:20260423T164124
CREATED:20241102T212638Z
LAST-MODIFIED:20250627T025236Z
UID:10004481-1871395200-1871398800@www.gethsemane.org
SUMMARY:Piano Practice
DESCRIPTION:
URL:https://www.gethsemane.org/event/piano-practice-3/2029-04-20/
LOCATION:GLC – Sanctuary\, 35 E Stanton Ave\, Columbus\, OH\, 43214\, United States
END:VEVENT
BEGIN:VEVENT
DTSTART;TZID=America/New_York:20290421T110000
DTEND;TZID=America/New_York:20290421T140000
DTSTAMP:20260423T164124
CREATED:20240607T234910Z
LAST-MODIFIED:20241130T025448Z
UID:10001113-1871463600-1871474400@www.gethsemane.org
SUMMARY:IYK Choir
DESCRIPTION:
URL:https://www.gethsemane.org/event/iyk-choir/2029-04-21/
LOCATION:OH
END:VEVENT
BEGIN:VEVENT
DTSTART;TZID=America/New_York:20290422T130000
DTEND;TZID=America/New_York:20290422T150000
DTSTAMP:20260423T164124
CREATED:20241102T214108Z
LAST-MODIFIED:20250325T022544Z
UID:10001375-1871557200-1871564400@www.gethsemane.org
SUMMARY:IYK Worship
DESCRIPTION:
URL:https://www.gethsemane.org/event/iyk-worship/2029-04-22/
LOCATION:GLC – Sanctuary\, 35 E Stanton Ave\, Columbus\, OH\, 43214\, United States
END:VEVENT
BEGIN:VEVENT
DTSTART;TZID=America/New_York:20290427T160000
DTEND;TZID=America/New_York:20290427T170000
DTSTAMP:20260423T164124
CREATED:20241102T212638Z
LAST-MODIFIED:20250627T025236Z
UID:10004482-1872000000-1872003600@www.gethsemane.org
SUMMARY:Piano Practice
DESCRIPTION:
URL:https://www.gethsemane.org/event/piano-practice-3/2029-04-27/
LOCATION:GLC – Sanctuary\, 35 E Stanton Ave\, Columbus\, OH\, 43214\, United States
END:VEVENT
BEGIN:VEVENT
DTSTART;TZID=America/New_York:20290428T110000
DTEND;TZID=America/New_York:20290428T140000
DTSTAMP:20260423T164124
CREATED:20240607T234910Z
LAST-MODIFIED:20241130T025448Z
UID:10001114-1872068400-1872079200@www.gethsemane.org
SUMMARY:IYK Choir
DESCRIPTION:
URL:https://www.gethsemane.org/event/iyk-choir/2029-04-28/
LOCATION:OH
END:VEVENT
END:VCALENDAR