BEGIN:VCALENDAR
VERSION:2.0
PRODID:-//Gethsemane Lutheran Church - ECPv6.15.20//NONSGML v1.0//EN
CALSCALE:GREGORIAN
METHOD:PUBLISH
X-WR-CALNAME:Gethsemane Lutheran Church
X-ORIGINAL-URL:https://www.gethsemane.org
X-WR-CALDESC:Events for Gethsemane Lutheran Church
REFRESH-INTERVAL;VALUE=DURATION:PT1H
X-Robots-Tag:noindex
X-PUBLISHED-TTL:PT1H
BEGIN:VTIMEZONE
TZID:America/New_York
BEGIN:DAYLIGHT
TZOFFSETFROM:-0500
TZOFFSETTO:-0400
TZNAME:EDT
DTSTART:20280312T070000
END:DAYLIGHT
BEGIN:STANDARD
TZOFFSETFROM:-0400
TZOFFSETTO:-0500
TZNAME:EST
DTSTART:20281105T060000
END:STANDARD
BEGIN:DAYLIGHT
TZOFFSETFROM:-0500
TZOFFSETTO:-0400
TZNAME:EDT
DTSTART:20290311T070000
END:DAYLIGHT
BEGIN:STANDARD
TZOFFSETFROM:-0400
TZOFFSETTO:-0500
TZNAME:EST
DTSTART:20291104T060000
END:STANDARD
BEGIN:DAYLIGHT
TZOFFSETFROM:-0500
TZOFFSETTO:-0400
TZNAME:EDT
DTSTART:20300310T070000
END:DAYLIGHT
BEGIN:STANDARD
TZOFFSETFROM:-0400
TZOFFSETTO:-0500
TZNAME:EST
DTSTART:20301103T060000
END:STANDARD
END:VTIMEZONE
BEGIN:VEVENT
DTSTART;TZID=America/New_York:20290513T130000
DTEND;TZID=America/New_York:20290513T150000
DTSTAMP:20260424T014138
CREATED:20241102T214108Z
LAST-MODIFIED:20250325T022544Z
UID:10001378-1873371600-1873378800@www.gethsemane.org
SUMMARY:IYK Worship
DESCRIPTION:
URL:https://www.gethsemane.org/event/iyk-worship/2029-05-13/
LOCATION:GLC – Sanctuary\, 35 E Stanton Ave\, Columbus\, OH\, 43214\, United States
END:VEVENT
BEGIN:VEVENT
DTSTART;TZID=America/New_York:20290518T160000
DTEND;TZID=America/New_York:20290518T170000
DTSTAMP:20260424T014138
CREATED:20241102T212638Z
LAST-MODIFIED:20250627T025236Z
UID:10004485-1873814400-1873818000@www.gethsemane.org
SUMMARY:Piano Practice
DESCRIPTION:
URL:https://www.gethsemane.org/event/piano-practice-3/2029-05-18/
LOCATION:GLC – Sanctuary\, 35 E Stanton Ave\, Columbus\, OH\, 43214\, United States
END:VEVENT
BEGIN:VEVENT
DTSTART;TZID=America/New_York:20290519T110000
DTEND;TZID=America/New_York:20290519T140000
DTSTAMP:20260424T014138
CREATED:20240607T234910Z
LAST-MODIFIED:20241130T025448Z
UID:10001117-1873882800-1873893600@www.gethsemane.org
SUMMARY:IYK Choir
DESCRIPTION:
URL:https://www.gethsemane.org/event/iyk-choir/2029-05-19/
LOCATION:OH
END:VEVENT
BEGIN:VEVENT
DTSTART;TZID=America/New_York:20290520T130000
DTEND;TZID=America/New_York:20290520T150000
DTSTAMP:20260424T014138
CREATED:20241102T214108Z
LAST-MODIFIED:20250325T022544Z
UID:10001379-1873976400-1873983600@www.gethsemane.org
SUMMARY:IYK Worship
DESCRIPTION:
URL:https://www.gethsemane.org/event/iyk-worship/2029-05-20/
LOCATION:GLC – Sanctuary\, 35 E Stanton Ave\, Columbus\, OH\, 43214\, United States
END:VEVENT
BEGIN:VEVENT
DTSTART;TZID=America/New_York:20290525T160000
DTEND;TZID=America/New_York:20290525T170000
DTSTAMP:20260424T014138
CREATED:20241102T212638Z
LAST-MODIFIED:20250627T025236Z
UID:10004486-1874419200-1874422800@www.gethsemane.org
SUMMARY:Piano Practice
DESCRIPTION:
URL:https://www.gethsemane.org/event/piano-practice-3/2029-05-25/
LOCATION:GLC – Sanctuary\, 35 E Stanton Ave\, Columbus\, OH\, 43214\, United States
END:VEVENT
BEGIN:VEVENT
DTSTART;TZID=America/New_York:20290526T110000
DTEND;TZID=America/New_York:20290526T140000
DTSTAMP:20260424T014138
CREATED:20240607T234910Z
LAST-MODIFIED:20241130T025448Z
UID:10001118-1874487600-1874498400@www.gethsemane.org
SUMMARY:IYK Choir
DESCRIPTION:
URL:https://www.gethsemane.org/event/iyk-choir/2029-05-26/
LOCATION:OH
END:VEVENT
BEGIN:VEVENT
DTSTART;TZID=America/New_York:20290527T130000
DTEND;TZID=America/New_York:20290527T150000
DTSTAMP:20260424T014138
CREATED:20241102T214108Z
LAST-MODIFIED:20250325T022544Z
UID:10001380-1874581200-1874588400@www.gethsemane.org
SUMMARY:IYK Worship
DESCRIPTION:
URL:https://www.gethsemane.org/event/iyk-worship/2029-05-27/
LOCATION:GLC – Sanctuary\, 35 E Stanton Ave\, Columbus\, OH\, 43214\, United States
END:VEVENT
BEGIN:VEVENT
DTSTART;TZID=America/New_York:20290601T160000
DTEND;TZID=America/New_York:20290601T170000
DTSTAMP:20260424T014138
CREATED:20241102T212638Z
LAST-MODIFIED:20250627T025236Z
UID:10004487-1875024000-1875027600@www.gethsemane.org
SUMMARY:Piano Practice
DESCRIPTION:
URL:https://www.gethsemane.org/event/piano-practice-3/2029-06-01/
LOCATION:GLC – Sanctuary\, 35 E Stanton Ave\, Columbus\, OH\, 43214\, United States
END:VEVENT
BEGIN:VEVENT
DTSTART;TZID=America/New_York:20290602T110000
DTEND;TZID=America/New_York:20290602T140000
DTSTAMP:20260424T014138
CREATED:20240607T234910Z
LAST-MODIFIED:20241130T025448Z
UID:10001119-1875092400-1875103200@www.gethsemane.org
SUMMARY:IYK Choir
DESCRIPTION:
URL:https://www.gethsemane.org/event/iyk-choir/2029-06-02/
LOCATION:OH
END:VEVENT
BEGIN:VEVENT
DTSTART;TZID=America/New_York:20290603T130000
DTEND;TZID=America/New_York:20290603T150000
DTSTAMP:20260424T014138
CREATED:20241102T214108Z
LAST-MODIFIED:20250325T022544Z
UID:10001381-1875186000-1875193200@www.gethsemane.org
SUMMARY:IYK Worship
DESCRIPTION:
URL:https://www.gethsemane.org/event/iyk-worship/2029-06-03/
LOCATION:GLC – Sanctuary\, 35 E Stanton Ave\, Columbus\, OH\, 43214\, United States
END:VEVENT
BEGIN:VEVENT
DTSTART;TZID=America/New_York:20290608T160000
DTEND;TZID=America/New_York:20290608T170000
DTSTAMP:20260424T014138
CREATED:20241102T212638Z
LAST-MODIFIED:20250627T025236Z
UID:10004488-1875628800-1875632400@www.gethsemane.org
SUMMARY:Piano Practice
DESCRIPTION:
URL:https://www.gethsemane.org/event/piano-practice-3/2029-06-08/
LOCATION:GLC – Sanctuary\, 35 E Stanton Ave\, Columbus\, OH\, 43214\, United States
END:VEVENT
BEGIN:VEVENT
DTSTART;TZID=America/New_York:20290609T110000
DTEND;TZID=America/New_York:20290609T140000
DTSTAMP:20260424T014138
CREATED:20240607T234910Z
LAST-MODIFIED:20241130T025448Z
UID:10001120-1875697200-1875708000@www.gethsemane.org
SUMMARY:IYK Choir
DESCRIPTION:
URL:https://www.gethsemane.org/event/iyk-choir/2029-06-09/
LOCATION:OH
END:VEVENT
BEGIN:VEVENT
DTSTART;TZID=America/New_York:20290610T130000
DTEND;TZID=America/New_York:20290610T150000
DTSTAMP:20260424T014138
CREATED:20241102T214108Z
LAST-MODIFIED:20250325T022544Z
UID:10001382-1875790800-1875798000@www.gethsemane.org
SUMMARY:IYK Worship
DESCRIPTION:
URL:https://www.gethsemane.org/event/iyk-worship/2029-06-10/
LOCATION:GLC – Sanctuary\, 35 E Stanton Ave\, Columbus\, OH\, 43214\, United States
END:VEVENT
BEGIN:VEVENT
DTSTART;TZID=America/New_York:20290615T160000
DTEND;TZID=America/New_York:20290615T170000
DTSTAMP:20260424T014138
CREATED:20241102T212638Z
LAST-MODIFIED:20250627T025236Z
UID:10004489-1876233600-1876237200@www.gethsemane.org
SUMMARY:Piano Practice
DESCRIPTION:
URL:https://www.gethsemane.org/event/piano-practice-3/2029-06-15/
LOCATION:GLC – Sanctuary\, 35 E Stanton Ave\, Columbus\, OH\, 43214\, United States
END:VEVENT
BEGIN:VEVENT
DTSTART;TZID=America/New_York:20290616T110000
DTEND;TZID=America/New_York:20290616T140000
DTSTAMP:20260424T014138
CREATED:20240607T234910Z
LAST-MODIFIED:20241130T025448Z
UID:10001121-1876302000-1876312800@www.gethsemane.org
SUMMARY:IYK Choir
DESCRIPTION:
URL:https://www.gethsemane.org/event/iyk-choir/2029-06-16/
LOCATION:OH
END:VEVENT
BEGIN:VEVENT
DTSTART;TZID=America/New_York:20290617T130000
DTEND;TZID=America/New_York:20290617T150000
DTSTAMP:20260424T014138
CREATED:20241102T214108Z
LAST-MODIFIED:20250325T022544Z
UID:10001383-1876395600-1876402800@www.gethsemane.org
SUMMARY:IYK Worship
DESCRIPTION:
URL:https://www.gethsemane.org/event/iyk-worship/2029-06-17/
LOCATION:GLC – Sanctuary\, 35 E Stanton Ave\, Columbus\, OH\, 43214\, United States
END:VEVENT
BEGIN:VEVENT
DTSTART;TZID=America/New_York:20290622T160000
DTEND;TZID=America/New_York:20290622T170000
DTSTAMP:20260424T014138
CREATED:20241102T212638Z
LAST-MODIFIED:20250627T025236Z
UID:10004490-1876838400-1876842000@www.gethsemane.org
SUMMARY:Piano Practice
DESCRIPTION:
URL:https://www.gethsemane.org/event/piano-practice-3/2029-06-22/
LOCATION:GLC – Sanctuary\, 35 E Stanton Ave\, Columbus\, OH\, 43214\, United States
END:VEVENT
BEGIN:VEVENT
DTSTART;TZID=America/New_York:20290623T110000
DTEND;TZID=America/New_York:20290623T140000
DTSTAMP:20260424T014138
CREATED:20240607T234910Z
LAST-MODIFIED:20241130T025448Z
UID:10001122-1876906800-1876917600@www.gethsemane.org
SUMMARY:IYK Choir
DESCRIPTION:
URL:https://www.gethsemane.org/event/iyk-choir/2029-06-23/
LOCATION:OH
END:VEVENT
BEGIN:VEVENT
DTSTART;TZID=America/New_York:20290624T130000
DTEND;TZID=America/New_York:20290624T150000
DTSTAMP:20260424T014138
CREATED:20241102T214108Z
LAST-MODIFIED:20250325T022544Z
UID:10001384-1877000400-1877007600@www.gethsemane.org
SUMMARY:IYK Worship
DESCRIPTION:
URL:https://www.gethsemane.org/event/iyk-worship/2029-06-24/
LOCATION:GLC – Sanctuary\, 35 E Stanton Ave\, Columbus\, OH\, 43214\, United States
END:VEVENT
BEGIN:VEVENT
DTSTART;TZID=America/New_York:20290629T160000
DTEND;TZID=America/New_York:20290629T170000
DTSTAMP:20260424T014138
CREATED:20241102T212638Z
LAST-MODIFIED:20250627T025236Z
UID:10004491-1877443200-1877446800@www.gethsemane.org
SUMMARY:Piano Practice
DESCRIPTION:
URL:https://www.gethsemane.org/event/piano-practice-3/2029-06-29/
LOCATION:GLC – Sanctuary\, 35 E Stanton Ave\, Columbus\, OH\, 43214\, United States
END:VEVENT
BEGIN:VEVENT
DTSTART;TZID=America/New_York:20290630T110000
DTEND;TZID=America/New_York:20290630T140000
DTSTAMP:20260424T014138
CREATED:20240607T234910Z
LAST-MODIFIED:20241130T025448Z
UID:10001123-1877511600-1877522400@www.gethsemane.org
SUMMARY:IYK Choir
DESCRIPTION:
URL:https://www.gethsemane.org/event/iyk-choir/2029-06-30/
LOCATION:OH
END:VEVENT
BEGIN:VEVENT
DTSTART;TZID=America/New_York:20290701T130000
DTEND;TZID=America/New_York:20290701T150000
DTSTAMP:20260424T014138
CREATED:20241102T214108Z
LAST-MODIFIED:20250325T022544Z
UID:10001385-1877605200-1877612400@www.gethsemane.org
SUMMARY:IYK Worship
DESCRIPTION:
URL:https://www.gethsemane.org/event/iyk-worship/2029-07-01/
LOCATION:GLC – Sanctuary\, 35 E Stanton Ave\, Columbus\, OH\, 43214\, United States
END:VEVENT
BEGIN:VEVENT
DTSTART;TZID=America/New_York:20290706T160000
DTEND;TZID=America/New_York:20290706T170000
DTSTAMP:20260424T014139
CREATED:20241102T212638Z
LAST-MODIFIED:20250627T025236Z
UID:10004492-1878048000-1878051600@www.gethsemane.org
SUMMARY:Piano Practice
DESCRIPTION:
URL:https://www.gethsemane.org/event/piano-practice-3/2029-07-06/
LOCATION:GLC – Sanctuary\, 35 E Stanton Ave\, Columbus\, OH\, 43214\, United States
END:VEVENT
BEGIN:VEVENT
DTSTART;TZID=America/New_York:20290707T110000
DTEND;TZID=America/New_York:20290707T140000
DTSTAMP:20260424T014139
CREATED:20240607T234910Z
LAST-MODIFIED:20241130T025448Z
UID:10001124-1878116400-1878127200@www.gethsemane.org
SUMMARY:IYK Choir
DESCRIPTION:
URL:https://www.gethsemane.org/event/iyk-choir/2029-07-07/
LOCATION:OH
END:VEVENT
BEGIN:VEVENT
DTSTART;TZID=America/New_York:20290708T130000
DTEND;TZID=America/New_York:20290708T150000
DTSTAMP:20260424T014139
CREATED:20241102T214108Z
LAST-MODIFIED:20250325T022544Z
UID:10001386-1878210000-1878217200@www.gethsemane.org
SUMMARY:IYK Worship
DESCRIPTION:
URL:https://www.gethsemane.org/event/iyk-worship/2029-07-08/
LOCATION:GLC – Sanctuary\, 35 E Stanton Ave\, Columbus\, OH\, 43214\, United States
END:VEVENT
BEGIN:VEVENT
DTSTART;TZID=America/New_York:20290713T160000
DTEND;TZID=America/New_York:20290713T170000
DTSTAMP:20260424T014139
CREATED:20241102T212638Z
LAST-MODIFIED:20250627T025236Z
UID:10004493-1878652800-1878656400@www.gethsemane.org
SUMMARY:Piano Practice
DESCRIPTION:
URL:https://www.gethsemane.org/event/piano-practice-3/2029-07-13/
LOCATION:GLC – Sanctuary\, 35 E Stanton Ave\, Columbus\, OH\, 43214\, United States
END:VEVENT
BEGIN:VEVENT
DTSTART;TZID=America/New_York:20290714T110000
DTEND;TZID=America/New_York:20290714T140000
DTSTAMP:20260424T014139
CREATED:20240607T234910Z
LAST-MODIFIED:20241130T025448Z
UID:10001125-1878721200-1878732000@www.gethsemane.org
SUMMARY:IYK Choir
DESCRIPTION:
URL:https://www.gethsemane.org/event/iyk-choir/2029-07-14/
LOCATION:OH
END:VEVENT
BEGIN:VEVENT
DTSTART;TZID=America/New_York:20290715T130000
DTEND;TZID=America/New_York:20290715T150000
DTSTAMP:20260424T014139
CREATED:20241102T214108Z
LAST-MODIFIED:20250325T022544Z
UID:10001387-1878814800-1878822000@www.gethsemane.org
SUMMARY:IYK Worship
DESCRIPTION:
URL:https://www.gethsemane.org/event/iyk-worship/2029-07-15/
LOCATION:GLC – Sanctuary\, 35 E Stanton Ave\, Columbus\, OH\, 43214\, United States
END:VEVENT
BEGIN:VEVENT
DTSTART;TZID=America/New_York:20290720T160000
DTEND;TZID=America/New_York:20290720T170000
DTSTAMP:20260424T014139
CREATED:20241102T212638Z
LAST-MODIFIED:20250627T025236Z
UID:10004494-1879257600-1879261200@www.gethsemane.org
SUMMARY:Piano Practice
DESCRIPTION:
URL:https://www.gethsemane.org/event/piano-practice-3/2029-07-20/
LOCATION:GLC – Sanctuary\, 35 E Stanton Ave\, Columbus\, OH\, 43214\, United States
END:VEVENT
BEGIN:VEVENT
DTSTART;TZID=America/New_York:20290721T110000
DTEND;TZID=America/New_York:20290721T140000
DTSTAMP:20260424T014139
CREATED:20240607T234910Z
LAST-MODIFIED:20241130T025448Z
UID:10001126-1879326000-1879336800@www.gethsemane.org
SUMMARY:IYK Choir
DESCRIPTION:
URL:https://www.gethsemane.org/event/iyk-choir/2029-07-21/
LOCATION:OH
END:VEVENT
END:VCALENDAR