BEGIN:VCALENDAR
VERSION:2.0
PRODID:-//Gethsemane Lutheran Church - ECPv6.15.20//NONSGML v1.0//EN
CALSCALE:GREGORIAN
METHOD:PUBLISH
X-ORIGINAL-URL:https://www.gethsemane.org
X-WR-CALDESC:Events for Gethsemane Lutheran Church
REFRESH-INTERVAL;VALUE=DURATION:PT1H
X-Robots-Tag:noindex
X-PUBLISHED-TTL:PT1H
BEGIN:VTIMEZONE
TZID:America/New_York
BEGIN:DAYLIGHT
TZOFFSETFROM:-0500
TZOFFSETTO:-0400
TZNAME:EDT
DTSTART:20280312T070000
END:DAYLIGHT
BEGIN:STANDARD
TZOFFSETFROM:-0400
TZOFFSETTO:-0500
TZNAME:EST
DTSTART:20281105T060000
END:STANDARD
BEGIN:DAYLIGHT
TZOFFSETFROM:-0500
TZOFFSETTO:-0400
TZNAME:EDT
DTSTART:20290311T070000
END:DAYLIGHT
BEGIN:STANDARD
TZOFFSETFROM:-0400
TZOFFSETTO:-0500
TZNAME:EST
DTSTART:20291104T060000
END:STANDARD
BEGIN:DAYLIGHT
TZOFFSETFROM:-0500
TZOFFSETTO:-0400
TZNAME:EDT
DTSTART:20300310T070000
END:DAYLIGHT
BEGIN:STANDARD
TZOFFSETFROM:-0400
TZOFFSETTO:-0500
TZNAME:EST
DTSTART:20301103T060000
END:STANDARD
END:VTIMEZONE
BEGIN:VEVENT
DTSTART;TZID=America/New_York:20290805T130000
DTEND;TZID=America/New_York:20290805T150000
DTSTAMP:20260424T054915
CREATED:20241102T214108Z
LAST-MODIFIED:20250325T022544Z
UID:10001390-1880629200-1880636400@www.gethsemane.org
SUMMARY:IYK Worship
DESCRIPTION:
URL:https://www.gethsemane.org/event/iyk-worship/2029-08-05/
LOCATION:GLC – Sanctuary\, 35 E Stanton Ave\, Columbus\, OH\, 43214\, United States
END:VEVENT
BEGIN:VEVENT
DTSTART;TZID=America/New_York:20290810T160000
DTEND;TZID=America/New_York:20290810T170000
DTSTAMP:20260424T054915
CREATED:20241102T212638Z
LAST-MODIFIED:20250627T025236Z
UID:10004497-1881072000-1881075600@www.gethsemane.org
SUMMARY:Piano Practice
DESCRIPTION:
URL:https://www.gethsemane.org/event/piano-practice-3/2029-08-10/
LOCATION:GLC – Sanctuary\, 35 E Stanton Ave\, Columbus\, OH\, 43214\, United States
END:VEVENT
BEGIN:VEVENT
DTSTART;TZID=America/New_York:20290811T110000
DTEND;TZID=America/New_York:20290811T140000
DTSTAMP:20260424T054915
CREATED:20240607T234910Z
LAST-MODIFIED:20241130T025448Z
UID:10001129-1881140400-1881151200@www.gethsemane.org
SUMMARY:IYK Choir
DESCRIPTION:
URL:https://www.gethsemane.org/event/iyk-choir/2029-08-11/
LOCATION:OH
END:VEVENT
BEGIN:VEVENT
DTSTART;TZID=America/New_York:20290812T130000
DTEND;TZID=America/New_York:20290812T150000
DTSTAMP:20260424T054915
CREATED:20241102T214108Z
LAST-MODIFIED:20250325T022544Z
UID:10001391-1881234000-1881241200@www.gethsemane.org
SUMMARY:IYK Worship
DESCRIPTION:
URL:https://www.gethsemane.org/event/iyk-worship/2029-08-12/
LOCATION:GLC – Sanctuary\, 35 E Stanton Ave\, Columbus\, OH\, 43214\, United States
END:VEVENT
BEGIN:VEVENT
DTSTART;TZID=America/New_York:20290817T160000
DTEND;TZID=America/New_York:20290817T170000
DTSTAMP:20260424T054915
CREATED:20241102T212638Z
LAST-MODIFIED:20250627T025236Z
UID:10004498-1881676800-1881680400@www.gethsemane.org
SUMMARY:Piano Practice
DESCRIPTION:
URL:https://www.gethsemane.org/event/piano-practice-3/2029-08-17/
LOCATION:GLC – Sanctuary\, 35 E Stanton Ave\, Columbus\, OH\, 43214\, United States
END:VEVENT
BEGIN:VEVENT
DTSTART;TZID=America/New_York:20290818T110000
DTEND;TZID=America/New_York:20290818T140000
DTSTAMP:20260424T054915
CREATED:20240607T234910Z
LAST-MODIFIED:20241130T025448Z
UID:10001130-1881745200-1881756000@www.gethsemane.org
SUMMARY:IYK Choir
DESCRIPTION:
URL:https://www.gethsemane.org/event/iyk-choir/2029-08-18/
LOCATION:OH
END:VEVENT
BEGIN:VEVENT
DTSTART;TZID=America/New_York:20290819T130000
DTEND;TZID=America/New_York:20290819T150000
DTSTAMP:20260424T054915
CREATED:20241102T214108Z
LAST-MODIFIED:20250325T022544Z
UID:10001392-1881838800-1881846000@www.gethsemane.org
SUMMARY:IYK Worship
DESCRIPTION:
URL:https://www.gethsemane.org/event/iyk-worship/2029-08-19/
LOCATION:GLC – Sanctuary\, 35 E Stanton Ave\, Columbus\, OH\, 43214\, United States
END:VEVENT
BEGIN:VEVENT
DTSTART;TZID=America/New_York:20290824T160000
DTEND;TZID=America/New_York:20290824T170000
DTSTAMP:20260424T054915
CREATED:20241102T212638Z
LAST-MODIFIED:20250627T025236Z
UID:10004499-1882281600-1882285200@www.gethsemane.org
SUMMARY:Piano Practice
DESCRIPTION:
URL:https://www.gethsemane.org/event/piano-practice-3/2029-08-24/
LOCATION:GLC – Sanctuary\, 35 E Stanton Ave\, Columbus\, OH\, 43214\, United States
END:VEVENT
BEGIN:VEVENT
DTSTART;TZID=America/New_York:20290825T110000
DTEND;TZID=America/New_York:20290825T140000
DTSTAMP:20260424T054915
CREATED:20240607T234910Z
LAST-MODIFIED:20241130T025448Z
UID:10001131-1882350000-1882360800@www.gethsemane.org
SUMMARY:IYK Choir
DESCRIPTION:
URL:https://www.gethsemane.org/event/iyk-choir/2029-08-25/
LOCATION:OH
END:VEVENT
BEGIN:VEVENT
DTSTART;TZID=America/New_York:20290826T130000
DTEND;TZID=America/New_York:20290826T150000
DTSTAMP:20260424T054915
CREATED:20241102T214108Z
LAST-MODIFIED:20250325T022544Z
UID:10001393-1882443600-1882450800@www.gethsemane.org
SUMMARY:IYK Worship
DESCRIPTION:
URL:https://www.gethsemane.org/event/iyk-worship/2029-08-26/
LOCATION:GLC – Sanctuary\, 35 E Stanton Ave\, Columbus\, OH\, 43214\, United States
END:VEVENT
BEGIN:VEVENT
DTSTART;TZID=America/New_York:20290831T160000
DTEND;TZID=America/New_York:20290831T170000
DTSTAMP:20260424T054915
CREATED:20241102T212638Z
LAST-MODIFIED:20250627T025236Z
UID:10004500-1882886400-1882890000@www.gethsemane.org
SUMMARY:Piano Practice
DESCRIPTION:
URL:https://www.gethsemane.org/event/piano-practice-3/2029-08-31/
LOCATION:GLC – Sanctuary\, 35 E Stanton Ave\, Columbus\, OH\, 43214\, United States
END:VEVENT
BEGIN:VEVENT
DTSTART;TZID=America/New_York:20290901T110000
DTEND;TZID=America/New_York:20290901T140000
DTSTAMP:20260424T054915
CREATED:20240607T234910Z
LAST-MODIFIED:20241130T025448Z
UID:10001132-1882954800-1882965600@www.gethsemane.org
SUMMARY:IYK Choir
DESCRIPTION:
URL:https://www.gethsemane.org/event/iyk-choir/2029-09-01/
LOCATION:OH
END:VEVENT
BEGIN:VEVENT
DTSTART;TZID=America/New_York:20290902T130000
DTEND;TZID=America/New_York:20290902T150000
DTSTAMP:20260424T054915
CREATED:20241102T214108Z
LAST-MODIFIED:20250325T022544Z
UID:10001394-1883048400-1883055600@www.gethsemane.org
SUMMARY:IYK Worship
DESCRIPTION:
URL:https://www.gethsemane.org/event/iyk-worship/2029-09-02/
LOCATION:GLC – Sanctuary\, 35 E Stanton Ave\, Columbus\, OH\, 43214\, United States
END:VEVENT
BEGIN:VEVENT
DTSTART;TZID=America/New_York:20290907T160000
DTEND;TZID=America/New_York:20290907T170000
DTSTAMP:20260424T054915
CREATED:20241102T212638Z
LAST-MODIFIED:20250627T025236Z
UID:10004501-1883491200-1883494800@www.gethsemane.org
SUMMARY:Piano Practice
DESCRIPTION:
URL:https://www.gethsemane.org/event/piano-practice-3/2029-09-07/
LOCATION:GLC – Sanctuary\, 35 E Stanton Ave\, Columbus\, OH\, 43214\, United States
END:VEVENT
BEGIN:VEVENT
DTSTART;TZID=America/New_York:20290908T110000
DTEND;TZID=America/New_York:20290908T140000
DTSTAMP:20260424T054915
CREATED:20240607T234910Z
LAST-MODIFIED:20241130T025448Z
UID:10001133-1883559600-1883570400@www.gethsemane.org
SUMMARY:IYK Choir
DESCRIPTION:
URL:https://www.gethsemane.org/event/iyk-choir/2029-09-08/
LOCATION:OH
END:VEVENT
BEGIN:VEVENT
DTSTART;TZID=America/New_York:20290909T130000
DTEND;TZID=America/New_York:20290909T150000
DTSTAMP:20260424T054915
CREATED:20241102T214108Z
LAST-MODIFIED:20250325T022544Z
UID:10001395-1883653200-1883660400@www.gethsemane.org
SUMMARY:IYK Worship
DESCRIPTION:
URL:https://www.gethsemane.org/event/iyk-worship/2029-09-09/
LOCATION:GLC – Sanctuary\, 35 E Stanton Ave\, Columbus\, OH\, 43214\, United States
END:VEVENT
BEGIN:VEVENT
DTSTART;TZID=America/New_York:20290914T160000
DTEND;TZID=America/New_York:20290914T170000
DTSTAMP:20260424T054915
CREATED:20241102T212638Z
LAST-MODIFIED:20250627T025236Z
UID:10004502-1884096000-1884099600@www.gethsemane.org
SUMMARY:Piano Practice
DESCRIPTION:
URL:https://www.gethsemane.org/event/piano-practice-3/2029-09-14/
LOCATION:GLC – Sanctuary\, 35 E Stanton Ave\, Columbus\, OH\, 43214\, United States
END:VEVENT
BEGIN:VEVENT
DTSTART;TZID=America/New_York:20290915T110000
DTEND;TZID=America/New_York:20290915T140000
DTSTAMP:20260424T054915
CREATED:20240607T234910Z
LAST-MODIFIED:20241130T025448Z
UID:10001134-1884164400-1884175200@www.gethsemane.org
SUMMARY:IYK Choir
DESCRIPTION:
URL:https://www.gethsemane.org/event/iyk-choir/2029-09-15/
LOCATION:OH
END:VEVENT
BEGIN:VEVENT
DTSTART;TZID=America/New_York:20290916T130000
DTEND;TZID=America/New_York:20290916T150000
DTSTAMP:20260424T054915
CREATED:20241102T214108Z
LAST-MODIFIED:20250325T022544Z
UID:10001396-1884258000-1884265200@www.gethsemane.org
SUMMARY:IYK Worship
DESCRIPTION:
URL:https://www.gethsemane.org/event/iyk-worship/2029-09-16/
LOCATION:GLC – Sanctuary\, 35 E Stanton Ave\, Columbus\, OH\, 43214\, United States
END:VEVENT
BEGIN:VEVENT
DTSTART;TZID=America/New_York:20290921T160000
DTEND;TZID=America/New_York:20290921T170000
DTSTAMP:20260424T054915
CREATED:20241102T212638Z
LAST-MODIFIED:20250627T025236Z
UID:10004503-1884700800-1884704400@www.gethsemane.org
SUMMARY:Piano Practice
DESCRIPTION:
URL:https://www.gethsemane.org/event/piano-practice-3/2029-09-21/
LOCATION:GLC – Sanctuary\, 35 E Stanton Ave\, Columbus\, OH\, 43214\, United States
END:VEVENT
BEGIN:VEVENT
DTSTART;TZID=America/New_York:20290922T110000
DTEND;TZID=America/New_York:20290922T140000
DTSTAMP:20260424T054915
CREATED:20240607T234910Z
LAST-MODIFIED:20241130T025448Z
UID:10001135-1884769200-1884780000@www.gethsemane.org
SUMMARY:IYK Choir
DESCRIPTION:
URL:https://www.gethsemane.org/event/iyk-choir/2029-09-22/
LOCATION:OH
END:VEVENT
BEGIN:VEVENT
DTSTART;TZID=America/New_York:20290923T130000
DTEND;TZID=America/New_York:20290923T150000
DTSTAMP:20260424T054915
CREATED:20241102T214108Z
LAST-MODIFIED:20250325T022544Z
UID:10001397-1884862800-1884870000@www.gethsemane.org
SUMMARY:IYK Worship
DESCRIPTION:
URL:https://www.gethsemane.org/event/iyk-worship/2029-09-23/
LOCATION:GLC – Sanctuary\, 35 E Stanton Ave\, Columbus\, OH\, 43214\, United States
END:VEVENT
BEGIN:VEVENT
DTSTART;TZID=America/New_York:20290928T160000
DTEND;TZID=America/New_York:20290928T170000
DTSTAMP:20260424T054915
CREATED:20241102T212638Z
LAST-MODIFIED:20250627T025236Z
UID:10004504-1885305600-1885309200@www.gethsemane.org
SUMMARY:Piano Practice
DESCRIPTION:
URL:https://www.gethsemane.org/event/piano-practice-3/2029-09-28/
LOCATION:GLC – Sanctuary\, 35 E Stanton Ave\, Columbus\, OH\, 43214\, United States
END:VEVENT
BEGIN:VEVENT
DTSTART;TZID=America/New_York:20290929T110000
DTEND;TZID=America/New_York:20290929T140000
DTSTAMP:20260424T054915
CREATED:20240607T234910Z
LAST-MODIFIED:20241130T025448Z
UID:10001136-1885374000-1885384800@www.gethsemane.org
SUMMARY:IYK Choir
DESCRIPTION:
URL:https://www.gethsemane.org/event/iyk-choir/2029-09-29/
LOCATION:OH
END:VEVENT
BEGIN:VEVENT
DTSTART;TZID=America/New_York:20290930T130000
DTEND;TZID=America/New_York:20290930T150000
DTSTAMP:20260424T054915
CREATED:20241102T214108Z
LAST-MODIFIED:20250325T022544Z
UID:10001398-1885467600-1885474800@www.gethsemane.org
SUMMARY:IYK Worship
DESCRIPTION:
URL:https://www.gethsemane.org/event/iyk-worship/2029-09-30/
LOCATION:GLC – Sanctuary\, 35 E Stanton Ave\, Columbus\, OH\, 43214\, United States
END:VEVENT
BEGIN:VEVENT
DTSTART;TZID=America/New_York:20291005T160000
DTEND;TZID=America/New_York:20291005T170000
DTSTAMP:20260424T054915
CREATED:20241102T212638Z
LAST-MODIFIED:20250627T025236Z
UID:10004505-1885910400-1885914000@www.gethsemane.org
SUMMARY:Piano Practice
DESCRIPTION:
URL:https://www.gethsemane.org/event/piano-practice-3/2029-10-05/
LOCATION:GLC – Sanctuary\, 35 E Stanton Ave\, Columbus\, OH\, 43214\, United States
END:VEVENT
BEGIN:VEVENT
DTSTART;TZID=America/New_York:20291006T110000
DTEND;TZID=America/New_York:20291006T140000
DTSTAMP:20260424T054915
CREATED:20240607T234910Z
LAST-MODIFIED:20241130T025448Z
UID:10001137-1885978800-1885989600@www.gethsemane.org
SUMMARY:IYK Choir
DESCRIPTION:
URL:https://www.gethsemane.org/event/iyk-choir/2029-10-06/
LOCATION:OH
END:VEVENT
BEGIN:VEVENT
DTSTART;TZID=America/New_York:20291007T130000
DTEND;TZID=America/New_York:20291007T150000
DTSTAMP:20260424T054915
CREATED:20241102T214108Z
LAST-MODIFIED:20250325T022544Z
UID:10001399-1886072400-1886079600@www.gethsemane.org
SUMMARY:IYK Worship
DESCRIPTION:
URL:https://www.gethsemane.org/event/iyk-worship/2029-10-07/
LOCATION:GLC – Sanctuary\, 35 E Stanton Ave\, Columbus\, OH\, 43214\, United States
END:VEVENT
BEGIN:VEVENT
DTSTART;TZID=America/New_York:20291012T160000
DTEND;TZID=America/New_York:20291012T170000
DTSTAMP:20260424T054915
CREATED:20241102T212638Z
LAST-MODIFIED:20250627T025236Z
UID:10004506-1886515200-1886518800@www.gethsemane.org
SUMMARY:Piano Practice
DESCRIPTION:
URL:https://www.gethsemane.org/event/piano-practice-3/2029-10-12/
LOCATION:GLC – Sanctuary\, 35 E Stanton Ave\, Columbus\, OH\, 43214\, United States
END:VEVENT
BEGIN:VEVENT
DTSTART;TZID=America/New_York:20291013T110000
DTEND;TZID=America/New_York:20291013T140000
DTSTAMP:20260424T054915
CREATED:20240607T234910Z
LAST-MODIFIED:20241130T025448Z
UID:10001138-1886583600-1886594400@www.gethsemane.org
SUMMARY:IYK Choir
DESCRIPTION:
URL:https://www.gethsemane.org/event/iyk-choir/2029-10-13/
LOCATION:OH
END:VEVENT
END:VCALENDAR