BEGIN:VCALENDAR
VERSION:2.0
PRODID:-//Gethsemane Lutheran Church - ECPv6.15.20//NONSGML v1.0//EN
CALSCALE:GREGORIAN
METHOD:PUBLISH
X-WR-CALNAME:Gethsemane Lutheran Church
X-ORIGINAL-URL:https://www.gethsemane.org
X-WR-CALDESC:Events for Gethsemane Lutheran Church
REFRESH-INTERVAL;VALUE=DURATION:PT1H
X-Robots-Tag:noindex
X-PUBLISHED-TTL:PT1H
BEGIN:VTIMEZONE
TZID:America/New_York
BEGIN:DAYLIGHT
TZOFFSETFROM:-0500
TZOFFSETTO:-0400
TZNAME:EDT
DTSTART:20280312T070000
END:DAYLIGHT
BEGIN:STANDARD
TZOFFSETFROM:-0400
TZOFFSETTO:-0500
TZNAME:EST
DTSTART:20281105T060000
END:STANDARD
BEGIN:DAYLIGHT
TZOFFSETFROM:-0500
TZOFFSETTO:-0400
TZNAME:EDT
DTSTART:20290311T070000
END:DAYLIGHT
BEGIN:STANDARD
TZOFFSETFROM:-0400
TZOFFSETTO:-0500
TZNAME:EST
DTSTART:20291104T060000
END:STANDARD
BEGIN:DAYLIGHT
TZOFFSETFROM:-0500
TZOFFSETTO:-0400
TZNAME:EDT
DTSTART:20300310T070000
END:DAYLIGHT
BEGIN:STANDARD
TZOFFSETFROM:-0400
TZOFFSETTO:-0500
TZNAME:EST
DTSTART:20301103T060000
END:STANDARD
END:VTIMEZONE
BEGIN:VEVENT
DTSTART;TZID=America/New_York:20290930T130000
DTEND;TZID=America/New_York:20290930T150000
DTSTAMP:20260424T090817
CREATED:20241102T214108Z
LAST-MODIFIED:20250325T022544Z
UID:10001398-1885467600-1885474800@www.gethsemane.org
SUMMARY:IYK Worship
DESCRIPTION:
URL:https://www.gethsemane.org/event/iyk-worship/2029-09-30/
LOCATION:GLC – Sanctuary\, 35 E Stanton Ave\, Columbus\, OH\, 43214\, United States
END:VEVENT
BEGIN:VEVENT
DTSTART;TZID=America/New_York:20291005T160000
DTEND;TZID=America/New_York:20291005T170000
DTSTAMP:20260424T090817
CREATED:20241102T212638Z
LAST-MODIFIED:20250627T025236Z
UID:10004505-1885910400-1885914000@www.gethsemane.org
SUMMARY:Piano Practice
DESCRIPTION:
URL:https://www.gethsemane.org/event/piano-practice-3/2029-10-05/
LOCATION:GLC – Sanctuary\, 35 E Stanton Ave\, Columbus\, OH\, 43214\, United States
END:VEVENT
BEGIN:VEVENT
DTSTART;TZID=America/New_York:20291006T110000
DTEND;TZID=America/New_York:20291006T140000
DTSTAMP:20260424T090817
CREATED:20240607T234910Z
LAST-MODIFIED:20241130T025448Z
UID:10001137-1885978800-1885989600@www.gethsemane.org
SUMMARY:IYK Choir
DESCRIPTION:
URL:https://www.gethsemane.org/event/iyk-choir/2029-10-06/
LOCATION:OH
END:VEVENT
BEGIN:VEVENT
DTSTART;TZID=America/New_York:20291007T130000
DTEND;TZID=America/New_York:20291007T150000
DTSTAMP:20260424T090817
CREATED:20241102T214108Z
LAST-MODIFIED:20250325T022544Z
UID:10001399-1886072400-1886079600@www.gethsemane.org
SUMMARY:IYK Worship
DESCRIPTION:
URL:https://www.gethsemane.org/event/iyk-worship/2029-10-07/
LOCATION:GLC – Sanctuary\, 35 E Stanton Ave\, Columbus\, OH\, 43214\, United States
END:VEVENT
BEGIN:VEVENT
DTSTART;TZID=America/New_York:20291012T160000
DTEND;TZID=America/New_York:20291012T170000
DTSTAMP:20260424T090817
CREATED:20241102T212638Z
LAST-MODIFIED:20250627T025236Z
UID:10004506-1886515200-1886518800@www.gethsemane.org
SUMMARY:Piano Practice
DESCRIPTION:
URL:https://www.gethsemane.org/event/piano-practice-3/2029-10-12/
LOCATION:GLC – Sanctuary\, 35 E Stanton Ave\, Columbus\, OH\, 43214\, United States
END:VEVENT
BEGIN:VEVENT
DTSTART;TZID=America/New_York:20291013T110000
DTEND;TZID=America/New_York:20291013T140000
DTSTAMP:20260424T090817
CREATED:20240607T234910Z
LAST-MODIFIED:20241130T025448Z
UID:10001138-1886583600-1886594400@www.gethsemane.org
SUMMARY:IYK Choir
DESCRIPTION:
URL:https://www.gethsemane.org/event/iyk-choir/2029-10-13/
LOCATION:OH
END:VEVENT
BEGIN:VEVENT
DTSTART;TZID=America/New_York:20291014T130000
DTEND;TZID=America/New_York:20291014T150000
DTSTAMP:20260424T090817
CREATED:20241102T214108Z
LAST-MODIFIED:20250325T022544Z
UID:10001400-1886677200-1886684400@www.gethsemane.org
SUMMARY:IYK Worship
DESCRIPTION:
URL:https://www.gethsemane.org/event/iyk-worship/2029-10-14/
LOCATION:GLC – Sanctuary\, 35 E Stanton Ave\, Columbus\, OH\, 43214\, United States
END:VEVENT
BEGIN:VEVENT
DTSTART;TZID=America/New_York:20291019T160000
DTEND;TZID=America/New_York:20291019T170000
DTSTAMP:20260424T090817
CREATED:20241102T212638Z
LAST-MODIFIED:20250627T025236Z
UID:10004507-1887120000-1887123600@www.gethsemane.org
SUMMARY:Piano Practice
DESCRIPTION:
URL:https://www.gethsemane.org/event/piano-practice-3/2029-10-19/
LOCATION:GLC – Sanctuary\, 35 E Stanton Ave\, Columbus\, OH\, 43214\, United States
END:VEVENT
BEGIN:VEVENT
DTSTART;TZID=America/New_York:20291020T110000
DTEND;TZID=America/New_York:20291020T140000
DTSTAMP:20260424T090817
CREATED:20240607T234910Z
LAST-MODIFIED:20241130T025448Z
UID:10001139-1887188400-1887199200@www.gethsemane.org
SUMMARY:IYK Choir
DESCRIPTION:
URL:https://www.gethsemane.org/event/iyk-choir/2029-10-20/
LOCATION:OH
END:VEVENT
BEGIN:VEVENT
DTSTART;TZID=America/New_York:20291021T130000
DTEND;TZID=America/New_York:20291021T150000
DTSTAMP:20260424T090817
CREATED:20241102T214108Z
LAST-MODIFIED:20250325T022544Z
UID:10001401-1887282000-1887289200@www.gethsemane.org
SUMMARY:IYK Worship
DESCRIPTION:
URL:https://www.gethsemane.org/event/iyk-worship/2029-10-21/
LOCATION:GLC – Sanctuary\, 35 E Stanton Ave\, Columbus\, OH\, 43214\, United States
END:VEVENT
BEGIN:VEVENT
DTSTART;TZID=America/New_York:20291026T160000
DTEND;TZID=America/New_York:20291026T170000
DTSTAMP:20260424T090817
CREATED:20241102T212638Z
LAST-MODIFIED:20250627T025236Z
UID:10004508-1887724800-1887728400@www.gethsemane.org
SUMMARY:Piano Practice
DESCRIPTION:
URL:https://www.gethsemane.org/event/piano-practice-3/2029-10-26/
LOCATION:GLC – Sanctuary\, 35 E Stanton Ave\, Columbus\, OH\, 43214\, United States
END:VEVENT
BEGIN:VEVENT
DTSTART;TZID=America/New_York:20291027T110000
DTEND;TZID=America/New_York:20291027T140000
DTSTAMP:20260424T090817
CREATED:20240607T234910Z
LAST-MODIFIED:20241130T025448Z
UID:10001140-1887793200-1887804000@www.gethsemane.org
SUMMARY:IYK Choir
DESCRIPTION:
URL:https://www.gethsemane.org/event/iyk-choir/2029-10-27/
LOCATION:OH
END:VEVENT
BEGIN:VEVENT
DTSTART;TZID=America/New_York:20291028T130000
DTEND;TZID=America/New_York:20291028T150000
DTSTAMP:20260424T090817
CREATED:20241102T214108Z
LAST-MODIFIED:20250325T022544Z
UID:10001402-1887886800-1887894000@www.gethsemane.org
SUMMARY:IYK Worship
DESCRIPTION:
URL:https://www.gethsemane.org/event/iyk-worship/2029-10-28/
LOCATION:GLC – Sanctuary\, 35 E Stanton Ave\, Columbus\, OH\, 43214\, United States
END:VEVENT
BEGIN:VEVENT
DTSTART;TZID=America/New_York:20291102T160000
DTEND;TZID=America/New_York:20291102T170000
DTSTAMP:20260424T090817
CREATED:20241102T212638Z
LAST-MODIFIED:20250627T025236Z
UID:10004509-1888329600-1888333200@www.gethsemane.org
SUMMARY:Piano Practice
DESCRIPTION:
URL:https://www.gethsemane.org/event/piano-practice-3/2029-11-02/
LOCATION:GLC – Sanctuary\, 35 E Stanton Ave\, Columbus\, OH\, 43214\, United States
END:VEVENT
BEGIN:VEVENT
DTSTART;TZID=America/New_York:20291103T110000
DTEND;TZID=America/New_York:20291103T140000
DTSTAMP:20260424T090817
CREATED:20240607T234910Z
LAST-MODIFIED:20241130T025448Z
UID:10005633-1888398000-1888408800@www.gethsemane.org
SUMMARY:IYK Choir
DESCRIPTION:
URL:https://www.gethsemane.org/event/iyk-choir/2029-11-03/
LOCATION:OH
END:VEVENT
BEGIN:VEVENT
DTSTART;TZID=America/New_York:20291104T130000
DTEND;TZID=America/New_York:20291104T150000
DTSTAMP:20260424T090817
CREATED:20241102T214108Z
LAST-MODIFIED:20250325T022544Z
UID:10005980-1888491600-1888498800@www.gethsemane.org
SUMMARY:IYK Worship
DESCRIPTION:
URL:https://www.gethsemane.org/event/iyk-worship/2029-11-04/
LOCATION:GLC – Sanctuary\, 35 E Stanton Ave\, Columbus\, OH\, 43214\, United States
END:VEVENT
BEGIN:VEVENT
DTSTART;TZID=America/New_York:20291109T160000
DTEND;TZID=America/New_York:20291109T170000
DTSTAMP:20260424T090817
CREATED:20241102T212638Z
LAST-MODIFIED:20250627T025236Z
UID:10006248-1888934400-1888938000@www.gethsemane.org
SUMMARY:Piano Practice
DESCRIPTION:
URL:https://www.gethsemane.org/event/piano-practice-3/2029-11-09/
LOCATION:GLC – Sanctuary\, 35 E Stanton Ave\, Columbus\, OH\, 43214\, United States
END:VEVENT
BEGIN:VEVENT
DTSTART;TZID=America/New_York:20291110T110000
DTEND;TZID=America/New_York:20291110T140000
DTSTAMP:20260424T090817
CREATED:20240607T234910Z
LAST-MODIFIED:20241130T025448Z
UID:10005634-1889002800-1889013600@www.gethsemane.org
SUMMARY:IYK Choir
DESCRIPTION:
URL:https://www.gethsemane.org/event/iyk-choir/2029-11-10/
LOCATION:OH
END:VEVENT
BEGIN:VEVENT
DTSTART;TZID=America/New_York:20291111T130000
DTEND;TZID=America/New_York:20291111T150000
DTSTAMP:20260424T090817
CREATED:20241102T214108Z
LAST-MODIFIED:20250325T022544Z
UID:10005981-1889096400-1889103600@www.gethsemane.org
SUMMARY:IYK Worship
DESCRIPTION:
URL:https://www.gethsemane.org/event/iyk-worship/2029-11-11/
LOCATION:GLC – Sanctuary\, 35 E Stanton Ave\, Columbus\, OH\, 43214\, United States
END:VEVENT
BEGIN:VEVENT
DTSTART;TZID=America/New_York:20291116T160000
DTEND;TZID=America/New_York:20291116T170000
DTSTAMP:20260424T090817
CREATED:20241102T212638Z
LAST-MODIFIED:20250627T025236Z
UID:10006249-1889539200-1889542800@www.gethsemane.org
SUMMARY:Piano Practice
DESCRIPTION:
URL:https://www.gethsemane.org/event/piano-practice-3/2029-11-16/
LOCATION:GLC – Sanctuary\, 35 E Stanton Ave\, Columbus\, OH\, 43214\, United States
END:VEVENT
BEGIN:VEVENT
DTSTART;TZID=America/New_York:20291117T110000
DTEND;TZID=America/New_York:20291117T140000
DTSTAMP:20260424T090817
CREATED:20240607T234910Z
LAST-MODIFIED:20241130T025448Z
UID:10005635-1889607600-1889618400@www.gethsemane.org
SUMMARY:IYK Choir
DESCRIPTION:
URL:https://www.gethsemane.org/event/iyk-choir/2029-11-17/
LOCATION:OH
END:VEVENT
BEGIN:VEVENT
DTSTART;TZID=America/New_York:20291118T130000
DTEND;TZID=America/New_York:20291118T150000
DTSTAMP:20260424T090817
CREATED:20241102T214108Z
LAST-MODIFIED:20250325T022544Z
UID:10005982-1889701200-1889708400@www.gethsemane.org
SUMMARY:IYK Worship
DESCRIPTION:
URL:https://www.gethsemane.org/event/iyk-worship/2029-11-18/
LOCATION:GLC – Sanctuary\, 35 E Stanton Ave\, Columbus\, OH\, 43214\, United States
END:VEVENT
BEGIN:VEVENT
DTSTART;TZID=America/New_York:20291123T160000
DTEND;TZID=America/New_York:20291123T170000
DTSTAMP:20260424T090817
CREATED:20241102T212638Z
LAST-MODIFIED:20250627T025236Z
UID:10006250-1890144000-1890147600@www.gethsemane.org
SUMMARY:Piano Practice
DESCRIPTION:
URL:https://www.gethsemane.org/event/piano-practice-3/2029-11-23/
LOCATION:GLC – Sanctuary\, 35 E Stanton Ave\, Columbus\, OH\, 43214\, United States
END:VEVENT
BEGIN:VEVENT
DTSTART;TZID=America/New_York:20291124T110000
DTEND;TZID=America/New_York:20291124T140000
DTSTAMP:20260424T090817
CREATED:20240607T234910Z
LAST-MODIFIED:20241130T025448Z
UID:10005976-1890212400-1890223200@www.gethsemane.org
SUMMARY:IYK Choir
DESCRIPTION:
URL:https://www.gethsemane.org/event/iyk-choir/2029-11-24/
LOCATION:OH
END:VEVENT
BEGIN:VEVENT
DTSTART;TZID=America/New_York:20291125T130000
DTEND;TZID=America/New_York:20291125T150000
DTSTAMP:20260424T090817
CREATED:20241102T214108Z
LAST-MODIFIED:20250325T022544Z
UID:10005983-1890306000-1890313200@www.gethsemane.org
SUMMARY:IYK Worship
DESCRIPTION:
URL:https://www.gethsemane.org/event/iyk-worship/2029-11-25/
LOCATION:GLC – Sanctuary\, 35 E Stanton Ave\, Columbus\, OH\, 43214\, United States
END:VEVENT
BEGIN:VEVENT
DTSTART;TZID=America/New_York:20291130T160000
DTEND;TZID=America/New_York:20291130T170000
DTSTAMP:20260424T090817
CREATED:20241102T212638Z
LAST-MODIFIED:20250627T025236Z
UID:10006330-1890748800-1890752400@www.gethsemane.org
SUMMARY:Piano Practice
DESCRIPTION:
URL:https://www.gethsemane.org/event/piano-practice-3/2029-11-30/
LOCATION:GLC – Sanctuary\, 35 E Stanton Ave\, Columbus\, OH\, 43214\, United States
END:VEVENT
BEGIN:VEVENT
DTSTART;TZID=America/New_York:20291201T110000
DTEND;TZID=America/New_York:20291201T140000
DTSTAMP:20260424T090817
CREATED:20240607T234910Z
LAST-MODIFIED:20241130T025448Z
UID:10006255-1890817200-1890828000@www.gethsemane.org
SUMMARY:IYK Choir
DESCRIPTION:
URL:https://www.gethsemane.org/event/iyk-choir/2029-12-01/
LOCATION:OH
END:VEVENT
BEGIN:VEVENT
DTSTART;TZID=America/New_York:20291202T130000
DTEND;TZID=America/New_York:20291202T150000
DTSTAMP:20260424T090817
CREATED:20241102T214108Z
LAST-MODIFIED:20250325T022544Z
UID:10006351-1890910800-1890918000@www.gethsemane.org
SUMMARY:IYK Worship
DESCRIPTION:
URL:https://www.gethsemane.org/event/iyk-worship/2029-12-02/
LOCATION:GLC – Sanctuary\, 35 E Stanton Ave\, Columbus\, OH\, 43214\, United States
END:VEVENT
BEGIN:VEVENT
DTSTART;TZID=America/New_York:20291207T160000
DTEND;TZID=America/New_York:20291207T170000
DTSTAMP:20260424T090817
CREATED:20241102T212638Z
LAST-MODIFIED:20250627T025236Z
UID:10006331-1891353600-1891357200@www.gethsemane.org
SUMMARY:Piano Practice
DESCRIPTION:
URL:https://www.gethsemane.org/event/piano-practice-3/2029-12-07/
LOCATION:GLC – Sanctuary\, 35 E Stanton Ave\, Columbus\, OH\, 43214\, United States
END:VEVENT
BEGIN:VEVENT
DTSTART;TZID=America/New_York:20291208T110000
DTEND;TZID=America/New_York:20291208T140000
DTSTAMP:20260424T090817
CREATED:20240607T234910Z
LAST-MODIFIED:20241130T025448Z
UID:10006260-1891422000-1891432800@www.gethsemane.org
SUMMARY:IYK Choir
DESCRIPTION:
URL:https://www.gethsemane.org/event/iyk-choir/2029-12-08/
LOCATION:OH
END:VEVENT
END:VCALENDAR