BEGIN:VCALENDAR
VERSION:2.0
PRODID:-//Gethsemane Lutheran Church - ECPv6.15.20//NONSGML v1.0//EN
CALSCALE:GREGORIAN
METHOD:PUBLISH
X-WR-CALNAME:Gethsemane Lutheran Church
X-ORIGINAL-URL:https://www.gethsemane.org
X-WR-CALDESC:Events for Gethsemane Lutheran Church
REFRESH-INTERVAL;VALUE=DURATION:PT1H
X-Robots-Tag:noindex
X-PUBLISHED-TTL:PT1H
BEGIN:VTIMEZONE
TZID:America/New_York
BEGIN:DAYLIGHT
TZOFFSETFROM:-0500
TZOFFSETTO:-0400
TZNAME:EDT
DTSTART:20290311T070000
END:DAYLIGHT
BEGIN:STANDARD
TZOFFSETFROM:-0400
TZOFFSETTO:-0500
TZNAME:EST
DTSTART:20291104T060000
END:STANDARD
BEGIN:DAYLIGHT
TZOFFSETFROM:-0500
TZOFFSETTO:-0400
TZNAME:EDT
DTSTART:20300310T070000
END:DAYLIGHT
BEGIN:STANDARD
TZOFFSETFROM:-0400
TZOFFSETTO:-0500
TZNAME:EST
DTSTART:20301103T060000
END:STANDARD
BEGIN:DAYLIGHT
TZOFFSETFROM:-0500
TZOFFSETTO:-0400
TZNAME:EDT
DTSTART:20310309T070000
END:DAYLIGHT
BEGIN:STANDARD
TZOFFSETFROM:-0400
TZOFFSETTO:-0500
TZNAME:EST
DTSTART:20311102T060000
END:STANDARD
END:VTIMEZONE
BEGIN:VEVENT
DTSTART;TZID=America/New_York:20300420T110000
DTEND;TZID=America/New_York:20300420T140000
DTSTAMP:20260425T161506
CREATED:20240607T234910Z
LAST-MODIFIED:20241130T025448Z
UID:10007673-1902913200-1902924000@www.gethsemane.org
SUMMARY:IYK Choir
DESCRIPTION:
URL:https://www.gethsemane.org/event/iyk-choir/2030-04-20/
LOCATION:OH
END:VEVENT
BEGIN:VEVENT
DTSTART;TZID=America/New_York:20300421T130000
DTEND;TZID=America/New_York:20300421T150000
DTSTAMP:20260425T161506
CREATED:20241102T214108Z
LAST-MODIFIED:20250325T022544Z
UID:10007674-1903006800-1903014000@www.gethsemane.org
SUMMARY:IYK Worship
DESCRIPTION:
URL:https://www.gethsemane.org/event/iyk-worship/2030-04-21/
LOCATION:GLC – Sanctuary\, 35 E Stanton Ave\, Columbus\, OH\, 43214\, United States
END:VEVENT
BEGIN:VEVENT
DTSTART;TZID=America/New_York:20300426T160000
DTEND;TZID=America/New_York:20300426T170000
DTSTAMP:20260425T161506
CREATED:20241102T212638Z
LAST-MODIFIED:20250627T025236Z
UID:10007688-1903449600-1903453200@www.gethsemane.org
SUMMARY:Piano Practice
DESCRIPTION:
URL:https://www.gethsemane.org/event/piano-practice-3/2030-04-26/
LOCATION:GLC – Sanctuary\, 35 E Stanton Ave\, Columbus\, OH\, 43214\, United States
END:VEVENT
BEGIN:VEVENT
DTSTART;TZID=America/New_York:20300427T110000
DTEND;TZID=America/New_York:20300427T140000
DTSTAMP:20260425T161506
CREATED:20240607T234910Z
LAST-MODIFIED:20241130T025448Z
UID:10007690-1903518000-1903528800@www.gethsemane.org
SUMMARY:IYK Choir
DESCRIPTION:
URL:https://www.gethsemane.org/event/iyk-choir/2030-04-27/
LOCATION:OH
END:VEVENT
BEGIN:VEVENT
DTSTART;TZID=America/New_York:20300428T130000
DTEND;TZID=America/New_York:20300428T150000
DTSTAMP:20260425T161506
CREATED:20241102T214108Z
LAST-MODIFIED:20250325T022544Z
UID:10007691-1903611600-1903618800@www.gethsemane.org
SUMMARY:IYK Worship
DESCRIPTION:
URL:https://www.gethsemane.org/event/iyk-worship/2030-04-28/
LOCATION:GLC – Sanctuary\, 35 E Stanton Ave\, Columbus\, OH\, 43214\, United States
END:VEVENT
BEGIN:VEVENT
DTSTART;TZID=America/New_York:20300503T160000
DTEND;TZID=America/New_York:20300503T170000
DTSTAMP:20260425T161506
CREATED:20241102T212638Z
LAST-MODIFIED:20250627T025236Z
UID:10007703-1904054400-1904058000@www.gethsemane.org
SUMMARY:Piano Practice
DESCRIPTION:
URL:https://www.gethsemane.org/event/piano-practice-3/2030-05-03/
LOCATION:GLC – Sanctuary\, 35 E Stanton Ave\, Columbus\, OH\, 43214\, United States
END:VEVENT
BEGIN:VEVENT
DTSTART;TZID=America/New_York:20300504T110000
DTEND;TZID=America/New_York:20300504T140000
DTSTAMP:20260425T161506
CREATED:20240607T234910Z
LAST-MODIFIED:20241130T025448Z
UID:10007705-1904122800-1904133600@www.gethsemane.org
SUMMARY:IYK Choir
DESCRIPTION:
URL:https://www.gethsemane.org/event/iyk-choir/2030-05-04/
LOCATION:OH
END:VEVENT
BEGIN:VEVENT
DTSTART;TZID=America/New_York:20300505T130000
DTEND;TZID=America/New_York:20300505T150000
DTSTAMP:20260425T161506
CREATED:20241102T214108Z
LAST-MODIFIED:20250325T022544Z
UID:10007706-1904216400-1904223600@www.gethsemane.org
SUMMARY:IYK Worship
DESCRIPTION:
URL:https://www.gethsemane.org/event/iyk-worship/2030-05-05/
LOCATION:GLC – Sanctuary\, 35 E Stanton Ave\, Columbus\, OH\, 43214\, United States
END:VEVENT
BEGIN:VEVENT
DTSTART;TZID=America/New_York:20300510T160000
DTEND;TZID=America/New_York:20300510T170000
DTSTAMP:20260425T161506
CREATED:20241102T212638Z
LAST-MODIFIED:20250627T025236Z
UID:10007721-1904659200-1904662800@www.gethsemane.org
SUMMARY:Piano Practice
DESCRIPTION:
URL:https://www.gethsemane.org/event/piano-practice-3/2030-05-10/
LOCATION:GLC – Sanctuary\, 35 E Stanton Ave\, Columbus\, OH\, 43214\, United States
END:VEVENT
BEGIN:VEVENT
DTSTART;TZID=America/New_York:20300511T110000
DTEND;TZID=America/New_York:20300511T140000
DTSTAMP:20260425T161506
CREATED:20240607T234910Z
LAST-MODIFIED:20241130T025448Z
UID:10007723-1904727600-1904738400@www.gethsemane.org
SUMMARY:IYK Choir
DESCRIPTION:
URL:https://www.gethsemane.org/event/iyk-choir/2030-05-11/
LOCATION:OH
END:VEVENT
BEGIN:VEVENT
DTSTART;TZID=America/New_York:20300512T130000
DTEND;TZID=America/New_York:20300512T150000
DTSTAMP:20260425T161506
CREATED:20241102T214108Z
LAST-MODIFIED:20250325T022544Z
UID:10007726-1904821200-1904828400@www.gethsemane.org
SUMMARY:IYK Worship
DESCRIPTION:
URL:https://www.gethsemane.org/event/iyk-worship/2030-05-12/
LOCATION:GLC – Sanctuary\, 35 E Stanton Ave\, Columbus\, OH\, 43214\, United States
END:VEVENT
BEGIN:VEVENT
DTSTART;TZID=America/New_York:20300517T160000
DTEND;TZID=America/New_York:20300517T170000
DTSTAMP:20260425T161506
CREATED:20241102T212638Z
LAST-MODIFIED:20250627T025236Z
UID:10007736-1905264000-1905267600@www.gethsemane.org
SUMMARY:Piano Practice
DESCRIPTION:
URL:https://www.gethsemane.org/event/piano-practice-3/2030-05-17/
LOCATION:GLC – Sanctuary\, 35 E Stanton Ave\, Columbus\, OH\, 43214\, United States
END:VEVENT
BEGIN:VEVENT
DTSTART;TZID=America/New_York:20300518T110000
DTEND;TZID=America/New_York:20300518T140000
DTSTAMP:20260425T161506
CREATED:20240607T234910Z
LAST-MODIFIED:20241130T025448Z
UID:10007744-1905332400-1905343200@www.gethsemane.org
SUMMARY:IYK Choir
DESCRIPTION:
URL:https://www.gethsemane.org/event/iyk-choir/2030-05-18/
LOCATION:OH
END:VEVENT
BEGIN:VEVENT
DTSTART;TZID=America/New_York:20300519T130000
DTEND;TZID=America/New_York:20300519T150000
DTSTAMP:20260425T161506
CREATED:20241102T214108Z
LAST-MODIFIED:20250325T022544Z
UID:10007745-1905426000-1905433200@www.gethsemane.org
SUMMARY:IYK Worship
DESCRIPTION:
URL:https://www.gethsemane.org/event/iyk-worship/2030-05-19/
LOCATION:GLC – Sanctuary\, 35 E Stanton Ave\, Columbus\, OH\, 43214\, United States
END:VEVENT
BEGIN:VEVENT
DTSTART;TZID=America/New_York:20300524T160000
DTEND;TZID=America/New_York:20300524T170000
DTSTAMP:20260425T161506
CREATED:20241102T212638Z
LAST-MODIFIED:20250627T025236Z
UID:10007824-1905868800-1905872400@www.gethsemane.org
SUMMARY:Piano Practice
DESCRIPTION:
URL:https://www.gethsemane.org/event/piano-practice-3/2030-05-24/
LOCATION:GLC – Sanctuary\, 35 E Stanton Ave\, Columbus\, OH\, 43214\, United States
END:VEVENT
BEGIN:VEVENT
DTSTART;TZID=America/New_York:20300525T110000
DTEND;TZID=America/New_York:20300525T140000
DTSTAMP:20260425T161506
CREATED:20240607T234910Z
LAST-MODIFIED:20241130T025448Z
UID:10007828-1905937200-1905948000@www.gethsemane.org
SUMMARY:IYK Choir
DESCRIPTION:
URL:https://www.gethsemane.org/event/iyk-choir/2030-05-25/
LOCATION:OH
END:VEVENT
BEGIN:VEVENT
DTSTART;TZID=America/New_York:20300526T130000
DTEND;TZID=America/New_York:20300526T150000
DTSTAMP:20260425T161506
CREATED:20241102T214108Z
LAST-MODIFIED:20250325T022544Z
UID:10007830-1906030800-1906038000@www.gethsemane.org
SUMMARY:IYK Worship
DESCRIPTION:
URL:https://www.gethsemane.org/event/iyk-worship/2030-05-26/
LOCATION:GLC – Sanctuary\, 35 E Stanton Ave\, Columbus\, OH\, 43214\, United States
END:VEVENT
BEGIN:VEVENT
DTSTART;TZID=America/New_York:20300531T160000
DTEND;TZID=America/New_York:20300531T170000
DTSTAMP:20260425T161506
CREATED:20241102T212638Z
LAST-MODIFIED:20250627T025236Z
UID:10007825-1906473600-1906477200@www.gethsemane.org
SUMMARY:Piano Practice
DESCRIPTION:
URL:https://www.gethsemane.org/event/piano-practice-3/2030-05-31/
LOCATION:GLC – Sanctuary\, 35 E Stanton Ave\, Columbus\, OH\, 43214\, United States
END:VEVENT
BEGIN:VEVENT
DTSTART;TZID=America/New_York:20300601T110000
DTEND;TZID=America/New_York:20300601T140000
DTSTAMP:20260425T161506
CREATED:20240607T234910Z
LAST-MODIFIED:20241130T025448Z
UID:10007829-1906542000-1906552800@www.gethsemane.org
SUMMARY:IYK Choir
DESCRIPTION:
URL:https://www.gethsemane.org/event/iyk-choir/2030-06-01/
LOCATION:OH
END:VEVENT
BEGIN:VEVENT
DTSTART;TZID=America/New_York:20300602T130000
DTEND;TZID=America/New_York:20300602T150000
DTSTAMP:20260425T161506
CREATED:20241102T214108Z
LAST-MODIFIED:20250325T022544Z
UID:10007831-1906635600-1906642800@www.gethsemane.org
SUMMARY:IYK Worship
DESCRIPTION:
URL:https://www.gethsemane.org/event/iyk-worship/2030-06-02/
LOCATION:GLC – Sanctuary\, 35 E Stanton Ave\, Columbus\, OH\, 43214\, United States
END:VEVENT
BEGIN:VEVENT
DTSTART;TZID=America/New_York:20300607T160000
DTEND;TZID=America/New_York:20300607T170000
DTSTAMP:20260425T161506
CREATED:20241102T212638Z
LAST-MODIFIED:20250627T025236Z
UID:10007847-1907078400-1907082000@www.gethsemane.org
SUMMARY:Piano Practice
DESCRIPTION:
URL:https://www.gethsemane.org/event/piano-practice-3/2030-06-07/
LOCATION:GLC – Sanctuary\, 35 E Stanton Ave\, Columbus\, OH\, 43214\, United States
END:VEVENT
BEGIN:VEVENT
DTSTART;TZID=America/New_York:20300608T110000
DTEND;TZID=America/New_York:20300608T140000
DTSTAMP:20260425T161506
CREATED:20240607T234910Z
LAST-MODIFIED:20241130T025448Z
UID:10007850-1907146800-1907157600@www.gethsemane.org
SUMMARY:IYK Choir
DESCRIPTION:
URL:https://www.gethsemane.org/event/iyk-choir/2030-06-08/
LOCATION:OH
END:VEVENT
BEGIN:VEVENT
DTSTART;TZID=America/New_York:20300609T130000
DTEND;TZID=America/New_York:20300609T150000
DTSTAMP:20260425T161506
CREATED:20241102T214108Z
LAST-MODIFIED:20250325T022544Z
UID:10007851-1907240400-1907247600@www.gethsemane.org
SUMMARY:IYK Worship
DESCRIPTION:
URL:https://www.gethsemane.org/event/iyk-worship/2030-06-09/
LOCATION:GLC – Sanctuary\, 35 E Stanton Ave\, Columbus\, OH\, 43214\, United States
END:VEVENT
BEGIN:VEVENT
DTSTART;TZID=America/New_York:20300614T160000
DTEND;TZID=America/New_York:20300614T170000
DTSTAMP:20260425T161507
CREATED:20241102T212638Z
LAST-MODIFIED:20250627T025236Z
UID:10007859-1907683200-1907686800@www.gethsemane.org
SUMMARY:Piano Practice
DESCRIPTION:
URL:https://www.gethsemane.org/event/piano-practice-3/2030-06-14/
LOCATION:GLC – Sanctuary\, 35 E Stanton Ave\, Columbus\, OH\, 43214\, United States
END:VEVENT
BEGIN:VEVENT
DTSTART;TZID=America/New_York:20300615T110000
DTEND;TZID=America/New_York:20300615T140000
DTSTAMP:20260425T161507
CREATED:20240607T234910Z
LAST-MODIFIED:20241130T025448Z
UID:10007861-1907751600-1907762400@www.gethsemane.org
SUMMARY:IYK Choir
DESCRIPTION:
URL:https://www.gethsemane.org/event/iyk-choir/2030-06-15/
LOCATION:OH
END:VEVENT
BEGIN:VEVENT
DTSTART;TZID=America/New_York:20300616T130000
DTEND;TZID=America/New_York:20300616T150000
DTSTAMP:20260425T161507
CREATED:20241102T214108Z
LAST-MODIFIED:20250325T022544Z
UID:10007862-1907845200-1907852400@www.gethsemane.org
SUMMARY:IYK Worship
DESCRIPTION:
URL:https://www.gethsemane.org/event/iyk-worship/2030-06-16/
LOCATION:GLC – Sanctuary\, 35 E Stanton Ave\, Columbus\, OH\, 43214\, United States
END:VEVENT
BEGIN:VEVENT
DTSTART;TZID=America/New_York:20300621T160000
DTEND;TZID=America/New_York:20300621T170000
DTSTAMP:20260425T161507
CREATED:20241102T212638Z
LAST-MODIFIED:20250627T025236Z
UID:10007872-1908288000-1908291600@www.gethsemane.org
SUMMARY:Piano Practice
DESCRIPTION:
URL:https://www.gethsemane.org/event/piano-practice-3/2030-06-21/
LOCATION:GLC – Sanctuary\, 35 E Stanton Ave\, Columbus\, OH\, 43214\, United States
END:VEVENT
BEGIN:VEVENT
DTSTART;TZID=America/New_York:20300622T110000
DTEND;TZID=America/New_York:20300622T140000
DTSTAMP:20260425T161507
CREATED:20240607T234910Z
LAST-MODIFIED:20241130T025448Z
UID:10007874-1908356400-1908367200@www.gethsemane.org
SUMMARY:IYK Choir
DESCRIPTION:
URL:https://www.gethsemane.org/event/iyk-choir/2030-06-22/
LOCATION:OH
END:VEVENT
BEGIN:VEVENT
DTSTART;TZID=America/New_York:20300623T130000
DTEND;TZID=America/New_York:20300623T150000
DTSTAMP:20260425T161507
CREATED:20241102T214108Z
LAST-MODIFIED:20250325T022544Z
UID:10007875-1908450000-1908457200@www.gethsemane.org
SUMMARY:IYK Worship
DESCRIPTION:
URL:https://www.gethsemane.org/event/iyk-worship/2030-06-23/
LOCATION:GLC – Sanctuary\, 35 E Stanton Ave\, Columbus\, OH\, 43214\, United States
END:VEVENT
BEGIN:VEVENT
DTSTART;TZID=America/New_York:20300628T160000
DTEND;TZID=America/New_York:20300628T170000
DTSTAMP:20260425T161507
CREATED:20241102T212638Z
LAST-MODIFIED:20250627T025236Z
UID:10007895-1908892800-1908896400@www.gethsemane.org
SUMMARY:Piano Practice
DESCRIPTION:
URL:https://www.gethsemane.org/event/piano-practice-3/2030-06-28/
LOCATION:GLC – Sanctuary\, 35 E Stanton Ave\, Columbus\, OH\, 43214\, United States
END:VEVENT
END:VCALENDAR