BEGIN:VCALENDAR
VERSION:2.0
PRODID:-//Gethsemane Lutheran Church - ECPv6.15.20//NONSGML v1.0//EN
CALSCALE:GREGORIAN
METHOD:PUBLISH
X-WR-CALNAME:Gethsemane Lutheran Church
X-ORIGINAL-URL:https://www.gethsemane.org
X-WR-CALDESC:Events for Gethsemane Lutheran Church
REFRESH-INTERVAL;VALUE=DURATION:PT1H
X-Robots-Tag:noindex
X-PUBLISHED-TTL:PT1H
BEGIN:VTIMEZONE
TZID:America/New_York
BEGIN:DAYLIGHT
TZOFFSETFROM:-0500
TZOFFSETTO:-0400
TZNAME:EDT
DTSTART:20290311T070000
END:DAYLIGHT
BEGIN:STANDARD
TZOFFSETFROM:-0400
TZOFFSETTO:-0500
TZNAME:EST
DTSTART:20291104T060000
END:STANDARD
BEGIN:DAYLIGHT
TZOFFSETFROM:-0500
TZOFFSETTO:-0400
TZNAME:EDT
DTSTART:20300310T070000
END:DAYLIGHT
BEGIN:STANDARD
TZOFFSETFROM:-0400
TZOFFSETTO:-0500
TZNAME:EST
DTSTART:20301103T060000
END:STANDARD
BEGIN:DAYLIGHT
TZOFFSETFROM:-0500
TZOFFSETTO:-0400
TZNAME:EDT
DTSTART:20310309T070000
END:DAYLIGHT
BEGIN:STANDARD
TZOFFSETFROM:-0400
TZOFFSETTO:-0500
TZNAME:EST
DTSTART:20311102T060000
END:STANDARD
END:VTIMEZONE
BEGIN:VEVENT
DTSTART;TZID=America/New_York:20300713T110000
DTEND;TZID=America/New_York:20300713T140000
DTSTAMP:20260425T233614
CREATED:20240607T234910Z
LAST-MODIFIED:20241130T025448Z
UID:10007919-1910170800-1910181600@www.gethsemane.org
SUMMARY:IYK Choir
DESCRIPTION:
URL:https://www.gethsemane.org/event/iyk-choir/2030-07-13/
LOCATION:OH
END:VEVENT
BEGIN:VEVENT
DTSTART;TZID=America/New_York:20300714T130000
DTEND;TZID=America/New_York:20300714T150000
DTSTAMP:20260425T233614
CREATED:20241102T214108Z
LAST-MODIFIED:20250325T022544Z
UID:10007920-1910264400-1910271600@www.gethsemane.org
SUMMARY:IYK Worship
DESCRIPTION:
URL:https://www.gethsemane.org/event/iyk-worship/2030-07-14/
LOCATION:GLC – Sanctuary\, 35 E Stanton Ave\, Columbus\, OH\, 43214\, United States
END:VEVENT
BEGIN:VEVENT
DTSTART;TZID=America/New_York:20300719T160000
DTEND;TZID=America/New_York:20300719T170000
DTSTAMP:20260425T233614
CREATED:20241102T212638Z
LAST-MODIFIED:20250627T025236Z
UID:10007967-1910707200-1910710800@www.gethsemane.org
SUMMARY:Piano Practice
DESCRIPTION:
URL:https://www.gethsemane.org/event/piano-practice-3/2030-07-19/
LOCATION:GLC – Sanctuary\, 35 E Stanton Ave\, Columbus\, OH\, 43214\, United States
END:VEVENT
BEGIN:VEVENT
DTSTART;TZID=America/New_York:20300720T110000
DTEND;TZID=America/New_York:20300720T140000
DTSTAMP:20260425T233614
CREATED:20240607T234910Z
LAST-MODIFIED:20241130T025448Z
UID:10007929-1910775600-1910786400@www.gethsemane.org
SUMMARY:IYK Choir
DESCRIPTION:
URL:https://www.gethsemane.org/event/iyk-choir/2030-07-20/
LOCATION:OH
END:VEVENT
BEGIN:VEVENT
DTSTART;TZID=America/New_York:20300721T130000
DTEND;TZID=America/New_York:20300721T150000
DTSTAMP:20260425T233614
CREATED:20241102T214108Z
LAST-MODIFIED:20250325T022544Z
UID:10007930-1910869200-1910876400@www.gethsemane.org
SUMMARY:IYK Worship
DESCRIPTION:
URL:https://www.gethsemane.org/event/iyk-worship/2030-07-21/
LOCATION:GLC – Sanctuary\, 35 E Stanton Ave\, Columbus\, OH\, 43214\, United States
END:VEVENT
BEGIN:VEVENT
DTSTART;TZID=America/New_York:20300726T160000
DTEND;TZID=America/New_York:20300726T170000
DTSTAMP:20260425T233614
CREATED:20241102T212638Z
LAST-MODIFIED:20250627T025236Z
UID:10007968-1911312000-1911315600@www.gethsemane.org
SUMMARY:Piano Practice
DESCRIPTION:
URL:https://www.gethsemane.org/event/piano-practice-3/2030-07-26/
LOCATION:GLC – Sanctuary\, 35 E Stanton Ave\, Columbus\, OH\, 43214\, United States
END:VEVENT
BEGIN:VEVENT
DTSTART;TZID=America/New_York:20300727T110000
DTEND;TZID=America/New_York:20300727T140000
DTSTAMP:20260425T233615
CREATED:20240607T234910Z
LAST-MODIFIED:20241130T025448Z
UID:10007970-1911380400-1911391200@www.gethsemane.org
SUMMARY:IYK Choir
DESCRIPTION:
URL:https://www.gethsemane.org/event/iyk-choir/2030-07-27/
LOCATION:OH
END:VEVENT
BEGIN:VEVENT
DTSTART;TZID=America/New_York:20300728T130000
DTEND;TZID=America/New_York:20300728T150000
DTSTAMP:20260425T233615
CREATED:20241102T214108Z
LAST-MODIFIED:20250325T022544Z
UID:10007971-1911474000-1911481200@www.gethsemane.org
SUMMARY:IYK Worship
DESCRIPTION:
URL:https://www.gethsemane.org/event/iyk-worship/2030-07-28/
LOCATION:GLC – Sanctuary\, 35 E Stanton Ave\, Columbus\, OH\, 43214\, United States
END:VEVENT
BEGIN:VEVENT
DTSTART;TZID=America/New_York:20300802T160000
DTEND;TZID=America/New_York:20300802T170000
DTSTAMP:20260425T233615
CREATED:20241102T212638Z
LAST-MODIFIED:20250627T025236Z
UID:10007979-1911916800-1911920400@www.gethsemane.org
SUMMARY:Piano Practice
DESCRIPTION:
URL:https://www.gethsemane.org/event/piano-practice-3/2030-08-02/
LOCATION:GLC – Sanctuary\, 35 E Stanton Ave\, Columbus\, OH\, 43214\, United States
END:VEVENT
BEGIN:VEVENT
DTSTART;TZID=America/New_York:20300803T110000
DTEND;TZID=America/New_York:20300803T140000
DTSTAMP:20260425T233615
CREATED:20240607T234910Z
LAST-MODIFIED:20241130T025448Z
UID:10007981-1911985200-1911996000@www.gethsemane.org
SUMMARY:IYK Choir
DESCRIPTION:
URL:https://www.gethsemane.org/event/iyk-choir/2030-08-03/
LOCATION:OH
END:VEVENT
BEGIN:VEVENT
DTSTART;TZID=America/New_York:20300804T130000
DTEND;TZID=America/New_York:20300804T150000
DTSTAMP:20260425T233615
CREATED:20241102T214108Z
LAST-MODIFIED:20250325T022544Z
UID:10007982-1912078800-1912086000@www.gethsemane.org
SUMMARY:IYK Worship
DESCRIPTION:
URL:https://www.gethsemane.org/event/iyk-worship/2030-08-04/
LOCATION:GLC – Sanctuary\, 35 E Stanton Ave\, Columbus\, OH\, 43214\, United States
END:VEVENT
BEGIN:VEVENT
DTSTART;TZID=America/New_York:20300809T160000
DTEND;TZID=America/New_York:20300809T170000
DTSTAMP:20260425T233615
CREATED:20241102T212638Z
LAST-MODIFIED:20250627T025236Z
UID:10007990-1912521600-1912525200@www.gethsemane.org
SUMMARY:Piano Practice
DESCRIPTION:
URL:https://www.gethsemane.org/event/piano-practice-3/2030-08-09/
LOCATION:GLC – Sanctuary\, 35 E Stanton Ave\, Columbus\, OH\, 43214\, United States
END:VEVENT
BEGIN:VEVENT
DTSTART;TZID=America/New_York:20300810T110000
DTEND;TZID=America/New_York:20300810T140000
DTSTAMP:20260425T233615
CREATED:20240607T234910Z
LAST-MODIFIED:20241130T025448Z
UID:10007992-1912590000-1912600800@www.gethsemane.org
SUMMARY:IYK Choir
DESCRIPTION:
URL:https://www.gethsemane.org/event/iyk-choir/2030-08-10/
LOCATION:OH
END:VEVENT
BEGIN:VEVENT
DTSTART;TZID=America/New_York:20300811T130000
DTEND;TZID=America/New_York:20300811T150000
DTSTAMP:20260425T233615
CREATED:20241102T214108Z
LAST-MODIFIED:20250325T022544Z
UID:10007993-1912683600-1912690800@www.gethsemane.org
SUMMARY:IYK Worship
DESCRIPTION:
URL:https://www.gethsemane.org/event/iyk-worship/2030-08-11/
LOCATION:GLC – Sanctuary\, 35 E Stanton Ave\, Columbus\, OH\, 43214\, United States
END:VEVENT
BEGIN:VEVENT
DTSTART;TZID=America/New_York:20300816T160000
DTEND;TZID=America/New_York:20300816T170000
DTSTAMP:20260425T233615
CREATED:20241102T212638Z
LAST-MODIFIED:20250627T025236Z
UID:10008009-1913126400-1913130000@www.gethsemane.org
SUMMARY:Piano Practice
DESCRIPTION:
URL:https://www.gethsemane.org/event/piano-practice-3/2030-08-16/
LOCATION:GLC – Sanctuary\, 35 E Stanton Ave\, Columbus\, OH\, 43214\, United States
END:VEVENT
BEGIN:VEVENT
DTSTART;TZID=America/New_York:20300817T110000
DTEND;TZID=America/New_York:20300817T140000
DTSTAMP:20260425T233615
CREATED:20240607T234910Z
LAST-MODIFIED:20241130T025448Z
UID:10008011-1913194800-1913205600@www.gethsemane.org
SUMMARY:IYK Choir
DESCRIPTION:
URL:https://www.gethsemane.org/event/iyk-choir/2030-08-17/
LOCATION:OH
END:VEVENT
BEGIN:VEVENT
DTSTART;TZID=America/New_York:20300818T130000
DTEND;TZID=America/New_York:20300818T150000
DTSTAMP:20260425T233615
CREATED:20241102T214108Z
LAST-MODIFIED:20250325T022544Z
UID:10008012-1913288400-1913295600@www.gethsemane.org
SUMMARY:IYK Worship
DESCRIPTION:
URL:https://www.gethsemane.org/event/iyk-worship/2030-08-18/
LOCATION:GLC – Sanctuary\, 35 E Stanton Ave\, Columbus\, OH\, 43214\, United States
END:VEVENT
BEGIN:VEVENT
DTSTART;TZID=America/New_York:20300823T160000
DTEND;TZID=America/New_York:20300823T170000
DTSTAMP:20260425T233615
CREATED:20241102T212638Z
LAST-MODIFIED:20250627T025236Z
UID:10008029-1913731200-1913734800@www.gethsemane.org
SUMMARY:Piano Practice
DESCRIPTION:
URL:https://www.gethsemane.org/event/piano-practice-3/2030-08-23/
LOCATION:GLC – Sanctuary\, 35 E Stanton Ave\, Columbus\, OH\, 43214\, United States
END:VEVENT
BEGIN:VEVENT
DTSTART;TZID=America/New_York:20300824T110000
DTEND;TZID=America/New_York:20300824T140000
DTSTAMP:20260425T233615
CREATED:20240607T234910Z
LAST-MODIFIED:20241130T025448Z
UID:10008031-1913799600-1913810400@www.gethsemane.org
SUMMARY:IYK Choir
DESCRIPTION:
URL:https://www.gethsemane.org/event/iyk-choir/2030-08-24/
LOCATION:OH
END:VEVENT
BEGIN:VEVENT
DTSTART;TZID=America/New_York:20300825T130000
DTEND;TZID=America/New_York:20300825T150000
DTSTAMP:20260425T233615
CREATED:20241102T214108Z
LAST-MODIFIED:20250325T022544Z
UID:10008035-1913893200-1913900400@www.gethsemane.org
SUMMARY:IYK Worship
DESCRIPTION:
URL:https://www.gethsemane.org/event/iyk-worship/2030-08-25/
LOCATION:GLC – Sanctuary\, 35 E Stanton Ave\, Columbus\, OH\, 43214\, United States
END:VEVENT
BEGIN:VEVENT
DTSTART;TZID=America/New_York:20300830T160000
DTEND;TZID=America/New_York:20300830T170000
DTSTAMP:20260425T233615
CREATED:20241102T212638Z
LAST-MODIFIED:20250627T025236Z
UID:10008043-1914336000-1914339600@www.gethsemane.org
SUMMARY:Piano Practice
DESCRIPTION:
URL:https://www.gethsemane.org/event/piano-practice-3/2030-08-30/
LOCATION:GLC – Sanctuary\, 35 E Stanton Ave\, Columbus\, OH\, 43214\, United States
END:VEVENT
BEGIN:VEVENT
DTSTART;TZID=America/New_York:20300831T110000
DTEND;TZID=America/New_York:20300831T140000
DTSTAMP:20260425T233615
CREATED:20240607T234910Z
LAST-MODIFIED:20241130T025448Z
UID:10008045-1914404400-1914415200@www.gethsemane.org
SUMMARY:IYK Choir
DESCRIPTION:
URL:https://www.gethsemane.org/event/iyk-choir/2030-08-31/
LOCATION:OH
END:VEVENT
BEGIN:VEVENT
DTSTART;TZID=America/New_York:20300901T130000
DTEND;TZID=America/New_York:20300901T150000
DTSTAMP:20260425T233615
CREATED:20241102T214108Z
LAST-MODIFIED:20250325T022544Z
UID:10008196-1914498000-1914505200@www.gethsemane.org
SUMMARY:IYK Worship
DESCRIPTION:
URL:https://www.gethsemane.org/event/iyk-worship/2030-09-01/
LOCATION:GLC – Sanctuary\, 35 E Stanton Ave\, Columbus\, OH\, 43214\, United States
END:VEVENT
BEGIN:VEVENT
DTSTART;TZID=America/New_York:20300906T160000
DTEND;TZID=America/New_York:20300906T170000
DTSTAMP:20260425T233615
CREATED:20241102T212638Z
LAST-MODIFIED:20250627T025236Z
UID:10008193-1914940800-1914944400@www.gethsemane.org
SUMMARY:Piano Practice
DESCRIPTION:
URL:https://www.gethsemane.org/event/piano-practice-3/2030-09-06/
LOCATION:GLC – Sanctuary\, 35 E Stanton Ave\, Columbus\, OH\, 43214\, United States
END:VEVENT
BEGIN:VEVENT
DTSTART;TZID=America/New_York:20300907T110000
DTEND;TZID=America/New_York:20300907T140000
DTSTAMP:20260425T233615
CREATED:20240607T234910Z
LAST-MODIFIED:20241130T025448Z
UID:10008195-1915009200-1915020000@www.gethsemane.org
SUMMARY:IYK Choir
DESCRIPTION:
URL:https://www.gethsemane.org/event/iyk-choir/2030-09-07/
LOCATION:OH
END:VEVENT
BEGIN:VEVENT
DTSTART;TZID=America/New_York:20300908T130000
DTEND;TZID=America/New_York:20300908T150000
DTSTAMP:20260425T233615
CREATED:20241102T214108Z
LAST-MODIFIED:20250325T022544Z
UID:10008197-1915102800-1915110000@www.gethsemane.org
SUMMARY:IYK Worship
DESCRIPTION:
URL:https://www.gethsemane.org/event/iyk-worship/2030-09-08/
LOCATION:GLC – Sanctuary\, 35 E Stanton Ave\, Columbus\, OH\, 43214\, United States
END:VEVENT
BEGIN:VEVENT
DTSTART;TZID=America/New_York:20300913T160000
DTEND;TZID=America/New_York:20300913T170000
DTSTAMP:20260425T233615
CREATED:20241102T212638Z
LAST-MODIFIED:20250627T025236Z
UID:10008212-1915545600-1915549200@www.gethsemane.org
SUMMARY:Piano Practice
DESCRIPTION:
URL:https://www.gethsemane.org/event/piano-practice-3/2030-09-13/
LOCATION:GLC – Sanctuary\, 35 E Stanton Ave\, Columbus\, OH\, 43214\, United States
END:VEVENT
BEGIN:VEVENT
DTSTART;TZID=America/New_York:20300914T110000
DTEND;TZID=America/New_York:20300914T140000
DTSTAMP:20260425T233615
CREATED:20240607T234910Z
LAST-MODIFIED:20241130T025448Z
UID:10008215-1915614000-1915624800@www.gethsemane.org
SUMMARY:IYK Choir
DESCRIPTION:
URL:https://www.gethsemane.org/event/iyk-choir/2030-09-14/
LOCATION:OH
END:VEVENT
BEGIN:VEVENT
DTSTART;TZID=America/New_York:20300915T130000
DTEND;TZID=America/New_York:20300915T150000
DTSTAMP:20260425T233615
CREATED:20241102T214108Z
LAST-MODIFIED:20250325T022544Z
UID:10008216-1915707600-1915714800@www.gethsemane.org
SUMMARY:IYK Worship
DESCRIPTION:
URL:https://www.gethsemane.org/event/iyk-worship/2030-09-15/
LOCATION:GLC – Sanctuary\, 35 E Stanton Ave\, Columbus\, OH\, 43214\, United States
END:VEVENT
BEGIN:VEVENT
DTSTART;TZID=America/New_York:20300920T160000
DTEND;TZID=America/New_York:20300920T170000
DTSTAMP:20260425T233615
CREATED:20241102T212638Z
LAST-MODIFIED:20250627T025236Z
UID:10008225-1916150400-1916154000@www.gethsemane.org
SUMMARY:Piano Practice
DESCRIPTION:
URL:https://www.gethsemane.org/event/piano-practice-3/2030-09-20/
LOCATION:GLC – Sanctuary\, 35 E Stanton Ave\, Columbus\, OH\, 43214\, United States
END:VEVENT
END:VCALENDAR