BEGIN:VCALENDAR
VERSION:2.0
PRODID:-//Gethsemane Lutheran Church - ECPv6.15.20//NONSGML v1.0//EN
CALSCALE:GREGORIAN
METHOD:PUBLISH
X-ORIGINAL-URL:https://www.gethsemane.org
X-WR-CALDESC:Events for Gethsemane Lutheran Church
REFRESH-INTERVAL;VALUE=DURATION:PT1H
X-Robots-Tag:noindex
X-PUBLISHED-TTL:PT1H
BEGIN:VTIMEZONE
TZID:America/New_York
BEGIN:DAYLIGHT
TZOFFSETFROM:-0500
TZOFFSETTO:-0400
TZNAME:EDT
DTSTART:20250309T070000
END:DAYLIGHT
BEGIN:STANDARD
TZOFFSETFROM:-0400
TZOFFSETTO:-0500
TZNAME:EST
DTSTART:20251102T060000
END:STANDARD
BEGIN:DAYLIGHT
TZOFFSETFROM:-0500
TZOFFSETTO:-0400
TZNAME:EDT
DTSTART:20260308T070000
END:DAYLIGHT
BEGIN:STANDARD
TZOFFSETFROM:-0400
TZOFFSETTO:-0500
TZNAME:EST
DTSTART:20261101T060000
END:STANDARD
BEGIN:DAYLIGHT
TZOFFSETFROM:-0500
TZOFFSETTO:-0400
TZNAME:EDT
DTSTART:20270314T070000
END:DAYLIGHT
BEGIN:STANDARD
TZOFFSETFROM:-0400
TZOFFSETTO:-0500
TZNAME:EST
DTSTART:20271107T060000
END:STANDARD
BEGIN:DAYLIGHT
TZOFFSETFROM:-0500
TZOFFSETTO:-0400
TZNAME:EDT
DTSTART:20280312T070000
END:DAYLIGHT
BEGIN:STANDARD
TZOFFSETFROM:-0400
TZOFFSETTO:-0500
TZNAME:EST
DTSTART:20281105T060000
END:STANDARD
END:VTIMEZONE
BEGIN:VEVENT
DTSTART;TZID=America/New_York:20261204T160000
DTEND;TZID=America/New_York:20261204T170000
DTSTAMP:20260421T112737
CREATED:20241102T212638Z
LAST-MODIFIED:20250627T025236Z
UID:10004357-1796400000-1796403600@www.gethsemane.org
SUMMARY:Piano Practice
DESCRIPTION:
URL:https://www.gethsemane.org/event/piano-practice-3/2026-12-04/
LOCATION:GLC – Sanctuary\, 35 E Stanton Ave\, Columbus\, OH\, 43214\, United States
END:VEVENT
BEGIN:VEVENT
DTSTART;TZID=America/New_York:20261205T110000
DTEND;TZID=America/New_York:20261205T140000
DTSTAMP:20260421T112737
CREATED:20240607T234910Z
LAST-MODIFIED:20241130T025448Z
UID:10000989-1796468400-1796479200@www.gethsemane.org
SUMMARY:IYK Choir
DESCRIPTION:
URL:https://www.gethsemane.org/event/iyk-choir/2026-12-05/
LOCATION:OH
END:VEVENT
BEGIN:VEVENT
DTSTART;TZID=America/New_York:20261206T130000
DTEND;TZID=America/New_York:20261206T150000
DTSTAMP:20260421T112737
CREATED:20241102T214108Z
LAST-MODIFIED:20250325T022544Z
UID:10001251-1796562000-1796569200@www.gethsemane.org
SUMMARY:IYK Worship
DESCRIPTION:
URL:https://www.gethsemane.org/event/iyk-worship/2026-12-06/
LOCATION:GLC – Sanctuary\, 35 E Stanton Ave\, Columbus\, OH\, 43214\, United States
END:VEVENT
BEGIN:VEVENT
DTSTART;TZID=America/New_York:20261211T160000
DTEND;TZID=America/New_York:20261211T170000
DTSTAMP:20260421T112737
CREATED:20241102T212638Z
LAST-MODIFIED:20250627T025236Z
UID:10004358-1797004800-1797008400@www.gethsemane.org
SUMMARY:Piano Practice
DESCRIPTION:
URL:https://www.gethsemane.org/event/piano-practice-3/2026-12-11/
LOCATION:GLC – Sanctuary\, 35 E Stanton Ave\, Columbus\, OH\, 43214\, United States
END:VEVENT
BEGIN:VEVENT
DTSTART;TZID=America/New_York:20261212T110000
DTEND;TZID=America/New_York:20261212T140000
DTSTAMP:20260421T112737
CREATED:20240607T234910Z
LAST-MODIFIED:20241130T025448Z
UID:10000990-1797073200-1797084000@www.gethsemane.org
SUMMARY:IYK Choir
DESCRIPTION:
URL:https://www.gethsemane.org/event/iyk-choir/2026-12-12/
LOCATION:OH
END:VEVENT
BEGIN:VEVENT
DTSTART;TZID=America/New_York:20261213T130000
DTEND;TZID=America/New_York:20261213T150000
DTSTAMP:20260421T112737
CREATED:20241102T214108Z
LAST-MODIFIED:20250325T022544Z
UID:10001252-1797166800-1797174000@www.gethsemane.org
SUMMARY:IYK Worship
DESCRIPTION:
URL:https://www.gethsemane.org/event/iyk-worship/2026-12-13/
LOCATION:GLC – Sanctuary\, 35 E Stanton Ave\, Columbus\, OH\, 43214\, United States
END:VEVENT
BEGIN:VEVENT
DTSTART;TZID=America/New_York:20261218T160000
DTEND;TZID=America/New_York:20261218T170000
DTSTAMP:20260421T112737
CREATED:20241102T212638Z
LAST-MODIFIED:20250627T025236Z
UID:10004359-1797609600-1797613200@www.gethsemane.org
SUMMARY:Piano Practice
DESCRIPTION:
URL:https://www.gethsemane.org/event/piano-practice-3/2026-12-18/
LOCATION:GLC – Sanctuary\, 35 E Stanton Ave\, Columbus\, OH\, 43214\, United States
END:VEVENT
BEGIN:VEVENT
DTSTART;TZID=America/New_York:20261219T110000
DTEND;TZID=America/New_York:20261219T140000
DTSTAMP:20260421T112737
CREATED:20240607T234910Z
LAST-MODIFIED:20241130T025448Z
UID:10000991-1797678000-1797688800@www.gethsemane.org
SUMMARY:IYK Choir
DESCRIPTION:
URL:https://www.gethsemane.org/event/iyk-choir/2026-12-19/
LOCATION:OH
END:VEVENT
BEGIN:VEVENT
DTSTART;TZID=America/New_York:20261220T130000
DTEND;TZID=America/New_York:20261220T150000
DTSTAMP:20260421T112737
CREATED:20241102T214108Z
LAST-MODIFIED:20250325T022544Z
UID:10001253-1797771600-1797778800@www.gethsemane.org
SUMMARY:IYK Worship
DESCRIPTION:
URL:https://www.gethsemane.org/event/iyk-worship/2026-12-20/
LOCATION:GLC – Sanctuary\, 35 E Stanton Ave\, Columbus\, OH\, 43214\, United States
END:VEVENT
BEGIN:VEVENT
DTSTART;TZID=America/New_York:20261225T160000
DTEND;TZID=America/New_York:20261225T170000
DTSTAMP:20260421T112737
CREATED:20241102T212638Z
LAST-MODIFIED:20250627T025236Z
UID:10004360-1798214400-1798218000@www.gethsemane.org
SUMMARY:Piano Practice
DESCRIPTION:
URL:https://www.gethsemane.org/event/piano-practice-3/2026-12-25/
LOCATION:GLC – Sanctuary\, 35 E Stanton Ave\, Columbus\, OH\, 43214\, United States
END:VEVENT
BEGIN:VEVENT
DTSTART;TZID=America/New_York:20261226T110000
DTEND;TZID=America/New_York:20261226T140000
DTSTAMP:20260421T112737
CREATED:20240607T234910Z
LAST-MODIFIED:20241130T025448Z
UID:10000992-1798282800-1798293600@www.gethsemane.org
SUMMARY:IYK Choir
DESCRIPTION:
URL:https://www.gethsemane.org/event/iyk-choir/2026-12-26/
LOCATION:OH
END:VEVENT
BEGIN:VEVENT
DTSTART;TZID=America/New_York:20261227T130000
DTEND;TZID=America/New_York:20261227T150000
DTSTAMP:20260421T112737
CREATED:20241102T214108Z
LAST-MODIFIED:20250325T022544Z
UID:10001254-1798376400-1798383600@www.gethsemane.org
SUMMARY:IYK Worship
DESCRIPTION:
URL:https://www.gethsemane.org/event/iyk-worship/2026-12-27/
LOCATION:GLC – Sanctuary\, 35 E Stanton Ave\, Columbus\, OH\, 43214\, United States
END:VEVENT
BEGIN:VEVENT
DTSTART;TZID=America/New_York:20270101T160000
DTEND;TZID=America/New_York:20270101T170000
DTSTAMP:20260421T112737
CREATED:20241102T212638Z
LAST-MODIFIED:20250627T025236Z
UID:10004361-1798819200-1798822800@www.gethsemane.org
SUMMARY:Piano Practice
DESCRIPTION:
URL:https://www.gethsemane.org/event/piano-practice-3/2027-01-01/
LOCATION:GLC – Sanctuary\, 35 E Stanton Ave\, Columbus\, OH\, 43214\, United States
END:VEVENT
BEGIN:VEVENT
DTSTART;TZID=America/New_York:20270102T110000
DTEND;TZID=America/New_York:20270102T140000
DTSTAMP:20260421T112737
CREATED:20240607T234910Z
LAST-MODIFIED:20241130T025448Z
UID:10000993-1798887600-1798898400@www.gethsemane.org
SUMMARY:IYK Choir
DESCRIPTION:
URL:https://www.gethsemane.org/event/iyk-choir/2027-01-02/
LOCATION:OH
END:VEVENT
BEGIN:VEVENT
DTSTART;TZID=America/New_York:20270103T130000
DTEND;TZID=America/New_York:20270103T150000
DTSTAMP:20260421T112737
CREATED:20241102T214108Z
LAST-MODIFIED:20250325T022544Z
UID:10001255-1798981200-1798988400@www.gethsemane.org
SUMMARY:IYK Worship
DESCRIPTION:
URL:https://www.gethsemane.org/event/iyk-worship/2027-01-03/
LOCATION:GLC – Sanctuary\, 35 E Stanton Ave\, Columbus\, OH\, 43214\, United States
END:VEVENT
BEGIN:VEVENT
DTSTART;TZID=America/New_York:20270108T160000
DTEND;TZID=America/New_York:20270108T170000
DTSTAMP:20260421T112737
CREATED:20241102T212638Z
LAST-MODIFIED:20250627T025236Z
UID:10004362-1799424000-1799427600@www.gethsemane.org
SUMMARY:Piano Practice
DESCRIPTION:
URL:https://www.gethsemane.org/event/piano-practice-3/2027-01-08/
LOCATION:GLC – Sanctuary\, 35 E Stanton Ave\, Columbus\, OH\, 43214\, United States
END:VEVENT
BEGIN:VEVENT
DTSTART;TZID=America/New_York:20270109T110000
DTEND;TZID=America/New_York:20270109T140000
DTSTAMP:20260421T112737
CREATED:20240607T234910Z
LAST-MODIFIED:20241130T025448Z
UID:10000994-1799492400-1799503200@www.gethsemane.org
SUMMARY:IYK Choir
DESCRIPTION:
URL:https://www.gethsemane.org/event/iyk-choir/2027-01-09/
LOCATION:OH
END:VEVENT
BEGIN:VEVENT
DTSTART;TZID=America/New_York:20270110T130000
DTEND;TZID=America/New_York:20270110T150000
DTSTAMP:20260421T112737
CREATED:20241102T214108Z
LAST-MODIFIED:20250325T022544Z
UID:10001256-1799586000-1799593200@www.gethsemane.org
SUMMARY:IYK Worship
DESCRIPTION:
URL:https://www.gethsemane.org/event/iyk-worship/2027-01-10/
LOCATION:GLC – Sanctuary\, 35 E Stanton Ave\, Columbus\, OH\, 43214\, United States
END:VEVENT
BEGIN:VEVENT
DTSTART;TZID=America/New_York:20270115T160000
DTEND;TZID=America/New_York:20270115T170000
DTSTAMP:20260421T112737
CREATED:20241102T212638Z
LAST-MODIFIED:20250627T025236Z
UID:10004363-1800028800-1800032400@www.gethsemane.org
SUMMARY:Piano Practice
DESCRIPTION:
URL:https://www.gethsemane.org/event/piano-practice-3/2027-01-15/
LOCATION:GLC – Sanctuary\, 35 E Stanton Ave\, Columbus\, OH\, 43214\, United States
END:VEVENT
BEGIN:VEVENT
DTSTART;TZID=America/New_York:20270116T110000
DTEND;TZID=America/New_York:20270116T140000
DTSTAMP:20260421T112737
CREATED:20240607T234910Z
LAST-MODIFIED:20241130T025448Z
UID:10000995-1800097200-1800108000@www.gethsemane.org
SUMMARY:IYK Choir
DESCRIPTION:
URL:https://www.gethsemane.org/event/iyk-choir/2027-01-16/
LOCATION:OH
END:VEVENT
BEGIN:VEVENT
DTSTART;TZID=America/New_York:20270117T130000
DTEND;TZID=America/New_York:20270117T150000
DTSTAMP:20260421T112737
CREATED:20241102T214108Z
LAST-MODIFIED:20250325T022544Z
UID:10001257-1800190800-1800198000@www.gethsemane.org
SUMMARY:IYK Worship
DESCRIPTION:
URL:https://www.gethsemane.org/event/iyk-worship/2027-01-17/
LOCATION:GLC – Sanctuary\, 35 E Stanton Ave\, Columbus\, OH\, 43214\, United States
END:VEVENT
BEGIN:VEVENT
DTSTART;TZID=America/New_York:20270122T160000
DTEND;TZID=America/New_York:20270122T170000
DTSTAMP:20260421T112737
CREATED:20241102T212638Z
LAST-MODIFIED:20250627T025236Z
UID:10004364-1800633600-1800637200@www.gethsemane.org
SUMMARY:Piano Practice
DESCRIPTION:
URL:https://www.gethsemane.org/event/piano-practice-3/2027-01-22/
LOCATION:GLC – Sanctuary\, 35 E Stanton Ave\, Columbus\, OH\, 43214\, United States
END:VEVENT
BEGIN:VEVENT
DTSTART;TZID=America/New_York:20270123T110000
DTEND;TZID=America/New_York:20270123T140000
DTSTAMP:20260421T112737
CREATED:20240607T234910Z
LAST-MODIFIED:20241130T025448Z
UID:10000996-1800702000-1800712800@www.gethsemane.org
SUMMARY:IYK Choir
DESCRIPTION:
URL:https://www.gethsemane.org/event/iyk-choir/2027-01-23/
LOCATION:OH
END:VEVENT
BEGIN:VEVENT
DTSTART;TZID=America/New_York:20270124T130000
DTEND;TZID=America/New_York:20270124T150000
DTSTAMP:20260421T112737
CREATED:20241102T214108Z
LAST-MODIFIED:20250325T022544Z
UID:10001258-1800795600-1800802800@www.gethsemane.org
SUMMARY:IYK Worship
DESCRIPTION:
URL:https://www.gethsemane.org/event/iyk-worship/2027-01-24/
LOCATION:GLC – Sanctuary\, 35 E Stanton Ave\, Columbus\, OH\, 43214\, United States
END:VEVENT
BEGIN:VEVENT
DTSTART;TZID=America/New_York:20270129T160000
DTEND;TZID=America/New_York:20270129T170000
DTSTAMP:20260421T112737
CREATED:20241102T212638Z
LAST-MODIFIED:20250627T025236Z
UID:10004365-1801238400-1801242000@www.gethsemane.org
SUMMARY:Piano Practice
DESCRIPTION:
URL:https://www.gethsemane.org/event/piano-practice-3/2027-01-29/
LOCATION:GLC – Sanctuary\, 35 E Stanton Ave\, Columbus\, OH\, 43214\, United States
END:VEVENT
BEGIN:VEVENT
DTSTART;TZID=America/New_York:20270130T110000
DTEND;TZID=America/New_York:20270130T140000
DTSTAMP:20260421T112737
CREATED:20240607T234910Z
LAST-MODIFIED:20241130T025448Z
UID:10000997-1801306800-1801317600@www.gethsemane.org
SUMMARY:IYK Choir
DESCRIPTION:
URL:https://www.gethsemane.org/event/iyk-choir/2027-01-30/
LOCATION:OH
END:VEVENT
BEGIN:VEVENT
DTSTART;TZID=America/New_York:20270131T130000
DTEND;TZID=America/New_York:20270131T150000
DTSTAMP:20260421T112737
CREATED:20241102T214108Z
LAST-MODIFIED:20250325T022544Z
UID:10001259-1801400400-1801407600@www.gethsemane.org
SUMMARY:IYK Worship
DESCRIPTION:
URL:https://www.gethsemane.org/event/iyk-worship/2027-01-31/
LOCATION:GLC – Sanctuary\, 35 E Stanton Ave\, Columbus\, OH\, 43214\, United States
END:VEVENT
BEGIN:VEVENT
DTSTART;TZID=America/New_York:20270205T160000
DTEND;TZID=America/New_York:20270205T170000
DTSTAMP:20260421T112737
CREATED:20241102T212638Z
LAST-MODIFIED:20250627T025236Z
UID:10004366-1801843200-1801846800@www.gethsemane.org
SUMMARY:Piano Practice
DESCRIPTION:
URL:https://www.gethsemane.org/event/piano-practice-3/2027-02-05/
LOCATION:GLC – Sanctuary\, 35 E Stanton Ave\, Columbus\, OH\, 43214\, United States
END:VEVENT
BEGIN:VEVENT
DTSTART;TZID=America/New_York:20270206T110000
DTEND;TZID=America/New_York:20270206T140000
DTSTAMP:20260421T112737
CREATED:20240607T234910Z
LAST-MODIFIED:20241130T025448Z
UID:10000998-1801911600-1801922400@www.gethsemane.org
SUMMARY:IYK Choir
DESCRIPTION:
URL:https://www.gethsemane.org/event/iyk-choir/2027-02-06/
LOCATION:OH
END:VEVENT
BEGIN:VEVENT
DTSTART;TZID=America/New_York:20270207T130000
DTEND;TZID=America/New_York:20270207T150000
DTSTAMP:20260421T112737
CREATED:20241102T214108Z
LAST-MODIFIED:20250325T022544Z
UID:10001260-1802005200-1802012400@www.gethsemane.org
SUMMARY:IYK Worship
DESCRIPTION:
URL:https://www.gethsemane.org/event/iyk-worship/2027-02-07/
LOCATION:GLC – Sanctuary\, 35 E Stanton Ave\, Columbus\, OH\, 43214\, United States
END:VEVENT
END:VCALENDAR